{"text_format":"1","workbook":"xlsx","n_sheets":10,"sheets":["Hinweis","Reichweite","RW-Monate","RW-Jahre","Endbetrag","EB-Monate","EB-Jahre","Finanz- & Vermögensplang","ETF Rechner","Formate"],"not_rendered":{"charts":2,"images":5,"macros":1,"external_links":2,"defined_names":72,"comments":0,"pivot_tables":0},"unopened":[],"bounds":{"document_bytes":16777216,"sheet_cells":100000,"rows_first":2000,"rows_last":500,"rows_between":2000,"halvings":0,"cell_chars":16384,"cell_head_chars":4096},"cells_cut":0,"cells_raw":0,"read":"whole","date_system":"1900"}

{"sheet":"Hinweis","index":0,"n_rows":60,"n_cols":12,"rows_kept":60,"cut":false,"hidden":false,"merged":[]}
[]
[]
[]
[null,null,"Ein Tutorial der Fimovi GmbH"]
[null,null,"www.fimovi.de"]
[]
[]
[]
[]
[null,null,"Excel-Rechner: Finanzielle Reichweite"]
[null,null,"Passives Einkommen & \"Ewige Extra Rente\""]
[null,null,"So lassen Sie ihr Vermögen für sich arbeiten"]
[]
[]
[null,null,"Rechtlicher Hinweis"]
[]
[]
[]
[]
[]
[]
[]
[]
[]
[]
[]
[]
[]
[]
[]
[]
[]
[]
[]
[]
[]
[]
[]
[null,null,"Profil und Kontakt"]
[]
[]
[]
[]
[]
[]
[]
[]
[]
[]
[]
[]
[]
[]
[]
[]
[null,null,"Ein Angebot der Fimovi GmbH"]
[null,null,"Webseite:","www.fimovi.de"]
[null,null,"Email:","support@fimovi.de"]
[]
[null,null,null,null,null,null,null,null,null,null,null,"Copyright by Fimovi GmbH"]

{"sheet":"Reichweite","index":1,"n_rows":21,"n_cols":9,"rows_kept":21,"cut":false,"hidden":false,"merged":[]}
[null,"Reichweite: Entnahme- & Vermögensmodell (monatliche Entnahme, monatliche Verzinsung)"]
[]
["1.","Annahmen",null,null,null,null,"4.","Zielwert-Analysen"]
[null,"Startkapital","EUR",1000000,null,null,null,"Gewünschte Auszahlungsdauer",25]
[null,"Monatliche Entnahme (Jahr 1)","EUR",5000]
[null,"Inflationsrate","% p.a.",0.02,null,null,null,"1. Wieviel kann ich maximal monatlich entnehmen?"]
[null,"Rendite","% p.a.",5.5E-2,"bzw. % p.m.",{"$f":"(1+$D$7)^(30/360)-1","v":4.471698917043021E-3}]
[null,"Ziel-Endwert (% von Startkapital)","%",0.15]
[null,null,null,null,null,null,null,"Du kannst 25 Jahre lang monatlich 4.776 EUR entnehmen, ausgehend von einem Startkapital i.H.v. 1.000.000 EUR, einer IR von 2,00% und einer jährlichen Rendite von 5,50%. Am Ende dieses Zeitraumes beträgt dein Endkapital 150.000 EUR."]
["2.","Ergebnisse"]
[null,"Letzter Monat mit Endkapital > Ziel-Endwert","#",{"$f":"IF(COUNT('RW-Monate'!$I$4:$I$1203)=0,-1,MAX('RW-Monate'!$I$4:$I$1203))","v":276},null,null,null,"2. Wie hoch muss die jährliche Rendite sein?"]
[null,"Erschöpfungsmonat","#",{"$f":"D11+1","v":277}]
[null,"Jahr im Erschöpfungsmonat","#",{"$f":"INT(D12/12)+1","v":24}]
[null,"Monatsanteil","%",{"$f":"IF(D16=0,0,MIN(1,MAX(0,(D15-($D$4*$D$8))/D16)))","v":0.65184331891510783},null,null,null,"Die jährliche Rendite muss 5,92% betragen, damit du 25 Jahre lang monatlich 5.000 EUR entnehmen kannst bis das Kapital i.H.v. 1.000.000 EUR am Ende nur noch 150.000 EUR beträgt."]
[null,"Kapital Monatsanfang im Zielmonat","EUR",{"$f":"IFERROR(INDEX('RW-Monate'!$C$4:$C$1203,D12+1),0)","v":155139.45624982656}]
[null,"Geplante Monatsentnahme im Zielmonat","EUR",{"$f":"$D$5*(1+$D$6)^(D13-1)","v":7884.4963209569851},null,null,null,"3. Wie hoch muss das Startkapital sein?"]
[null,"Ziel- bzw. Endkapital","EUR",{"$f":"$D$4*$D$8","v":150000}]
[]
[null,"Reichweite","Jahre",{"$f":"(D11+1+D14)/12","v":23.137653609909592},null,null,null,"Du benötigst 1.046.800 EUR Anfangskapital, damit du 25 Jahre lang bei einer IR von 2,00% und jährlichen Rendite von 5,50% monatlich 5.000 EUR entnehmen kannst und am Ende noch 15,00%, bzw. 157.020 EUR übrig behältst."]
[]
["3.","Grafik"]

{"sheet":"RW-Monate","index":2,"n_rows":1204,"n_cols":9,"rows_kept":1204,"cut":false,"hidden":false,"merged":[]}
["Reichweite: Monatliche Simulation (Entnahme zuerst, dann Verzinsung auf Rest)"]
[]
["Monat","Jahr","Kapital\nMonatsanfang","Geplante\nEntnahme (infl.)","Tatsächliche\nEntnahme","Kapital\nnach Entnahme","Zins/Rendite\n(auf Rest)","Kapital\nMonatsende","Hilfswert"]
[0,{"$f":"INT(A4/12)+1","v":1},{"$f":"Reichweite!$D$4","v":1000000},{"$f":"Reichweite!$D$5*(1+Reichweite!$D$6)^(B4-1)","v":5000},{"$f":"MIN(D4,C4)","v":5000},{"$f":"C4-E4","v":995000},{"$f":"F4*Reichweite!$F$7","v":4449.3404224578062},{"$f":"MAX(0,F4+G4)","v":999449.34042245778},{"$f":"IF(H4>Reichweite!$D$4*Reichweite!$D$8,A4,\"\")","v":0}]
[1,1,{"$f":"H4","v":999449.34042245778},{"$f":"Reichweite!$D$5*(1+Reichweite!$D$6)^(B5-1)","v":5000},5000,994449.34042245778,{"$f":"F5*Reichweite!$F$7","v":4446.8780386212511},998896.21846107906,{"$f":"IF(H5>Reichweite!$D$4*Reichweite!$D$8,A5,\"\")","v":1}]
[2,1,998896.21846107906,{"$f":"Reichweite!$D$5*(1+Reichweite!$D$6)^(B6-1)","v":5000},5000,993896.21846107906,{"$f":"F6*Reichweite!$F$7","v":4444.4046437455609},998340.62310482457,{"$f":"IF(H6>Reichweite!$D$4*Reichweite!$D$8,A6,\"\")","v":2}]
[3,1,998340.62310482457,{"$f":"Reichweite!$D$5*(1+Reichweite!$D$6)^(B7-1)","v":5000},5000,993340.62310482457,{"$f":"F7*Reichweite!$F$7","v":4441.9201885926841},997782.5432934172,{"$f":"IF(H7>Reichweite!$D$4*Reichweite!$D$8,A7,\"\")","v":3}]
[4,1,997782.5432934172,{"$f":"Reichweite!$D$5*(1+Reichweite!$D$6)^(B8-1)","v":5000},5000,992782.5432934172,{"$f":"F8*Reichweite!$F$7","v":4439.4246237043899},997221.9679171216,{"$f":"IF(H8>Reichweite!$D$4*Reichweite!$D$8,A8,\"\")","v":4}]
[5,1,997221.9679171216,{"$f":"Reichweite!$D$5*(1+Reichweite!$D$6)^(B9-1)","v":5000},5000,992221.9679171216,{"$f":"F9*Reichweite!$F$7","v":4436.9178994012882},996658.88581652287,{"$f":"IF(H9>Reichweite!$D$4*Reichweite!$D$8,A9,\"\")","v":5}]
[6,1,996658.88581652287,{"$f":"Reichweite!$D$5*(1+Reichweite!$D$6)^(B10-1)","v":5000},5000,991658.88581652287,{"$f":"F10*Reichweite!$F$7","v":4434.399965781834},996093.28578230471,{"$f":"IF(H10>Reichweite!$D$4*Reichweite!$D$8,A10,\"\")","v":6}]
[7,1,996093.28578230471,{"$f":"Reichweite!$D$5*(1+Reichweite!$D$6)^(B11-1)","v":5000},5000,991093.28578230471,{"$f":"F11*Reichweite!$F$7","v":4431.8707727213414},995525.15655502607,{"$f":"IF(H11>Reichweite!$D$4*Reichweite!$D$8,A11,\"\")","v":7}]
[8,1,995525.15655502607,{"$f":"Reichweite!$D$5*(1+Reichweite!$D$6)^(B12-1)","v":5000},5000,990525.15655502607,{"$f":"F12*Reichweite!$F$7","v":4429.3302698709786},994954.486824897,{"$f":"IF(H12>Reichweite!$D$4*Reichweite!$D$8,A12,\"\")","v":8}]
[9,1,994954.486824897,{"$f":"Reichweite!$D$5*(1+Reichweite!$D$6)^(B13-1)","v":5000},5000,989954.486824897,{"$f":"F13*Reichweite!$F$7","v":4426.7784066567719},994381.26523155381,{"$f":"IF(H13>Reichweite!$D$4*Reichweite!$D$8,A13,\"\")","v":9}]
[10,1,994381.26523155381,{"$f":"Reichweite!$D$5*(1+Reichweite!$D$6)^(B14-1)","v":5000},5000,989381.26523155381,{"$f":"F14*Reichweite!$F$7","v":4424.215132278593},993805.48036383244,{"$f":"IF(H14>Reichweite!$D$4*Reichweite!$D$8,A14,\"\")","v":10}]
[11,1,993805.48036383244,{"$f":"Reichweite!$D$5*(1+Reichweite!$D$6)^(B15-1)","v":5000},5000,988805.48036383244,{"$f":"F15*Reichweite!$F$7","v":4421.6403957091534},993227.12075954163,{"$f":"IF(H15>Reichweite!$D$4*Reichweite!$D$8,A15,\"\")","v":11}]
[12,2,993227.12075954163,{"$f":"Reichweite!$D$5*(1+Reichweite!$D$6)^(B16-1)","v":5100},5100,988127.12075954163,{"$f":"F16*Reichweite!$F$7","v":4418.6069758012809},992545.72773534292,{"$f":"IF(H16>Reichweite!$D$4*Reichweite!$D$8,A16,\"\")","v":12}]
[13,2,992545.72773534292,{"$f":"Reichweite!$D$5*(1+Reichweite!$D$6)^(B17-1)","v":5100},5100,987445.72773534292,{"$f":"F17*Reichweite!$F$7","v":4415.5599913528904},991861.28772669577,{"$f":"IF(H17>Reichweite!$D$4*Reichweite!$D$8,A17,\"\")","v":13}]
[14,2,991861.28772669577,{"$f":"Reichweite!$D$5*(1+Reichweite!$D$6)^(B18-1)","v":5100},5100,986761.28772669577,{"$f":"F18*Reichweite!$F$7","v":4412.4993817074419},991173.78710840316,{"$f":"IF(H18>Reichweite!$D$4*Reichweite!$D$8,A18,\"\")","v":14}]
[15,2,991173.78710840316,{"$f":"Reichweite!$D$5*(1+Reichweite!$D$6)^(B19-1)","v":5100},5100,986073.78710840316,{"$f":"F19*Reichweite!$F$7","v":4409.4250859371568},990483.2121943403,{"$f":"IF(H19>Reichweite!$D$4*Reichweite!$D$8,A19,\"\")","v":15}]
[16,2,990483.2121943403,{"$f":"Reichweite!$D$5*(1+Reichweite!$D$6)^(B20-1)","v":5100},5100,985383.2121943403,{"$f":"F20*Reichweite!$F$7","v":4406.3370428418048},989789.54923718213,{"$f":"IF(H20>Reichweite!$D$4*Reichweite!$D$8,A20,\"\")","v":16}]
[17,2,989789.54923718213,{"$f":"Reichweite!$D$5*(1+Reichweite!$D$6)^(B21-1)","v":5100},5100,984689.54923718213,{"$f":"F21*Reichweite!$F$7","v":4403.2351909474883},989092.78442812967,{"$f":"IF(H21>Reichweite!$D$4*Reichweite!$D$8,A21,\"\")","v":17}]
[18,2,989092.78442812967,{"$f":"Reichweite!$D$5*(1+Reichweite!$D$6)^(B22-1)","v":5100},5100,983992.78442812967,{"$f":"F22*Reichweite!$F$7","v":4400.1194685054143},988392.90389663505,{"$f":"IF(H22>Reichweite!$D$4*Reichweite!$D$8,A22,\"\")","v":18}]
[19,2,988392.90389663505,{"$f":"Reichweite!$D$5*(1+Reichweite!$D$6)^(B23-1)","v":5100},5100,983292.90389663505,{"$f":"F23*Reichweite!$F$7","v":4396.9898134906707},987689.8937101257,{"$f":"IF(H23>Reichweite!$D$4*Reichweite!$D$8,A23,\"\")","v":19}]
[20,2,987689.8937101257,{"$f":"Reichweite!$D$5*(1+Reichweite!$D$6)^(B24-1)","v":5100},5100,982589.8937101257,{"$f":"F24*Reichweite!$F$7","v":4393.8461636009861},986983.73987372674,{"$f":"IF(H24>Reichweite!$D$4*Reichweite!$D$8,A24,\"\")","v":20}]
[21,2,986983.73987372674,{"$f":"Reichweite!$D$5*(1+Reichweite!$D$6)^(B25-1)","v":5100},5100,981883.73987372674,{"$f":"F25*Reichweite!$F$7","v":4390.6884562554951},986274.42832998221,{"$f":"IF(H25>Reichweite!$D$4*Reichweite!$D$8,A25,\"\")","v":21}]
[22,2,986274.42832998221,{"$f":"Reichweite!$D$5*(1+Reichweite!$D$6)^(B26-1)","v":5100},5100,981174.42832998221,{"$f":"F26*Reichweite!$F$7","v":4387.5166285934865},985561.94495857565,{"$f":"IF(H26>Reichweite!$D$4*Reichweite!$D$8,A26,\"\")","v":22}]
[23,2,985561.94495857565,{"$f":"Reichweite!$D$5*(1+Reichweite!$D$6)^(B27-1)","v":5100},5100,980461.94495857565,{"$f":"F27*Reichweite!$F$7","v":4384.330617473157},984846.27557604876,{"$f":"IF(H27>Reichweite!$D$4*Reichweite!$D$8,A27,\"\")","v":23}]
[24,3,984846.27557604876,{"$f":"Reichweite!$D$5*(1+Reichweite!$D$6)^(B28-1)","v":5202},5202,979644.27557604876,{"$f":"F28*Reichweite!$F$7","v":4380.6742461808117},984024.94982222957,{"$f":"IF(H28>Reichweite!$D$4*Reichweite!$D$8,A28,\"\")","v":24}]
[25,3,984024.94982222957,{"$f":"Reichweite!$D$5*(1+Reichweite!$D$6)^(B29-1)","v":5202},5202,978822.94982222957,{"$f":"F29*Reichweite!$F$7","v":4377.0015246969197},983199.95134692651,{"$f":"IF(H29>Reichweite!$D$4*Reichweite!$D$8,A29,\"\")","v":25}]
[26,3,983199.95134692651,{"$f":"Reichweite!$D$5*(1+Reichweite!$D$6)^(B30-1)","v":5202},5202,977997.95134692651,{"$f":"F30*Reichweite!$F$7","v":4373.3123799083442},982371.26372683491,{"$f":"IF(H30>Reichweite!$D$4*Reichweite!$D$8,A30,\"\")","v":26}]
[27,3,982371.26372683491,{"$f":"Reichweite!$D$5*(1+Reichweite!$D$6)^(B31-1)","v":5202},5202,977169.26372683491,{"$f":"F31*Reichweite!$F$7","v":4369.6067383750142},981538.87046520994,{"$f":"IF(H31>Reichweite!$D$4*Reichweite!$D$8,A31,\"\")","v":27}]
[28,3,981538.87046520994,{"$f":"Reichweite!$D$5*(1+Reichweite!$D$6)^(B32-1)","v":5202},5202,976336.87046520994,{"$f":"F32*Reichweite!$F$7","v":4365.884526328452},980702.75499153836,{"$f":"IF(H32>Reichweite!$D$4*Reichweite!$D$8,A32,\"\")","v":28}]
[29,3,980702.75499153836,{"$f":"Reichweite!$D$5*(1+Reichweite!$D$6)^(B33-1)","v":5202},5202,975500.75499153836,{"$f":"F33*Reichweite!$F$7","v":4362.1456696703117},979862.90066120867,{"$f":"IF(H33>Reichweite!$D$4*Reichweite!$D$8,A33,\"\")","v":29}]
[30,3,979862.90066120867,{"$f":"Reichweite!$D$5*(1+Reichweite!$D$6)^(B34-1)","v":5202},5202,974660.90066120867,{"$f":"F34*Reichweite!$F$7","v":4358.3900939709019},979019.29075517959,{"$f":"IF(H34>Reichweite!$D$4*Reichweite!$D$8,A34,\"\")","v":30}]
[31,3,979019.29075517959,{"$f":"Reichweite!$D$5*(1+Reichweite!$D$6)^(B35-1)","v":5202},5202,973817.29075517959,{"$f":"F35*Reichweite!$F$7","v":4354.6177244677056},978171.90847964725,{"$f":"IF(H35>Reichweite!$D$4*Reichweite!$D$8,A35,\"\")","v":31}]
[32,3,978171.90847964725,{"$f":"Reichweite!$D$5*(1+Reichweite!$D$6)^(B36-1)","v":5202},5202,972969.90847964725,{"$f":"F36*Reichweite!$F$7","v":4350.828486063886},977320.73696571111,{"$f":"IF(H36>Reichweite!$D$4*Reichweite!$D$8,A36,\"\")","v":32}]
[33,3,977320.73696571111,{"$f":"Reichweite!$D$5*(1+Reichweite!$D$6)^(B37-1)","v":5202},5202,972118.73696571111,{"$f":"F37*Reichweite!$F$7","v":4347.0223033267994},976465.75926903787,{"$f":"IF(H37>Reichweite!$D$4*Reichweite!$D$8,A37,\"\")","v":33}]
[34,3,976465.75926903787,{"$f":"Reichweite!$D$5*(1+Reichweite!$D$6)^(B38-1)","v":5202},5202,971263.75926903787,{"$f":"F38*Reichweite!$F$7","v":4343.1991004864904},975606.95836952433,{"$f":"IF(H38>Reichweite!$D$4*Reichweite!$D$8,A38,\"\")","v":34}]
[35,3,975606.95836952433,{"$f":"Reichweite!$D$5*(1+Reichweite!$D$6)^(B39-1)","v":5202},5202,970404.95836952433,{"$f":"F39*Reichweite!$F$7","v":4339.3588014341794},974744.3171709585,{"$f":"IF(H39>Reichweite!$D$4*Reichweite!$D$8,A39,\"\")","v":35}]
[36,4,974744.3171709585,{"$f":"Reichweite!$D$5*(1+Reichweite!$D$6)^(B40-1)","v":5306.04},5306.04,969438.27717095846,{"$f":"F40*Reichweite!$F$7","v":4335.0360941654271},973773.31326512387,{"$f":"IF(H40>Reichweite!$D$4*Reichweite!$D$8,A40,\"\")","v":36}]
[37,4,973773.31326512387,{"$f":"Reichweite!$D$5*(1+Reichweite!$D$6)^(B41-1)","v":5306.04},5306.04,968467.27326512383,{"$f":"F41*Reichweite!$F$7","v":4330.6940570512616},972797.96732217504,{"$f":"IF(H41>Reichweite!$D$4*Reichweite!$D$8,A41,\"\")","v":37}]
[38,4,972797.96732217504,{"$f":"Reichweite!$D$5*(1+Reichweite!$D$6)^(B42-1)","v":5306.04},5306.04,967491.927322175,{"$f":"F42*Reichweite!$F$7","v":4326.3326036544349},971818.25992582948,{"$f":"IF(H42>Reichweite!$D$4*Reichweite!$D$8,A42,\"\")","v":38}]
[39,4,971818.25992582948,{"$f":"Reichweite!$D$5*(1+Reichweite!$D$6)^(B43-1)","v":5306.04},5306.04,966512.21992582944,{"$f":"F43*Reichweite!$F$7","v":4321.9516471511779},970834.17157298059,{"$f":"IF(H43>Reichweite!$D$4*Reichweite!$D$8,A43,\"\")","v":39}]
[40,4,970834.17157298059,{"$f":"Reichweite!$D$5*(1+Reichweite!$D$6)^(B44-1)","v":5306.04},5306.04,965528.13157298055,{"$f":"F44*Reichweite!$F$7","v":4317.5511003294687},969845.68267331005,{"$f":"IF(H44>Reichweite!$D$4*Reichweite!$D$8,A44,\"\")","v":40}]
[41,4,969845.68267331005,{"$f":"Reichweite!$D$5*(1+Reichweite!$D$6)^(B45-1)","v":5306.04},5306.04,964539.64267331001,{"$f":"F45*Reichweite!$F$7","v":4313.1308755873024},968852.77354889736,{"$f":"IF(H45>Reichweite!$D$4*Reichweite!$D$8,A45,\"\")","v":41}]
[42,4,968852.77354889736,{"$f":"Reichweite!$D$5*(1+Reichweite!$D$6)^(B46-1)","v":5306.04},5306.04,963546.73354889732,{"$f":"F46*Reichweite!$F$7","v":4308.6908849309448},967855.42443382822,{"$f":"IF(H46>Reichweite!$D$4*Reichweite!$D$8,A46,\"\")","v":42}]
[43,4,967855.42443382822,{"$f":"Reichweite!$D$5*(1+Reichweite!$D$6)^(B47-1)","v":5306.04},5306.04,962549.38443382818,{"$f":"F47*Reichweite!$F$7","v":4304.2310399731759},966853.61547380139,{"$f":"IF(H47>Reichweite!$D$4*Reichweite!$D$8,A47,\"\")","v":43}]
[44,4,966853.61547380139,{"$f":"Reichweite!$D$5*(1+Reichweite!$D$6)^(B48-1)","v":5306.04},5306.04,961547.57547380135,{"$f":"F48*Reichweite!$F$7","v":4299.7512519315396},965847.32672573288,{"$f":"IF(H48>Reichweite!$D$4*Reichweite!$D$8,A48,\"\")","v":44}]
[45,4,965847.32672573288,{"$f":"Reichweite!$D$5*(1+Reichweite!$D$6)^(B49-1)","v":5306.04},5306.04,960541.28672573285,{"$f":"F49*Reichweite!$F$7","v":4295.2514316265697},964836.53815735946,{"$f":"IF(H49>Reichweite!$D$4*Reichweite!$D$8,A49,\"\")","v":45}]
[46,4,964836.53815735946,{"$f":"Reichweite!$D$5*(1+Reichweite!$D$6)^(B50-1)","v":5306.04},5306.04,959530.49815735943,{"$f":"F50*Reichweite!$F$7","v":4290.7314894800147},963821.22964683943,{"$f":"IF(H50>Reichweite!$D$4*Reichweite!$D$8,A50,\"\")","v":46}]
[47,4,963821.22964683943,{"$f":"Reichweite!$D$5*(1+Reichweite!$D$6)^(B51-1)","v":5306.04},5306.04,958515.1896468394,{"$f":"F51*Reichweite!$F$7","v":4286.1913355130573},962801.38098235242,{"$f":"IF(H51>Reichweite!$D$4*Reichweite!$D$8,A51,\"\")","v":47}]
[48,5,962801.38098235242,{"$f":"Reichweite!$D$5*(1+Reichweite!$D$6)^(B52-1)","v":5412.1607999999997},5412.1607999999997,957389.22018235247,{"$f":"F52*Reichweite!$F$7","v":4281.1563390780875},961670.37652143056,{"$f":"IF(H52>Reichweite!$D$4*Reichweite!$D$8,A52,\"\")","v":48}]
[49,5,961670.37652143056,{"$f":"Reichweite!$D$5*(1+Reichweite!$D$6)^(B53-1)","v":5412.1607999999997},5412.1607999999997,956258.21572143061,{"$f":"F53*Reichweite!$F$7","v":4276.0988276550124},960534.31454908557,{"$f":"IF(H53>Reichweite!$D$4*Reichweite!$D$8,A53,\"\")","v":49}]
[50,5,960534.31454908557,{"$f":"Reichweite!$D$5*(1+Reichweite!$D$6)^(B54-1)","v":5412.1607999999997},5412.1607999999997,955122.15374908561,{"$f":"F54*Reichweite!$F$7","v":4271.0187005635844},959393.1724496492,{"$f":"IF(H54>Reichweite!$D$4*Reichweite!$D$8,A54,\"\")","v":50}]
[51,5,959393.1724496492,{"$f":"Reichweite!$D$5*(1+Reichweite!$D$6)^(B55-1)","v":5412.1607999999997},5412.1607999999997,953981.01164964924,{"$f":"F55*Reichweite!$F$7","v":4265.9158566733422},958246.92750632262,{"$f":"IF(H55>Reichweite!$D$4*Reichweite!$D$8,A55,\"\")","v":51}]
[52,5,958246.92750632262,{"$f":"Reichweite!$D$5*(1+Reichweite!$D$6)^(B56-1)","v":5412.1607999999997},5412.1607999999997,952834.76670632267,{"$f":"F56*Reichweite!$F$7","v":4260.790194401603},957095.5569007243,{"$f":"IF(H56>Reichweite!$D$4*Reichweite!$D$8,A56,\"\")","v":52}]
[53,5,957095.5569007243,{"$f":"Reichweite!$D$5*(1+Reichweite!$D$6)^(B57-1)","v":5412.1607999999997},5412.1607999999997,951683.39610072435,{"$f":"F57*Reichweite!$F$7","v":4255.6416117114331},955939.03771243582,{"$f":"IF(H57>Reichweite!$D$4*Reichweite!$D$8,A57,\"\")","v":53}]
[54,5,955939.03771243582,{"$f":"Reichweite!$D$5*(1+Reichweite!$D$6)^(B58-1)","v":5412.1607999999997},5412.1607999999997,950526.87691243587,{"$f":"F58*Reichweite!$F$7","v":4250.4700061096246},954777.34691854555,{"$f":"IF(H58>Reichweite!$D$4*Reichweite!$D$8,A58,\"\")","v":54}]
[55,5,954777.34691854555,{"$f":"Reichweite!$D$5*(1+Reichweite!$D$6)^(B59-1)","v":5412.1607999999997},5412.1607999999997,949365.18611854559,{"$f":"F59*Reichweite!$F$7","v":4245.2752746446467},953610.4613931902,{"$f":"IF(H59>Reichweite!$D$4*Reichweite!$D$8,A59,\"\")","v":55}]
[56,5,953610.4613931902,{"$f":"Reichweite!$D$5*(1+Reichweite!$D$6)^(B60-1)","v":5412.1607999999997},5412.1607999999997,948198.30059319024,{"$f":"F60*Reichweite!$F$7","v":4240.0573139046019},952438.35790709488,{"$f":"IF(H60>Reichweite!$D$4*Reichweite!$D$8,A60,\"\")","v":56}]
[57,5,952438.35790709488,{"$f":"Reichweite!$D$5*(1+Reichweite!$D$6)^(B61-1)","v":5412.1607999999997},5412.1607999999997,947026.19710709492,{"$f":"F61*Reichweite!$F$7","v":4234.8160200151669},951261.01312711008,{"$f":"IF(H61>Reichweite!$D$4*Reichweite!$D$8,A61,\"\")","v":57}]
[58,5,951261.01312711008,{"$f":"Reichweite!$D$5*(1+Reichweite!$D$6)^(B62-1)","v":5412.1607999999997},5412.1607999999997,945848.85232711013,{"$f":"F62*Reichweite!$F$7","v":4229.5512886375227},950078.40361574769,{"$f":"IF(H62>Reichweite!$D$4*Reichweite!$D$8,A62,\"\")","v":58}]
[59,5,950078.40361574769,{"$f":"Reichweite!$D$5*(1+Reichweite!$D$6)^(B63-1)","v":5412.1607999999997},5412.1607999999997,944666.24281574774,{"$f":"F63*Reichweite!$F$7","v":4224.2630149662791},948890.50583071401,{"$f":"IF(H63>Reichweite!$D$4*Reichweite!$D$8,A63,\"\")","v":59}]
[60,6,948890.50583071401,{"$f":"Reichweite!$D$5*(1+Reichweite!$D$6)^(B64-1)","v":5520.4040160000004},5520.4040160000004,943370.10181471403,{"$f":"F64*Reichweite!$F$7","v":4218.4670626556208},947588.56887736963,{"$f":"IF(H64>Reichweite!$D$4*Reichweite!$D$8,A64,\"\")","v":60}]
[61,6,947588.56887736963,{"$f":"Reichweite!$D$5*(1+Reichweite!$D$6)^(B65-1)","v":5520.4040160000004},5520.4040160000004,942068.16486136965,{"$f":"F65*Reichweite!$F$7","v":4212.6451925912925},946280.81005396089,{"$f":"IF(H65>Reichweite!$D$4*Reichweite!$D$8,A65,\"\")","v":61}]
[62,6,946280.81005396089,{"$f":"Reichweite!$D$5*(1+Reichweite!$D$6)^(B66-1)","v":5520.4040160000004},5520.4040160000004,940760.4060379609,{"$f":"F66*Reichweite!$F$7","v":4206.7972888769027},944967.20332683786,{"$f":"IF(H66>Reichweite!$D$4*Reichweite!$D$8,A66,\"\")","v":62}]
[63,6,944967.20332683786,{"$f":"Reichweite!$D$5*(1+Reichweite!$D$6)^(B67-1)","v":5520.4040160000004},5520.4040160000004,939446.79931083787,{"$f":"F67*Reichweite!$F$7","v":4200.9232350978064},943647.72254593566,{"$f":"IF(H67>Reichweite!$D$4*Reichweite!$D$8,A67,\"\")","v":63}]
[64,{"$f":"INT(A68/12)+1","v":6},943647.72254593566,{"$f":"Reichweite!$D$5*(1+Reichweite!$D$6)^(B68-1)","v":5520.4040160000004},{"$f":"MIN(D68,C68)","v":5520.4040160000004},{"$f":"C68-E68","v":938127.31852993567},{"$f":"F68*Reichweite!$F$7","v":4195.0229143187862},{"$f":"MAX(0,F68+G68)","v":942322.3414442545},{"$f":"IF(H68>Reichweite!$D$4*Reichweite!$D$8,A68,\"\")","v":64}]
[65,6,{"$f":"H68","v":942322.3414442545},{"$f":"Reichweite!$D$5*(1+Reichweite!$D$6)^(B69-1)","v":5520.4040160000004},5520.4040160000004,936801.93742825452,{"$f":"F69*Reichweite!$F$7","v":4189.0962090817293},940991.03363733622,{"$f":"IF(H69>Reichweite!$D$4*Reichweite!$D$8,A69,\"\")","v":65}]
[66,6,940991.03363733622,{"$f":"Reichweite!$D$5*(1+Reichweite!$D$6)^(B70-1)","v":5520.4040160000004},5520.4040160000004,935470.62962133624,{"$f":"F70*Reichweite!$F$7","v":4183.1430014032821},939653.77262273955,{"$f":"IF(H70>Reichweite!$D$4*Reichweite!$D$8,A70,\"\")","v":66}]
[67,6,939653.77262273955,{"$f":"Reichweite!$D$5*(1+Reichweite!$D$6)^(B71-1)","v":5520.4040160000004},5520.4040160000004,934133.36860673956,{"$f":"F71*Reichweite!$F$7","v":4177.1631727725062},938310.53177951206,{"$f":"IF(H71>Reichweite!$D$4*Reichweite!$D$8,A71,\"\")","v":67}]
[68,6,938310.53177951206,{"$f":"Reichweite!$D$5*(1+Reichweite!$D$6)^(B72-1)","v":5520.4040160000004},5520.4040160000004,932790.12776351208,{"$f":"F72*Reichweite!$F$7","v":4171.1566041485185},936961.28436766064,{"$f":"IF(H72>Reichweite!$D$4*Reichweite!$D$8,A72,\"\")","v":68}]
[69,6,936961.28436766064,{"$f":"Reichweite!$D$5*(1+Reichweite!$D$6)^(B73-1)","v":5520.4040160000004},5520.4040160000004,931440.88035166066,{"$f":"F73*Reichweite!$F$7","v":4165.1231759581187},935606.00352761883,{"$f":"IF(H73>Reichweite!$D$4*Reichweite!$D$8,A73,\"\")","v":69}]
[70,6,935606.00352761883,{"$f":"Reichweite!$D$5*(1+Reichweite!$D$6)^(B74-1)","v":5520.4040160000004},5520.4040160000004,930085.59951161884,{"$f":"F74*Reichweite!$F$7","v":4159.0627680934149},934244.66227971227,{"$f":"IF(H74>Reichweite!$D$4*Reichweite!$D$8,A74,\"\")","v":70}]
[71,6,934244.66227971227,{"$f":"Reichweite!$D$5*(1+Reichweite!$D$6)^(B75-1)","v":5520.4040160000004},5520.4040160000004,928724.25826371228,{"$f":"F75*Reichweite!$F$7","v":4152.9752599094254},932877.23352362169,{"$f":"IF(H75>Reichweite!$D$4*Reichweite!$D$8,A75,\"\")","v":71}]
[72,7,932877.23352362169,{"$f":"Reichweite!$D$5*(1+Reichweite!$D$6)^(B76-1)","v":5630.8120963199999},5630.8120963199999,927246.42142730171,{"$f":"F76*Reichweite!$F$7","v":4146.3668185284814},931392.78824583022,{"$f":"IF(H76>Reichweite!$D$4*Reichweite!$D$8,A76,\"\")","v":72}]
[73,7,931392.78824583022,{"$f":"Reichweite!$D$5*(1+Reichweite!$D$6)^(B77-1)","v":5630.8120963199999},5630.8120963199999,925761.97614951024,{"$f":"F77*Reichweite!$F$7","v":4139.7288261873719},929901.70497569756,{"$f":"IF(H77>Reichweite!$D$4*Reichweite!$D$8,A77,\"\")","v":73}]
[74,7,929901.70497569756,{"$f":"Reichweite!$D$5*(1+Reichweite!$D$6)^(B78-1)","v":5630.8120963199999},5630.8120963199999,924270.89287937758,{"$f":"F78*Reichweite!$F$7","v":4133.0611507430986},928403.95403012063,{"$f":"IF(H78>Reichweite!$D$4*Reichweite!$D$8,A78,\"\")","v":74}]
[75,7,928403.95403012063,{"$f":"Reichweite!$D$5*(1+Reichweite!$D$6)^(B79-1)","v":5630.8120963199999},5630.8120963199999,922773.14193380065,{"$f":"F79*Reichweite!$F$7","v":4126.3636594617619},926899.50559326238,{"$f":"IF(H79>Reichweite!$D$4*Reichweite!$D$8,A79,\"\")","v":75}]
[76,7,926899.50559326238,{"$f":"Reichweite!$D$5*(1+Reichweite!$D$6)^(B80-1)","v":5630.8120963199999},5630.8120963199999,921268.6934969424,{"$f":"F80*Reichweite!$F$7","v":4119.6362190159161},925388.32971595833,{"$f":"IF(H80>Reichweite!$D$4*Reichweite!$D$8,A80,\"\")","v":76}]
[77,7,925388.32971595833,{"$f":"Reichweite!$D$5*(1+Reichweite!$D$6)^(B81-1)","v":5630.8120963199999},5630.8120963199999,919757.51761963835,{"$f":"F81*Reichweite!$F$7","v":4112.8786954819143},923870.39631512028,{"$f":"IF(H81>Reichweite!$D$4*Reichweite!$D$8,A81,\"\")","v":77}]
[78,7,923870.39631512028,{"$f":"Reichweite!$D$5*(1+Reichweite!$D$6)^(B82-1)","v":5630.8120963199999},5630.8120963199999,918239.5842188003,{"$f":"F82*Reichweite!$F$7","v":4106.0909543372436},922345.67517313757,{"$f":"IF(H82>Reichweite!$D$4*Reichweite!$D$8,A82,\"\")","v":78}]
[79,7,922345.67517313757,{"$f":"Reichweite!$D$5*(1+Reichweite!$D$6)^(B83-1)","v":5630.8120963199999},5630.8120963199999,916714.86307681759,{"$f":"F83*Reichweite!$F$7","v":4099.2728604578469},920814.13593727548,{"$f":"IF(H83>Reichweite!$D$4*Reichweite!$D$8,A83,\"\")","v":79}]
[80,7,920814.13593727548,{"$f":"Reichweite!$D$5*(1+Reichweite!$D$6)^(B84-1)","v":5630.8120963199999},5630.8120963199999,915183.32384095551,{"$f":"F84*Reichweite!$F$7","v":4092.424278115433},919275.74811907089,{"$f":"IF(H84>Reichweite!$D$4*Reichweite!$D$8,A84,\"\")","v":80}]
[81,7,919275.74811907089,{"$f":"Reichweite!$D$5*(1+Reichweite!$D$6)^(B85-1)","v":5630.8120963199999},5630.8120963199999,913644.93602275092,{"$f":"F85*Reichweite!$F$7","v":4085.5450709747756},917730.48109372566,{"$f":"IF(H85>Reichweite!$D$4*Reichweite!$D$8,A85,\"\")","v":81}]
[82,7,917730.48109372566,{"$f":"Reichweite!$D$5*(1+Reichweite!$D$6)^(B86-1)","v":5630.8120963199999},5630.8120963199999,912099.66899740568,{"$f":"F86*Reichweite!$F$7","v":4078.635102090997},916178.30409949669,{"$f":"IF(H86>Reichweite!$D$4*Reichweite!$D$8,A86,\"\")","v":82}]
[83,7,916178.30409949669,{"$f":"Reichweite!$D$5*(1+Reichweite!$D$6)^(B87-1)","v":5630.8120963199999},5630.8120963199999,910547.49200317671,{"$f":"F87*Reichweite!$F$7","v":4071.6942339068441},914619.18623708352,{"$f":"IF(H87>Reichweite!$D$4*Reichweite!$D$8,A87,\"\")","v":83}]
[84,8,914619.18623708352,{"$f":"Reichweite!$D$5*(1+Reichweite!$D$6)^(B88-1)","v":5743.4283382463991},5743.4283382463991,908875.7578988371,{"$f":"F88*Reichweite!$F$7","v":4064.2187423228847},912939.97664115997,{"$f":"IF(H88>Reichweite!$D$4*Reichweite!$D$8,A88,\"\")","v":84}]
[85,8,912939.97664115997,{"$f":"Reichweite!$D$5*(1+Reichweite!$D$6)^(B89-1)","v":5743.4283382463991},5743.4283382463991,907196.54830291355,{"$f":"F89*Reichweite!$F$7","v":4056.7098225913051},911253.25812550483,{"$f":"IF(H89>Reichweite!$D$4*Reichweite!$D$8,A89,\"\")","v":85}]
[86,8,911253.25812550483,{"$f":"Reichweite!$D$5*(1+Reichweite!$D$6)^(B90-1)","v":5743.4283382463991},5743.4283382463991,905509.82978725841,{"$f":"F90*Reichweite!$F$7","v":4049.1673252314936},909558.99711248989,{"$f":"IF(H90>Reichweite!$D$4*Reichweite!$D$8,A90,\"\")","v":86}]
[87,8,909558.99711248989,{"$f":"Reichweite!$D$5*(1+Reichweite!$D$6)^(B91-1)","v":5743.4283382463991},5743.4283382463991,903815.56877424347,{"$f":"F91*Reichweite!$F$7","v":4041.5911000944066},907857.15987433784,{"$f":"IF(H91>Reichweite!$D$4*Reichweite!$D$8,A91,\"\")","v":87}]
[88,8,907857.15987433784,{"$f":"Reichweite!$D$5*(1+Reichweite!$D$6)^(B92-1)","v":5743.4283382463991},5743.4283382463991,902113.73153609142,{"$f":"F92*Reichweite!$F$7","v":4033.9809963595785},906147.71253245103,{"$f":"IF(H92>Reichweite!$D$4*Reichweite!$D$8,A92,\"\")","v":88}]
[89,8,906147.71253245103,{"$f":"Reichweite!$D$5*(1+Reichweite!$D$6)^(B93-1)","v":5743.4283382463991},5743.4283382463991,900404.28419420461,{"$f":"F93*Reichweite!$F$7","v":4026.3368625321214},904430.62105673668,{"$f":"IF(H93>Reichweite!$D$4*Reichweite!$D$8,A93,\"\")","v":89}]
[90,8,904430.62105673668,{"$f":"Reichweite!$D$5*(1+Reichweite!$D$6)^(B94-1)","v":5743.4283382463991},5743.4283382463991,898687.19271849026,{"$f":"F94*Reichweite!$F$7","v":4018.6585464397058},902705.85126492998,{"$f":"IF(H94>Reichweite!$D$4*Reichweite!$D$8,A94,\"\")","v":90}]
[91,8,902705.85126492998,{"$f":"Reichweite!$D$5*(1+Reichweite!$D$6)^(B95-1)","v":5743.4283382463991},5743.4283382463991,896962.42292668356,{"$f":"F95*Reichweite!$F$7","v":4010.9458952295349},900973.36882191314,{"$f":"IF(H95>Reichweite!$D$4*Reichweite!$D$8,A95,\"\")","v":91}]
[92,8,900973.36882191314,{"$f":"Reichweite!$D$5*(1+Reichweite!$D$6)^(B96-1)","v":5743.4283382463991},5743.4283382463991,895229.94048366672,{"$f":"F96*Reichweite!$F$7","v":4003.1987553653007},899233.13923903205,{"$f":"IF(H96>Reichweite!$D$4*Reichweite!$D$8,A96,\"\")","v":92}]
[93,8,899233.13923903205,{"$f":"Reichweite!$D$5*(1+Reichweite!$D$6)^(B97-1)","v":5743.4283382463991},5743.4283382463991,893489.71090078563,{"$f":"F97*Reichweite!$F$7","v":3995.4169726241253},897485.12787340977,{"$f":"IF(H97>Reichweite!$D$4*Reichweite!$D$8,A97,\"\")","v":93}]
[94,8,897485.12787340977,{"$f":"Reichweite!$D$5*(1+Reichweite!$D$6)^(B98-1)","v":5743.4283382463991},5743.4283382463991,891741.69953516335,{"$f":"F98*Reichweite!$F$7","v":3987.6003920934932},895729.29992725688,{"$f":"IF(H98>Reichweite!$D$4*Reichweite!$D$8,A98,\"\")","v":94}]
[95,8,895729.29992725688,{"$f":"Reichweite!$D$5*(1+Reichweite!$D$6)^(B99-1)","v":5743.4283382463991},5743.4283382463991,889985.87158901046,{"$f":"F99*Reichweite!$F$7","v":3979.7488581681673},893965.6204471786,{"$f":"IF(H99>Reichweite!$D$4*Reichweite!$D$8,A99,\"\")","v":95}]
[96,9,893965.6204471786,{"$f":"Reichweite!$D$5*(1+Reichweite!$D$6)^(B100-1)","v":5858.2969050113279},5858.2969050113279,888107.32354216732,{"$f":"F100*Reichweite!$F$7","v":3971.3485569014856},892078.67209906876,{"$f":"IF(H100>Reichweite!$D$4*Reichweite!$D$8,A100,\"\")","v":96}]
[97,9,892078.67209906876,{"$f":"Reichweite!$D$5*(1+Reichweite!$D$6)^(B101-1)","v":5858.2969050113279},5858.2969050113279,886220.37519405747,{"$f":"F101*Reichweite!$F$7","v":3962.9106920167264},890183.28588607418,{"$f":"IF(H101>Reichweite!$D$4*Reichweite!$D$8,A101,\"\")","v":97}]
[98,9,890183.28588607418,{"$f":"Reichweite!$D$5*(1+Reichweite!$D$6)^(B102-1)","v":5858.2969050113279},5858.2969050113279,884324.9889810629,{"$f":"F102*Reichweite!$F$7","v":3954.4350955407003},888279.42407660361,{"$f":"IF(H102>Reichweite!$D$4*Reichweite!$D$8,A102,\"\")","v":98}]
[99,9,888279.42407660361,{"$f":"Reichweite!$D$5*(1+Reichweite!$D$6)^(B103-1)","v":5858.2969050113279},5858.2969050113279,882421.12717159232,{"$f":"F103*Reichweite!$F$7","v":3945.9215987490911},886367.04877034144,{"$f":"IF(H103>Reichweite!$D$4*Reichweite!$D$8,A103,\"\")","v":99}]
[100,9,886367.04877034144,{"$f":"Reichweite!$D$5*(1+Reichweite!$D$6)^(B104-1)","v":5858.2969050113279},5858.2969050113279,880508.75186533015,{"$f":"F104*Reichweite!$F$7","v":3937.370032163099},884446.12189749326,{"$f":"IF(H104>Reichweite!$D$4*Reichweite!$D$8,A104,\"\")","v":100}]
[101,9,884446.12189749326,{"$f":"Reichweite!$D$5*(1+Reichweite!$D$6)^(B105-1)","v":5858.2969050113279},5858.2969050113279,878587.82499248197,{"$f":"F105*Reichweite!$F$7","v":3928.7802255460647},882516.60521802807,{"$f":"IF(H105>Reichweite!$D$4*Reichweite!$D$8,A105,\"\")","v":101}]
[102,9,882516.60521802807,{"$f":"Reichweite!$D$5*(1+Reichweite!$D$6)^(B106-1)","v":5858.2969050113279},5858.2969050113279,876658.30831301678,{"$f":"F106*Reichweite!$F$7","v":3920.1520079000838},880578.46032091684,{"$f":"IF(H106>Reichweite!$D$4*Reichweite!$D$8,A106,\"\")","v":102}]
[103,9,880578.46032091684,{"$f":"Reichweite!$D$5*(1+Reichweite!$D$6)^(B107-1)","v":5858.2969050113279},5858.2969050113279,874720.16341590555,{"$f":"F107*Reichweite!$F$7","v":3911.4852074625992},878631.64862336812,{"$f":"IF(H107>Reichweite!$D$4*Reichweite!$D$8,A107,\"\")","v":103}]
[104,9,878631.64862336812,{"$f":"Reichweite!$D$5*(1+Reichweite!$D$6)^(B108-1)","v":5858.2969050113279},5858.2969050113279,872773.35171835683,{"$f":"F108*Reichweite!$F$7","v":3902.7796517029838},876676.1313700598,{"$f":"IF(H108>Reichweite!$D$4*Reichweite!$D$8,A108,\"\")","v":104}]
[105,9,876676.1313700598,{"$f":"Reichweite!$D$5*(1+Reichweite!$D$6)^(B109-1)","v":5858.2969050113279},5858.2969050113279,870817.83446504851,{"$f":"F109*Reichweite!$F$7","v":3894.0351673191062},874711.86963236763,{"$f":"IF(H109>Reichweite!$D$4*Reichweite!$D$8,A109,\"\")","v":105}]
[106,9,874711.86963236763,{"$f":"Reichweite!$D$5*(1+Reichweite!$D$6)^(B110-1)","v":5858.2969050113279},5858.2969050113279,868853.57272735634,{"$f":"F110*Reichweite!$F$7","v":3885.2515802338789},872738.82430759026,{"$f":"IF(H110>Reichweite!$D$4*Reichweite!$D$8,A110,\"\")","v":106}]
[107,9,872738.82430759026,{"$f":"Reichweite!$D$5*(1+Reichweite!$D$6)^(B111-1)","v":5858.2969050113279},5858.2969050113279,866880.52740257897,{"$f":"F111*Reichweite!$F$7","v":3876.4287155917955},870756.95611817075,{"$f":"IF(H111>Reichweite!$D$4*Reichweite!$D$8,A111,\"\")","v":107}]
[108,10,870756.95611817075,{"$f":"Reichweite!$D$5*(1+Reichweite!$D$6)^(B112-1)","v":5975.4628431115543},5975.4628431115543,864781.49327505915,{"$f":"F112*Reichweite!$F$7","v":3867.0424669569284},868648.53574201604,{"$f":"IF(H112>Reichweite!$D$4*Reichweite!$D$8,A112,\"\")","v":108}]
[109,10,868648.53574201604,{"$f":"Reichweite!$D$5*(1+Reichweite!$D$6)^(B113-1)","v":5975.4628431115543},5975.4628431115543,862673.07289890444,{"$f":"F113*Reichweite!$F$7","v":3857.6142458442059},866530.68714474863,{"$f":"IF(H113>Reichweite!$D$4*Reichweite!$D$8,A113,\"\")","v":109}]
[110,10,866530.68714474863,{"$f":"Reichweite!$D$5*(1+Reichweite!$D$6)^(B114-1)","v":5975.4628431115543},5975.4628431115543,860555.22430163703,{"$f":"F114*Reichweite!$F$7","v":3848.1438645653443},864403.36816620233,{"$f":"IF(H114>Reichweite!$D$4*Reichweite!$D$8,A114,\"\")","v":110}]
[111,10,864403.36816620233,{"$f":"Reichweite!$D$5*(1+Reichweite!$D$6)^(B115-1)","v":5975.4628431115543},5975.4628431115543,858427.90532309073,{"$f":"F115*Reichweite!$F$7","v":3838.6311345927738},862266.53645768354,{"$f":"IF(H115>Reichweite!$D$4*Reichweite!$D$8,A115,\"\")","v":111}]
[112,10,862266.53645768354,{"$f":"Reichweite!$D$5*(1+Reichweite!$D$6)^(B116-1)","v":5975.4628431115543},5975.4628431115543,856291.07361457194,{"$f":"F116*Reichweite!$F$7","v":3829.0758665558869},860120.14948112785,{"$f":"IF(H116>Reichweite!$D$4*Reichweite!$D$8,A116,\"\")","v":112}]
[113,10,860120.14948112785,{"$f":"Reichweite!$D$5*(1+Reichweite!$D$6)^(B117-1)","v":5975.4628431115543},5975.4628431115543,854144.68663801625,{"$f":"F117*Reichweite!$F$7","v":3819.4778702372678},857964.16450825357,{"$f":"IF(H117>Reichweite!$D$4*Reichweite!$D$8,A117,\"\")","v":113}]
[114,10,857964.16450825357,{"$f":"Reichweite!$D$5*(1+Reichweite!$D$6)^(B118-1)","v":5975.4628431115543},5975.4628431115543,851988.70166514197,{"$f":"F118*Reichweite!$F$7","v":3809.8369545689047},855798.53861971083,{"$f":"IF(H118>Reichweite!$D$4*Reichweite!$D$8,A118,\"\")","v":114}]
[115,10,855798.53861971083,{"$f":"Reichweite!$D$5*(1+Reichweite!$D$6)^(B119-1)","v":5975.4628431115543},5975.4628431115543,849823.07577659923,{"$f":"F119*Reichweite!$F$7","v":3800.1529276283882},853623.2287042276,{"$f":"IF(H119>Reichweite!$D$4*Reichweite!$D$8,A119,\"\")","v":115}]
[116,10,853623.2287042276,{"$f":"Reichweite!$D$5*(1+Reichweite!$D$6)^(B120-1)","v":5975.4628431115543},5975.4628431115543,847647.765861116,{"$f":"F120*Reichweite!$F$7","v":3790.4255966350888},851438.19145775109,{"$f":"IF(H120>Reichweite!$D$4*Reichweite!$D$8,A120,\"\")","v":116}]
[117,10,851438.19145775109,{"$f":"Reichweite!$D$5*(1+Reichweite!$D$6)^(B121-1)","v":5975.4628431115543},5975.4628431115543,845462.72861463949,{"$f":"F121*Reichweite!$F$7","v":3780.654767946321},849243.38338258583,{"$f":"IF(H121>Reichweite!$D$4*Reichweite!$D$8,A121,\"\")","v":117}]
[118,10,849243.38338258583,{"$f":"Reichweite!$D$5*(1+Reichweite!$D$6)^(B122-1)","v":5975.4628431115543},5975.4628431115543,843267.92053947423,{"$f":"F122*Reichweite!$F$7","v":3770.840247053487},847038.76078652777,{"$f":"IF(H122>Reichweite!$D$4*Reichweite!$D$8,A122,\"\")","v":118}]
[119,10,847038.76078652777,{"$f":"Reichweite!$D$5*(1+Reichweite!$D$6)^(B123-1)","v":5975.4628431115543},5975.4628431115543,841063.29794341617,{"$f":"F123*Reichweite!$F$7","v":3760.981838578206},844824.27978199441,{"$f":"IF(H123>Reichweite!$D$4*Reichweite!$D$8,A123,\"\")","v":119}]
[120,11,844824.27978199441,{"$f":"Reichweite!$D$5*(1+Reichweite!$D$6)^(B124-1)","v":6094.9720999737856},6094.9720999737856,838729.30768202059,{"$f":"F124*Reichweite!$F$7","v":3750.5449368539344},842479.85261887452,{"$f":"IF(H124>Reichweite!$D$4*Reichweite!$D$8,A124,\"\")","v":120}]
[121,11,842479.85261887452,{"$f":"Reichweite!$D$5*(1+Reichweite!$D$6)^(B125-1)","v":6094.9720999737856},6094.9720999737856,836384.8805189007,{"$f":"F125*Reichweite!$F$7","v":3740.0613644475247},840124.94188334828,{"$f":"IF(H125>Reichweite!$D$4*Reichweite!$D$8,A125,\"\")","v":121}]
[122,11,840124.94188334828,{"$f":"Reichweite!$D$5*(1+Reichweite!$D$6)^(B126-1)","v":6094.9720999737856},6094.9720999737856,834029.96978337446,{"$f":"F126*Reichweite!$F$7","v":3729.530912661739},837759.50069603615,{"$f":"IF(H126>Reichweite!$D$4*Reichweite!$D$8,A126,\"\")","v":122}]
[123,11,837759.50069603615,{"$f":"Reichweite!$D$5*(1+Reichweite!$D$6)^(B127-1)","v":6094.9720999737856},6094.9720999737856,831664.52859606233,{"$f":"F127*Reichweite!$F$7","v":3718.9533718661064},835383.48196792847,{"$f":"IF(H127>Reichweite!$D$4*Reichweite!$D$8,A127,\"\")","v":123}]
[124,11,835383.48196792847,{"$f":"Reichweite!$D$5*(1+Reichweite!$D$6)^(B128-1)","v":6094.9720999737856},6094.9720999737856,829288.50986795465,{"$f":"F128*Reichweite!$F$7","v":3708.3285314927534},832996.83839944738,{"$f":"IF(H128>Reichweite!$D$4*Reichweite!$D$8,A128,\"\")","v":124}]
[125,11,832996.83839944738,{"$f":"Reichweite!$D$5*(1+Reichweite!$D$6)^(B129-1)","v":6094.9720999737856},6094.9720999737856,826901.86629947356,{"$f":"F129*Reichweite!$F$7","v":3697.6561800322088},830599.52247950574,{"$f":"IF(H129>Reichweite!$D$4*Reichweite!$D$8,A129,\"\")","v":125}]
[126,11,830599.52247950574,{"$f":"Reichweite!$D$5*(1+Reichweite!$D$6)^(B130-1)","v":6094.9720999737856},6094.9720999737856,824504.55037953192,{"$f":"F130*Reichweite!$F$7","v":3686.9361050291959},828191.48648456112,{"$f":"IF(H130>Reichweite!$D$4*Reichweite!$D$8,A130,\"\")","v":126}]
[127,11,828191.48648456112,{"$f":"Reichweite!$D$5*(1+Reichweite!$D$6)^(B131-1)","v":6094.9720999737856},6094.9720999737856,822096.5143845873,{"$f":"F131*Reichweite!$F$7","v":3676.1680930784014},825772.68247766572,{"$f":"IF(H131>Reichweite!$D$4*Reichweite!$D$8,A131,\"\")","v":127}]
[128,{"$f":"INT(A132/12)+1","v":11},825772.68247766572,{"$f":"Reichweite!$D$5*(1+Reichweite!$D$6)^(B132-1)","v":6094.9720999737856},{"$f":"MIN(D132,C132)","v":6094.9720999737856},{"$f":"C132-E132","v":819677.7103776919},{"$f":"F132*Reichweite!$F$7","v":3665.3519298202277},{"$f":"MAX(0,F132+G132)","v":823343.06230751215},{"$f":"IF(H132>Reichweite!$D$4*Reichweite!$D$8,A132,\"\")","v":128}]
[129,11,{"$f":"H132","v":823343.06230751215},{"$f":"Reichweite!$D$5*(1+Reichweite!$D$6)^(B133-1)","v":6094.9720999737856},6094.9720999737856,817248.09020753833,{"$f":"F133*Reichweite!$F$7","v":3654.4873999365263},820902.57760747487,{"$f":"IF(H133>Reichweite!$D$4*Reichweite!$D$8,A133,\"\")","v":129}]
[130,11,820902.57760747487,{"$f":"Reichweite!$D$5*(1+Reichweite!$D$6)^(B134-1)","v":6094.9720999737856},6094.9720999737856,814807.60550750105,{"$f":"F134*Reichweite!$F$7","v":3643.5742871463094},818451.17979464738,{"$f":"IF(H134>Reichweite!$D$4*Reichweite!$D$8,A134,\"\")","v":130}]
[131,11,818451.17979464738,{"$f":"Reichweite!$D$5*(1+Reichweite!$D$6)^(B135-1)","v":6094.9720999737856},6094.9720999737856,812356.20769467356,{"$f":"F135*Reichweite!$F$7","v":3632.6123742014474},815988.82006887498,{"$f":"IF(H135>Reichweite!$D$4*Reichweite!$D$8,A135,\"\")","v":131}]
[132,12,815988.82006887498,{"$f":"Reichweite!$D$5*(1+Reichweite!$D$6)^(B136-1)","v":6216.8715419732598},6216.8715419732598,809771.94852690178,{"$f":"F136*Reichweite!$F$7","v":3621.0563452795636},813393.00487218134,{"$f":"IF(H136>Reichweite!$D$4*Reichweite!$D$8,A136,\"\")","v":132}]
[133,12,813393.00487218134,{"$f":"Reichweite!$D$5*(1+Reichweite!$D$6)^(B137-1)","v":6216.8715419732598},6216.8715419732598,807176.13333020813,{"$f":"F137*Reichweite!$F$7","v":3609.4486412756651},810785.58197148377,{"$f":"IF(H137>Reichweite!$D$4*Reichweite!$D$8,A137,\"\")","v":133}]
[134,12,810785.58197148377,{"$f":"Reichweite!$D$5*(1+Reichweite!$D$6)^(B138-1)","v":6216.8715419732598},6216.8715419732598,804568.71042951057,{"$f":"F138*Reichweite!$F$7","v":3597.7890311143424},808166.49946062488,{"$f":"IF(H138>Reichweite!$D$4*Reichweite!$D$8,A138,\"\")","v":134}]
[135,12,808166.49946062488,{"$f":"Reichweite!$D$5*(1+Reichweite!$D$6)^(B139-1)","v":6216.8715419732598},6216.8715419732598,801949.62791865168,{"$f":"F139*Reichweite!$F$7","v":3586.0772826868883},805535.70520133851,{"$f":"IF(H139>Reichweite!$D$4*Reichweite!$D$8,A139,\"\")","v":135}]
[136,12,805535.70520133851,{"$f":"Reichweite!$D$5*(1+Reichweite!$D$6)^(B140-1)","v":6216.8715419732598},6216.8715419732598,799318.83365936531,{"$f":"F140*Reichweite!$F$7","v":3574.3131628466745},802893.14682221203,{"$f":"IF(H140>Reichweite!$D$4*Reichweite!$D$8,A140,\"\")","v":136}]
[137,12,802893.14682221203,{"$f":"Reichweite!$D$5*(1+Reichweite!$D$6)^(B141-1)","v":6216.8715419732598},6216.8715419732598,796676.27528023883,{"$f":"F141*Reichweite!$F$7","v":3562.4964374045117},800238.77171764337,{"$f":"IF(H141>Reichweite!$D$4*Reichweite!$D$8,A141,\"\")","v":137}]
[138,12,800238.77171764337,{"$f":"Reichweite!$D$5*(1+Reichweite!$D$6)^(B142-1)","v":6216.8715419732598},6216.8715419732598,794021.90017567016,{"$f":"F142*Reichweite!$F$7","v":3550.6268711239859},797572.52704679419,{"$f":"IF(H142>Reichweite!$D$4*Reichweite!$D$8,A142,\"\")","v":138}]
[139,12,797572.52704679419,{"$f":"Reichweite!$D$5*(1+Reichweite!$D$6)^(B143-1)","v":6216.8715419732598},6216.8715419732598,791355.65550482098,{"$f":"F143*Reichweite!$F$7","v":3538.704227716778},794894.35973253776,{"$f":"IF(H143>Reichweite!$D$4*Reichweite!$D$8,A143,\"\")","v":139}]
[140,12,794894.35973253776,{"$f":"Reichweite!$D$5*(1+Reichweite!$D$6)^(B144-1)","v":6216.8715419732598},6216.8715419732598,788677.48819056456,{"$f":"F144*Reichweite!$F$7","v":3526.7282698379577},792204.21646040247,{"$f":"IF(H144>Reichweite!$D$4*Reichweite!$D$8,A144,\"\")","v":140}]
[141,12,792204.21646040247,{"$f":"Reichweite!$D$5*(1+Reichweite!$D$6)^(B145-1)","v":6216.8715419732598},6216.8715419732598,785987.34491842927,{"$f":"F145*Reichweite!$F$7","v":3514.6987590812596},789502.04367751058,{"$f":"IF(H145>Reichweite!$D$4*Reichweite!$D$8,A145,\"\")","v":141}]
[142,12,789502.04367751058,{"$f":"Reichweite!$D$5*(1+Reichweite!$D$6)^(B146-1)","v":6216.8715419732598},6216.8715419732598,783285.17213553737,{"$f":"F146*Reichweite!$F$7","v":3502.6154559743386},786787.78759151173,{"$f":"IF(H146>Reichweite!$D$4*Reichweite!$D$8,A146,\"\")","v":142}]
[143,12,786787.78759151173,{"$f":"Reichweite!$D$5*(1+Reichweite!$D$6)^(B147-1)","v":6216.8715419732598},6216.8715419732598,780570.91604953853,{"$f":"F147*Reichweite!$F$7","v":3490.4781199740005},784061.39416951255,{"$f":"IF(H147>Reichweite!$D$4*Reichweite!$D$8,A147,\"\")","v":143}]
[144,13,784061.39416951255,{"$f":"Reichweite!$D$5*(1+Reichweite!$D$6)^(B148-1)","v":6341.2089728127266},6341.2089728127266,777720.18519669981,{"$f":"F148*Reichweite!$F$7","v":3477.7305099065802},781197.91570660635,{"$f":"IF(H148>Reichweite!$D$4*Reichweite!$D$8,A148,\"\")","v":144}]
[145,13,781197.91570660635,{"$f":"Reichweite!$D$5*(1+Reichweite!$D$6)^(B149-1)","v":6341.2089728127266},6341.2089728127266,774856.7067337936,{"$f":"F149*Reichweite!$F$7","v":3464.9258963650268},778321.63263015868,{"$f":"IF(H149>Reichweite!$D$4*Reichweite!$D$8,A149,\"\")","v":145}]
[146,13,778321.63263015868,{"$f":"Reichweite!$D$5*(1+Reichweite!$D$6)^(B150-1)","v":6341.2089728127266},6341.2089728127266,771980.42365734593,{"$f":"F150*Reichweite!$F$7","v":3452.0640244469664},775432.48768179293,{"$f":"IF(H150>Reichweite!$D$4*Reichweite!$D$8,A150,\"\")","v":146}]
[147,13,775432.48768179293,{"$f":"Reichweite!$D$5*(1+Reichweite!$D$6)^(B151-1)","v":6341.2089728127266},6341.2089728127266,769091.27870898019,{"$f":"F151*Reichweite!$F$7","v":3439.1446381101791},772530.42334709037,{"$f":"IF(H151>Reichweite!$D$4*Reichweite!$D$8,A151,\"\")","v":147}]
[148,13,772530.42334709037,{"$f":"Reichweite!$D$5*(1+Reichweite!$D$6)^(B152-1)","v":6341.2089728127266},6341.2089728127266,766189.21437427762,{"$f":"F152*Reichweite!$F$7","v":3426.1674801675003},769615.38185444509,{"$f":"IF(H152>Reichweite!$D$4*Reichweite!$D$8,A152,\"\")","v":148}]
[149,13,769615.38185444509,{"$f":"Reichweite!$D$5*(1+Reichweite!$D$6)^(B153-1)","v":6341.2089728127266},6341.2089728127266,763274.17288163234,{"$f":"F153*Reichweite!$F$7","v":3413.132292281703},766687.30517391406,{"$f":"IF(H153>Reichweite!$D$4*Reichweite!$D$8,A153,\"\")","v":149}]
[150,13,766687.30517391406,{"$f":"Reichweite!$D$5*(1+Reichweite!$D$6)^(B154-1)","v":6341.2089728127266},6341.2089728127266,760346.09620110132,{"$f":"F154*Reichweite!$F$7","v":3400.0388149603536},763746.13501606171,{"$f":"IF(H154>Reichweite!$D$4*Reichweite!$D$8,A154,\"\")","v":150}]
[151,13,763746.13501606171,{"$f":"Reichweite!$D$5*(1+Reichweite!$D$6)^(B155-1)","v":6341.2089728127266},6341.2089728127266,757404.92604324897,{"$f":"F155*Reichweite!$F$7","v":3386.8867875506457},760791.81283079961,{"$f":"IF(H155>Reichweite!$D$4*Reichweite!$D$8,A155,\"\")","v":151}]
[152,13,760791.81283079961,{"$f":"Reichweite!$D$5*(1+Reichweite!$D$6)^(B156-1)","v":6341.2089728127266},6341.2089728127266,754450.60385798686,{"$f":"F156*Reichweite!$F$7","v":3373.6759482342131},757824.27980622102,{"$f":"IF(H156>Reichweite!$D$4*Reichweite!$D$8,A156,\"\")","v":152}]
[153,13,757824.27980622102,{"$f":"Reichweite!$D$5*(1+Reichweite!$D$6)^(B157-1)","v":6341.2089728127266},6341.2089728127266,751483.07083340827,{"$f":"F157*Reichweite!$F$7","v":3360.4060340219157},754843.47686743014,{"$f":"IF(H157>Reichweite!$D$4*Reichweite!$D$8,A157,\"\")","v":153}]
[154,13,754843.47686743014,{"$f":"Reichweite!$D$5*(1+Reichweite!$D$6)^(B158-1)","v":6341.2089728127266},6341.2089728127266,748502.2678946174,{"$f":"F158*Reichweite!$F$7","v":3347.0767807486059},751849.34467536595,{"$f":"IF(H158>Reichweite!$D$4*Reichweite!$D$8,A158,\"\")","v":154}]
[155,13,751849.34467536595,{"$f":"Reichweite!$D$5*(1+Reichweite!$D$6)^(B159-1)","v":6341.2089728127266},6341.2089728127266,745508.13570255321,{"$f":"F159*Reichweite!$F$7","v":3333.6879230678687},748841.82362562104,{"$f":"IF(H159>Reichweite!$D$4*Reichweite!$D$8,A159,\"\")","v":155}]
[156,14,748841.82362562104,{"$f":"Reichweite!$D$5*(1+Reichweite!$D$6)^(B160-1)","v":6468.0331522689803},6468.0331522689803,742373.79047335207,{"$f":"F160*Reichweite!$F$7","v":3319.6720749008109},745693.46254825289,{"$f":"IF(H160>Reichweite!$D$4*Reichweite!$D$8,A160,\"\")","v":156}]
[157,14,745693.46254825289,{"$f":"Reichweite!$D$5*(1+Reichweite!$D$6)^(B161-1)","v":6468.0331522689803},6468.0331522689803,739225.42939598393,{"$f":"F161*Reichweite!$F$7","v":3305.5935520806834},742531.02294806461,{"$f":"IF(H161>Reichweite!$D$4*Reichweite!$D$8,A161,\"\")","v":157}]
[158,14,742531.02294806461,{"$f":"Reichweite!$D$5*(1+Reichweite!$D$6)^(B162-1)","v":6468.0331522689803},6468.0331522689803,736062.98979579564,{"$f":"F162*Reichweite!$F$7","v":3291.4520743453077},739354.44187014096,{"$f":"IF(H162>Reichweite!$D$4*Reichweite!$D$8,A162,\"\")","v":158}]
[159,14,739354.44187014096,{"$f":"Reichweite!$D$5*(1+Reichweite!$D$6)^(B163-1)","v":6468.0331522689803},6468.0331522689803,732886.40871787199,{"$f":"F163*Reichweite!$F$7","v":3277.2473601792572},736163.65607805119,{"$f":"IF(H163>Reichweite!$D$4*Reichweite!$D$8,A163,\"\")","v":159}]
[160,14,736163.65607805119,{"$f":"Reichweite!$D$5*(1+Reichweite!$D$6)^(B164-1)","v":6468.0331522689803},6468.0331522689803,729695.62292578223,{"$f":"F164*Reichweite!$F$7","v":3262.9791268082531},732958.60205259046,{"$f":"IF(H164>Reichweite!$D$4*Reichweite!$D$8,A164,\"\")","v":160}]
[161,14,732958.60205259046,{"$f":"Reichweite!$D$5*(1+Reichweite!$D$6)^(B165-1)","v":6468.0331522689803},6468.0331522689803,726490.56890032149,{"$f":"F165*Reichweite!$F$7","v":3248.6470901935359},729739.21599051508,{"$f":"IF(H165>Reichweite!$D$4*Reichweite!$D$8,A165,\"\")","v":161}]
[162,14,729739.21599051508,{"$f":"Reichweite!$D$5*(1+Reichweite!$D$6)^(B166-1)","v":6468.0331522689803},6468.0331522689803,723271.18283824611,{"$f":"F166*Reichweite!$F$7","v":3234.25096502621},726505.43380327232,{"$f":"IF(H166>Reichweite!$D$4*Reichweite!$D$8,A166,\"\")","v":162}]
[163,14,726505.43380327232,{"$f":"Reichweite!$D$5*(1+Reichweite!$D$6)^(B167-1)","v":6468.0331522689803},6468.0331522689803,720037.40065100335,{"$f":"F167*Reichweite!$F$7","v":3219.7904647215637},723257.19111572497,{"$f":"IF(H167>Reichweite!$D$4*Reichweite!$D$8,A167,\"\")","v":163}]
[164,14,723257.19111572497,{"$f":"Reichweite!$D$5*(1+Reichweite!$D$6)^(B168-1)","v":6468.0331522689803},6468.0331522689803,716789.157963456,{"$f":"F168*Reichweite!$F$7","v":3205.2653014133653},719994.42326486937,{"$f":"IF(H168>Reichweite!$D$4*Reichweite!$D$8,A168,\"\")","v":164}]
[165,14,719994.42326486937,{"$f":"Reichweite!$D$5*(1+Reichweite!$D$6)^(B169-1)","v":6468.0331522689803},6468.0331522689803,713526.39011260041,{"$f":"F169*Reichweite!$F$7","v":3190.6751859481315},716717.06529854855,{"$f":"IF(H169>Reichweite!$D$4*Reichweite!$D$8,A169,\"\")","v":165}]
[166,14,716717.06529854855,{"$f":"Reichweite!$D$5*(1+Reichweite!$D$6)^(B170-1)","v":6468.0331522689803},6468.0331522689803,710249.03214627958,{"$f":"F170*Reichweite!$F$7","v":3176.0198278793723},713425.05197415897,{"$f":"IF(H170>Reichweite!$D$4*Reichweite!$D$8,A170,\"\")","v":166}]
[167,14,713425.05197415897,{"$f":"Reichweite!$D$5*(1+Reichweite!$D$6)^(B171-1)","v":6468.0331522689803},6468.0331522689803,706957.01882189,{"$f":"F171*Reichweite!$F$7","v":3161.298935461808},710118.31775735179,{"$f":"IF(H171>Reichweite!$D$4*Reichweite!$D$8,A171,\"\")","v":167}]
[168,15,710118.31775735179,{"$f":"Reichweite!$D$5*(1+Reichweite!$D$6)^(B172-1)","v":6597.3938153143608},6597.3938153143608,703520.92394203739,{"$f":"F172*Reichweite!$F$7","v":3145.933753708714},706666.85769574612,{"$f":"IF(H172>Reichweite!$D$4*Reichweite!$D$8,A172,\"\")","v":168}]
[169,15,706666.85769574612,{"$f":"Reichweite!$D$5*(1+Reichweite!$D$6)^(B173-1)","v":6597.3938153143608},6597.3938153143608,700069.46388043172,{"$f":"F173*Reichweite!$F$7","v":3130.4998634890148},703199.96374392079,{"$f":"IF(H173>Reichweite!$D$4*Reichweite!$D$8,A173,\"\")","v":169}]
[170,15,703199.96374392079,{"$f":"Reichweite!$D$5*(1+Reichweite!$D$6)^(B174-1)","v":6597.3938153143608},6597.3938153143608,696602.56992860639,{"$f":"F174*Reichweite!$F$7","v":3114.9969575591344},699717.56688616553,{"$f":"IF(H174>Reichweite!$D$4*Reichweite!$D$8,A174,\"\")","v":170}]
[171,15,699717.56688616553,{"$f":"Reichweite!$D$5*(1+Reichweite!$D$6)^(B175-1)","v":6597.3938153143608},6597.3938153143608,693120.17307085113,{"$f":"F175*Reichweite!$F$7","v":3099.4247273015962},696219.59779815271,{"$f":"IF(H175>Reichweite!$D$4*Reichweite!$D$8,A175,\"\")","v":171}]
[172,15,696219.59779815271,{"$f":"Reichweite!$D$5*(1+Reichweite!$D$6)^(B176-1)","v":6597.3938153143608},6597.3938153143608,689622.20398283831,{"$f":"F176*Reichweite!$F$7","v":3083.7828627188796},692705.98684555723,{"$f":"IF(H176>Reichweite!$D$4*Reichweite!$D$8,A176,\"\")","v":172}]
[173,15,692705.98684555723,{"$f":"Reichweite!$D$5*(1+Reichweite!$D$6)^(B177-1)","v":6597.3938153143608},6597.3938153143608,686108.59303024283,{"$f":"F177*Reichweite!$F$7","v":3068.0710524272477},689176.66408267012,{"$f":"IF(H177>Reichweite!$D$4*Reichweite!$D$8,A177,\"\")","v":173}]
[174,15,689176.66408267012,{"$f":"Reichweite!$D$5*(1+Reichweite!$D$6)^(B178-1)","v":6597.3938153143608},6597.3938153143608,682579.27026735572,{"$f":"F178*Reichweite!$F$7","v":3052.2889836505501},685631.55925100623,{"$f":"IF(H178>Reichweite!$D$4*Reichweite!$D$8,A178,\"\")","v":174}]
[175,15,685631.55925100623,{"$f":"Reichweite!$D$5*(1+Reichweite!$D$6)^(B179-1)","v":6597.3938153143608},6597.3938153143608,679034.16543569183,{"$f":"F179*Reichweite!$F$7","v":3036.4363422139945},682070.60177790583,{"$f":"IF(H179>Reichweite!$D$4*Reichweite!$D$8,A179,\"\")","v":175}]
[176,15,682070.60177790583,{"$f":"Reichweite!$D$5*(1+Reichweite!$D$6)^(B180-1)","v":6597.3938153143608},6597.3938153143608,675473.20796259143,{"$f":"F180*Reichweite!$F$7","v":3020.5128125378956},678493.72077512927,{"$f":"IF(H180>Reichweite!$D$4*Reichweite!$D$8,A180,\"\")","v":176}]
[177,15,678493.72077512927,{"$f":"Reichweite!$D$5*(1+Reichweite!$D$6)^(B181-1)","v":6597.3938153143608},6597.3938153143608,671896.32695981488,{"$f":"F181*Reichweite!$F$7","v":3004.5180776313878},674900.84503744624,{"$f":"IF(H181>Reichweite!$D$4*Reichweite!$D$8,A181,\"\")","v":177}]
[178,15,674900.84503744624,{"$f":"Reichweite!$D$5*(1+Reichweite!$D$6)^(B182-1)","v":6597.3938153143608},6597.3938153143608,668303.45122213184,{"$f":"F182*Reichweite!$F$7","v":2988.4518190861204},671291.90304121794,{"$f":"IF(H182>Reichweite!$D$4*Reichweite!$D$8,A182,\"\")","v":178}]
[179,15,671291.90304121794,{"$f":"Reichweite!$D$5*(1+Reichweite!$D$6)^(B183-1)","v":6597.3938153143608},6597.3938153143608,664694.50922590354,{"$f":"F183*Reichweite!$F$7","v":2972.3137170699151},667666.82294297346,{"$f":"IF(H183>Reichweite!$D$4*Reichweite!$D$8,A183,\"\")","v":179}]
[180,16,667666.82294297346,{"$f":"Reichweite!$D$5*(1+Reichweite!$D$6)^(B184-1)","v":6729.3416916206461},6729.3416916206461,660937.48125135282,{"$f":"F184*Reichweite!$F$7","v":2955.5134191448165},663892.9946704976,{"$f":"IF(H184>Reichweite!$D$4*Reichweite!$D$8,A184,\"\")","v":180}]
[181,16,663892.9946704976,{"$f":"Reichweite!$D$5*(1+Reichweite!$D$6)^(B185-1)","v":6729.3416916206461},6729.3416916206461,657163.65297887695,{"$f":"F185*Reichweite!$F$7","v":2938.6379953456799},660102.29097422259,{"$f":"IF(H185>Reichweite!$D$4*Reichweite!$D$8,A185,\"\")","v":181}]
[182,16,660102.29097422259,{"$f":"Reichweite!$D$5*(1+Reichweite!$D$6)^(B186-1)","v":6729.3416916206461},6729.3416916206461,653372.94928260194,{"$f":"F186*Reichweite!$F$7","v":2921.687109732216},656294.63639233413,{"$f":"IF(H186>Reichweite!$D$4*Reichweite!$D$8,A186,\"\")","v":182}]
[183,16,656294.63639233413,{"$f":"Reichweite!$D$5*(1+Reichweite!$D$6)^(B187-1)","v":6729.3416916206461},6729.3416916206461,649565.29470071348,{"$f":"F187*Reichweite!$F$7","v":2904.6604248619115},652469.95512557542,{"$f":"IF(H187>Reichweite!$D$4*Reichweite!$D$8,A187,\"\")","v":183}]
[184,16,652469.95512557542,{"$f":"Reichweite!$D$5*(1+Reichweite!$D$6)^(B188-1)","v":6729.3416916206461},6729.3416916206461,645740.61343395477,{"$f":"F188*Reichweite!$F$7","v":2887.5576017833118},648628.17103573808,{"$f":"IF(H188>Reichweite!$D$4*Reichweite!$D$8,A188,\"\")","v":184}]
[185,16,648628.17103573808,{"$f":"Reichweite!$D$5*(1+Reichweite!$D$6)^(B189-1)","v":6729.3416916206461},6729.3416916206461,641898.82934411743,{"$f":"F189*Reichweite!$F$7","v":2870.3783000292729},644769.20764414675,{"$f":"IF(H189>Reichweite!$D$4*Reichweite!$D$8,A189,\"\")","v":185}]
[186,16,644769.20764414675,{"$f":"Reichweite!$D$5*(1+Reichweite!$D$6)^(B190-1)","v":6729.3416916206461},6729.3416916206461,638039.8659525261,{"$f":"F190*Reichweite!$F$7","v":2853.1221776101852},640892.98813013628,{"$f":"IF(H190>Reichweite!$D$4*Reichweite!$D$8,A190,\"\")","v":186}]
[187,16,640892.98813013628,{"$f":"Reichweite!$D$5*(1+Reichweite!$D$6)^(B191-1)","v":6729.3416916206461},6729.3416916206461,634163.64643851563,{"$f":"F191*Reichweite!$F$7","v":2835.7888910071638},636999.43532952282,{"$f":"IF(H191>Reichweite!$D$4*Reichweite!$D$8,A191,\"\")","v":187}]
[188,16,636999.43532952282,{"$f":"Reichweite!$D$5*(1+Reichweite!$D$6)^(B192-1)","v":6729.3416916206461},6729.3416916206461,630270.09363790217,{"$f":"F192*Reichweite!$F$7","v":2818.3780951652107},633088.47173306742,{"$f":"IF(H192>Reichweite!$D$4*Reichweite!$D$8,A192,\"\")","v":188}]
[189,16,633088.47173306742,{"$f":"Reichweite!$D$5*(1+Reichweite!$D$6)^(B193-1)","v":6729.3416916206461},6729.3416916206461,626359.13004144677,{"$f":"F193*Reichweite!$F$7","v":2800.8894434863464},629160.01948493312,{"$f":"IF(H193>Reichweite!$D$4*Reichweite!$D$8,A193,\"\")","v":189}]
[190,16,629160.01948493312,{"$f":"Reichweite!$D$5*(1+Reichweite!$D$6)^(B194-1)","v":6729.3416916206461},6729.3416916206461,622430.67779331247,{"$f":"F194*Reichweite!$F$7","v":2783.322587822709},625214.00038113515,{"$f":"IF(H194>Reichweite!$D$4*Reichweite!$D$8,A194,\"\")","v":190}]
[191,16,625214.00038113515,{"$f":"Reichweite!$D$5*(1+Reichweite!$D$6)^(B195-1)","v":6729.3416916206461},6729.3416916206461,618484.6586895145,{"$f":"F195*Reichweite!$F$7","v":2765.6771784696243},621250.3358679841,{"$f":"IF(H195>Reichweite!$D$4*Reichweite!$D$8,A195,\"\")","v":191}]
[192,{"$f":"INT(A196/12)+1","v":17},621250.3358679841,{"$f":"Reichweite!$D$5*(1+Reichweite!$D$6)^(B196-1)","v":6863.9285254530605},{"$f":"MIN(D196,C196)","v":6863.9285254530605},{"$f":"C196-E196","v":614386.40734253102},{"$f":"F196*Reichweite!$F$7","v":2747.3510323595483},{"$f":"MAX(0,F196+G196)","v":617133.75837489055},{"$f":"IF(H196>Reichweite!$D$4*Reichweite!$D$8,A196,\"\")","v":192}]
[193,17,{"$f":"H196","v":617133.75837489055},{"$f":"Reichweite!$D$5*(1+Reichweite!$D$6)^(B197-1)","v":6863.9285254530605},6863.9285254530605,610269.82984943746,{"$f":"F197*Reichweite!$F$7","v":2728.942937241758},612998.77278667921,{"$f":"IF(H197>Reichweite!$D$4*Reichweite!$D$8,A197,\"\")","v":193}]
[194,17,612998.77278667921,{"$f":"Reichweite!$D$5*(1+Reichweite!$D$6)^(B198-1)","v":6863.9285254530605},6863.9285254530605,606134.84426122613,{"$f":"F198*Reichweite!$F$7","v":2710.4525266649653},608845.29678789107,{"$f":"IF(H198>Reichweite!$D$4*Reichweite!$D$8,A198,\"\")","v":194}]
[195,17,608845.29678789107,{"$f":"Reichweite!$D$5*(1+Reichweite!$D$6)^(B199-1)","v":6863.9285254530605},6863.9285254530605,601981.36826243799,{"$f":"F199*Reichweite!$F$7","v":2691.87943253922},604673.24769497721,{"$f":"IF(H199>Reichweite!$D$4*Reichweite!$D$8,A199,\"\")","v":195}]
[196,17,604673.24769497721,{"$f":"Reichweite!$D$5*(1+Reichweite!$D$6)^(B200-1)","v":6863.9285254530605},6863.9285254530605,597809.31916952413,{"$f":"F200*Reichweite!$F$7","v":2673.2232851285867},600482.54245465272,{"$f":"IF(H200>Reichweite!$D$4*Reichweite!$D$8,A200,\"\")","v":196}]
[197,17,600482.54245465272,{"$f":"Reichweite!$D$5*(1+Reichweite!$D$6)^(B201-1)","v":6863.9285254530605},6863.9285254530605,593618.61392919964,{"$f":"F201*Reichweite!$F$7","v":2654.4837130437813},596273.09764224337,{"$f":"IF(H201>Reichweite!$D$4*Reichweite!$D$8,A201,\"\")","v":197}]
[198,17,596273.09764224337,{"$f":"Reichweite!$D$5*(1+Reichweite!$D$6)^(B202-1)","v":6863.9285254530605},6863.9285254530605,589409.16911679029,{"$f":"F202*Reichweite!$F$7","v":2635.6603432347779},592044.82946002507,{"$f":"IF(H202>Reichweite!$D$4*Reichweite!$D$8,A202,\"\")","v":198}]
[199,17,592044.82946002507,{"$f":"Reichweite!$D$5*(1+Reichweite!$D$6)^(B203-1)","v":6863.9285254530605},6863.9285254530605,585180.90093457198,{"$f":"F203*Reichweite!$F$7","v":2616.752800983385},587797.65373555536,{"$f":"IF(H203>Reichweite!$D$4*Reichweite!$D$8,A203,\"\")","v":199}]
[200,17,587797.65373555536,{"$f":"Reichweite!$D$5*(1+Reichweite!$D$6)^(B204-1)","v":6863.9285254530605},6863.9285254530605,580933.72521010228,{"$f":"F204*Reichweite!$F$7","v":2597.7607098957824},583531.48591999803,{"$f":"IF(H204>Reichweite!$D$4*Reichweite!$D$8,A204,\"\")","v":200}]
[201,17,583531.48591999803,{"$f":"Reichweite!$D$5*(1+Reichweite!$D$6)^(B205-1)","v":6863.9285254530605},6863.9285254530605,576667.55739454494,{"$f":"F205*Reichweite!$F$7","v":2578.6836918950307},579246.24108643993,{"$f":"IF(H205>Reichweite!$D$4*Reichweite!$D$8,A205,\"\")","v":201}]
[202,17,579246.24108643993,{"$f":"Reichweite!$D$5*(1+Reichweite!$D$6)^(B206-1)","v":6863.9285254530605},6863.9285254530605,572382.31256098684,{"$f":"F206*Reichweite!$F$7","v":2559.5213672135446},574941.83392820042,{"$f":"IF(H206>Reichweite!$D$4*Reichweite!$D$8,A206,\"\")","v":202}]
[203,17,574941.83392820042,{"$f":"Reichweite!$D$5*(1+Reichweite!$D$6)^(B207-1)","v":6863.9285254530605},6863.9285254530605,568077.90540274733,{"$f":"F207*Reichweite!$F$7","v":2540.2733543855329},570618.17875713285,{"$f":"IF(H207>Reichweite!$D$4*Reichweite!$D$8,A207,\"\")","v":203}]
[204,18,570618.17875713285,{"$f":"Reichweite!$D$5*(1+Reichweite!$D$6)^(B208-1)","v":7001.2070959621224},7001.2070959621224,563616.97166117071,{"$f":"F208*Reichweite!$F$7","v":2520.325401804324},566137.29706297501,{"$f":"IF(H208>Reichweite!$D$4*Reichweite!$D$8,A208,\"\")","v":204}]
[205,18,566137.29706297501,{"$f":"Reichweite!$D$5*(1+Reichweite!$D$6)^(B209-1)","v":7001.2070959621224},7001.2070959621224,559136.08996701287,{"$f":"F209*Reichweite!$F$7","v":2500.2882479851605},561636.37821499805,{"$f":"IF(H209>Reichweite!$D$4*Reichweite!$D$8,A209,\"\")","v":205}]
[206,18,561636.37821499805,{"$f":"Reichweite!$D$5*(1+Reichweite!$D$6)^(B210-1)","v":7001.2070959621224},7001.2070959621224,554635.17111903592,{"$f":"F210*Reichweite!$F$7","v":2480.1614940469635},557115.33261308284,{"$f":"IF(H210>Reichweite!$D$4*Reichweite!$D$8,A210,\"\")","v":206}]
[207,18,557115.33261308284,{"$f":"Reichweite!$D$5*(1+Reichweite!$D$6)^(B211-1)","v":7001.2070959621224},7001.2070959621224,550114.1255171207,{"$f":"F211*Reichweite!$F$7","v":2459.944739324977},552574.07025644567,{"$f":"IF(H211>Reichweite!$D$4*Reichweite!$D$8,A211,\"\")","v":207}]
[208,18,552574.07025644567,{"$f":"Reichweite!$D$5*(1+Reichweite!$D$6)^(B212-1)","v":7001.2070959621224},7001.2070959621224,545572.86316048354,{"$f":"F212*Reichweite!$F$7","v":2439.6375813627947},548012.50074184628,{"$f":"IF(H212>Reichweite!$D$4*Reichweite!$D$8,A212,\"\")","v":208}]
[209,18,548012.50074184628,{"$f":"Reichweite!$D$5*(1+Reichweite!$D$6)^(B213-1)","v":7001.2070959621224},7001.2070959621224,541011.29364588414,{"$f":"F213*Reichweite!$F$7","v":2419.2396159043442},543430.53326178854,{"$f":"IF(H213>Reichweite!$D$4*Reichweite!$D$8,A213,\"\")","v":209}]
[210,18,543430.53326178854,{"$f":"Reichweite!$D$5*(1+Reichweite!$D$6)^(B214-1)","v":7001.2070959621224},7001.2070959621224,536429.32616582641,{"$f":"F214*Reichweite!$F$7","v":2398.7504368858436},538828.07660271227,{"$f":"IF(H214>Reichweite!$D$4*Reichweite!$D$8,A214,\"\")","v":210}]
[211,18,538828.07660271227,{"$f":"Reichweite!$D$5*(1+Reichweite!$D$6)^(B215-1)","v":7001.2070959621224},7001.2070959621224,531826.86950675014,{"$f":"F215*Reichweite!$F$7","v":2378.1696364277145},534205.0391431778,{"$f":"IF(H215>Reichweite!$D$4*Reichweite!$D$8,A215,\"\")","v":211}]
[212,18,534205.0391431778,{"$f":"Reichweite!$D$5*(1+Reichweite!$D$6)^(B216-1)","v":7001.2070959621224},7001.2070959621224,527203.83204721566,{"$f":"F216*Reichweite!$F$7","v":2357.496804826465},529561.32885204209,{"$f":"IF(H216>Reichweite!$D$4*Reichweite!$D$8,A216,\"\")","v":212}]
[213,18,529561.32885204209,{"$f":"Reichweite!$D$5*(1+Reichweite!$D$6)^(B217-1)","v":7001.2070959621224},7001.2070959621224,522560.12175607996,{"$f":"F217*Reichweite!$F$7","v":2336.7315305465318},524896.85328662652,{"$f":"IF(H217>Reichweite!$D$4*Reichweite!$D$8,A217,\"\")","v":213}]
[214,18,524896.85328662652,{"$f":"Reichweite!$D$5*(1+Reichweite!$D$6)^(B218-1)","v":7001.2070959621224},7001.2070959621224,517895.64619066438,{"$f":"F218*Reichweite!$F$7","v":2315.8734002120896},520211.51959087647,{"$f":"IF(H218>Reichweite!$D$4*Reichweite!$D$8,A218,\"\")","v":214}]
[215,18,520211.51959087647,{"$f":"Reichweite!$D$5*(1+Reichweite!$D$6)^(B219-1)","v":7001.2070959621224},7001.2070959621224,513210.31249491434,{"$f":"F219*Reichweite!$F$7","v":2294.9219985988188},515505.23449351318,{"$f":"IF(H219>Reichweite!$D$4*Reichweite!$D$8,A219,\"\")","v":215}]
[216,19,515505.23449351318,{"$f":"Reichweite!$D$5*(1+Reichweite!$D$6)^(B220-1)","v":7141.231237881364},7141.231237881364,508364.00325563183,{"$f":"F220*Reichweite!$F$7","v":2273.2507628218636},510637.25401845371,{"$f":"IF(H220>Reichweite!$D$4*Reichweite!$D$8,A220,\"\")","v":216}]
[217,19,510637.25401845371,{"$f":"Reichweite!$D$5*(1+Reichweite!$D$6)^(B221-1)","v":7141.231237881364},7141.231237881364,503496.02278057236,{"$f":"F221*Reichweite!$F$7","v":2251.4826198033538},505747.5054003757,{"$f":"IF(H221>Reichweite!$D$4*Reichweite!$D$8,A221,\"\")","v":217}]
[218,19,505747.5054003757,{"$f":"Reichweite!$D$5*(1+Reichweite!$D$6)^(B222-1)","v":7141.231237881364},7141.231237881364,498606.27416249434,{"$f":"F222*Reichweite!$F$7","v":2229.6171362032815},500835.89129869762,{"$f":"IF(H222>Reichweite!$D$4*Reichweite!$D$8,A222,\"\")","v":218}]
[219,19,500835.89129869762,{"$f":"Reichweite!$D$5*(1+Reichweite!$D$6)^(B223-1)","v":7141.231237881364},7141.231237881364,493694.66006081627,{"$f":"F223*Reichweite!$F$7","v":2207.6538767438747},495902.31393756013,{"$f":"IF(H223>Reichweite!$D$4*Reichweite!$D$8,A223,\"\")","v":219}]
[220,19,495902.31393756013,{"$f":"Reichweite!$D$5*(1+Reichweite!$D$6)^(B224-1)","v":7141.231237881364},7141.231237881364,488761.08269967878,{"$f":"F224*Reichweite!$F$7","v":2185.5924042009278},490946.67510387971,{"$f":"IF(H224>Reichweite!$D$4*Reichweite!$D$8,A224,\"\")","v":220}]
[221,19,490946.67510387971,{"$f":"Reichweite!$D$5*(1+Reichweite!$D$6)^(B225-1)","v":7141.231237881364},7141.231237881364,483805.44386599836,{"$f":"F225*Reichweite!$F$7","v":2163.4322793951028},485968.87614539347,{"$f":"IF(H225>Reichweite!$D$4*Reichweite!$D$8,A225,\"\")","v":221}]
[222,19,485968.87614539347,{"$f":"Reichweite!$D$5*(1+Reichweite!$D$6)^(B226-1)","v":7141.231237881364},7141.231237881364,478827.64490751212,{"$f":"F226*Reichweite!$F$7","v":2141.1730611831822},480968.81796869531,{"$f":"IF(H226>Reichweite!$D$4*Reichweite!$D$8,A226,\"\")","v":222}]
[223,19,480968.81796869531,{"$f":"Reichweite!$D$5*(1+Reichweite!$D$6)^(B227-1)","v":7141.231237881364},7141.231237881364,473827.58673081396,{"$f":"F227*Reichweite!$F$7","v":2118.8143064492888},475946.40103726322,{"$f":"IF(H227>Reichweite!$D$4*Reichweite!$D$8,A227,\"\")","v":223}]
[224,19,475946.40103726322,{"$f":"Reichweite!$D$5*(1+Reichweite!$D$6)^(B228-1)","v":7141.231237881364},7141.231237881364,468805.16979938187,{"$f":"F228*Reichweite!$F$7","v":2096.3555700960655},470901.52536947792,{"$f":"IF(H228>Reichweite!$D$4*Reichweite!$D$8,A228,\"\")","v":224}]
[225,19,470901.52536947792,{"$f":"Reichweite!$D$5*(1+Reichweite!$D$6)^(B229-1)","v":7141.231237881364},7141.231237881364,463760.29413159657,{"$f":"F229*Reichweite!$F$7","v":2073.7964050358132},465834.0905366324,{"$f":"IF(H229>Reichweite!$D$4*Reichweite!$D$8,A229,\"\")","v":225}]
[226,19,465834.0905366324,{"$f":"Reichweite!$D$5*(1+Reichweite!$D$6)^(B230-1)","v":7141.231237881364},7141.231237881364,458692.85929875105,{"$f":"F230*Reichweite!$F$7","v":2051.1363621815917},460743.99566093262,{"$f":"IF(H230>Reichweite!$D$4*Reichweite!$D$8,A230,\"\")","v":226}]
[227,19,460743.99566093262,{"$f":"Reichweite!$D$5*(1+Reichweite!$D$6)^(B231-1)","v":7141.231237881364},7141.231237881364,453602.76442305127,{"$f":"F231*Reichweite!$F$7","v":2028.3749904382789},455631.13941348955,{"$f":"IF(H231>Reichweite!$D$4*Reichweite!$D$8,A231,\"\")","v":227}]
[228,20,455631.13941348955,{"$f":"Reichweite!$D$5*(1+Reichweite!$D$6)^(B232-1)","v":7284.0558626389902},7284.0558626389902,448347.08355085057,{"$f":"F232*Reichweite!$F$7","v":2004.8731679737355},450351.95671882428,{"$f":"IF(H232>Reichweite!$D$4*Reichweite!$D$8,A232,\"\")","v":228}]
[229,20,450351.95671882428,{"$f":"Reichweite!$D$5*(1+Reichweite!$D$6)^(B233-1)","v":7284.0558626389902},7284.0558626389902,443067.9008561853,{"$f":"F233*Reichweite!$F$7","v":1981.2662524351283},445049.1671086204,{"$f":"IF(H233>Reichweite!$D$4*Reichweite!$D$8,A233,\"\")","v":229}]
[230,20,445049.1671086204,{"$f":"Reichweite!$D$5*(1+Reichweite!$D$6)^(B234-1)","v":7284.0558626389902},7284.0558626389902,437765.11124598142,{"$f":"F234*Reichweite!$F$7","v":1957.5537738778728},439722.66501985927,{"$f":"IF(H234>Reichweite!$D$4*Reichweite!$D$8,A234,\"\")","v":230}]
[231,20,439722.66501985927,{"$f":"Reichweite!$D$5*(1+Reichweite!$D$6)^(B235-1)","v":7284.0558626389902},7284.0558626389902,432438.60915722029,{"$f":"F235*Reichweite!$F$7","v":1933.7352602559322},434372.34441747621,{"$f":"IF(H235>Reichweite!$D$4*Reichweite!$D$8,A235,\"\")","v":231}]
[232,20,434372.34441747621,{"$f":"Reichweite!$D$5*(1+Reichweite!$D$6)^(B236-1)","v":7284.0558626389902},7284.0558626389902,427088.28855483723,{"$f":"F236*Reichweite!$F$7","v":1909.810237412423},428998.09879224963,{"$f":"IF(H236>Reichweite!$D$4*Reichweite!$D$8,A236,\"\")","v":232}]
[233,20,428998.09879224963,{"$f":"Reichweite!$D$5*(1+Reichweite!$D$6)^(B237-1)","v":7284.0558626389902},7284.0558626389902,421714.04292961064,{"$f":"F237*Reichweite!$F$7","v":1885.7782290701739},423599.82115868083,{"$f":"IF(H237>Reichweite!$D$4*Reichweite!$D$8,A237,\"\")","v":233}]
[234,20,423599.82115868083,{"$f":"Reichweite!$D$5*(1+Reichweite!$D$6)^(B238-1)","v":7284.0558626389902},7284.0558626389902,416315.76529604185,{"$f":"F238*Reichweite!$F$7","v":1861.6387568222469},418177.40405286412,{"$f":"IF(H238>Reichweite!$D$4*Reichweite!$D$8,A238,\"\")","v":234}]
[235,20,418177.40405286412,{"$f":"Reichweite!$D$5*(1+Reichweite!$D$6)^(B239-1)","v":7284.0558626389902},7284.0558626389902,410893.34819022514,{"$f":"F239*Reichweite!$F$7","v":1837.3913401224106},412730.73953034752,{"$f":"IF(H239>Reichweite!$D$4*Reichweite!$D$8,A239,\"\")","v":235}]
[236,20,412730.73953034752,{"$f":"Reichweite!$D$5*(1+Reichweite!$D$6)^(B240-1)","v":7284.0558626389902},7284.0558626389902,405446.68366770854,{"$f":"F240*Reichweite!$F$7","v":1813.0354962755766},407259.71916398412,{"$f":"IF(H240>Reichweite!$D$4*Reichweite!$D$8,A240,\"\")","v":236}]
[237,20,407259.71916398412,{"$f":"Reichweite!$D$5*(1+Reichweite!$D$6)^(B241-1)","v":7284.0558626389902},7284.0558626389902,399975.66330134514,{"$f":"F241*Reichweite!$F$7","v":1788.5707404281891},401764.23404177331,{"$f":"IF(H241>Reichweite!$D$4*Reichweite!$D$8,A241,\"\")","v":237}]
[238,20,401764.23404177331,{"$f":"Reichweite!$D$5*(1+Reichweite!$D$6)^(B242-1)","v":7284.0558626389902},7284.0558626389902,394480.17817913432,{"$f":"F242*Reichweite!$F$7","v":1763.9965855585729},396244.1747646929,{"$f":"IF(H242>Reichweite!$D$4*Reichweite!$D$8,A242,\"\")","v":238}]
[239,20,396244.1747646929,{"$f":"Reichweite!$D$5*(1+Reichweite!$D$6)^(B243-1)","v":7284.0558626389902},7284.0558626389902,388960.11890205392,{"$f":"F243*Reichweite!$F$7","v":1739.3125424672392},390699.43144452118,{"$f":"IF(H243>Reichweite!$D$4*Reichweite!$D$8,A243,\"\")","v":239}]
[240,21,390699.43144452118,{"$f":"Reichweite!$D$5*(1+Reichweite!$D$6)^(B244-1)","v":7429.7369798917716},7429.7369798917716,383269.6944646294,{"$f":"F244*Reichweite!$F$7","v":1713.8666776728928},384983.56114230229,{"$f":"IF(H244>Reichweite!$D$4*Reichweite!$D$8,A244,\"\")","v":240}]
[241,21,384983.56114230229,{"$f":"Reichweite!$D$5*(1+Reichweite!$D$6)^(B245-1)","v":7429.7369798917716},7429.7369798917716,377553.82416241051,{"$f":"F245*Reichweite!$F$7","v":1688.3070266325024},379242.13118904299,{"$f":"IF(H245>Reichweite!$D$4*Reichweite!$D$8,A245,\"\")","v":241}]
[242,21,379242.13118904299,{"$f":"Reichweite!$D$5*(1+Reichweite!$D$6)^(B246-1)","v":7429.7369798917716},7429.7369798917716,371812.39420915121,{"$f":"F246*Reichweite!$F$7","v":1662.6330805282344},373475.02728967945,{"$f":"IF(H246>Reichweite!$D$4*Reichweite!$D$8,A246,\"\")","v":242}]
[243,21,373475.02728967945,{"$f":"Reichweite!$D$5*(1+Reichweite!$D$6)^(B247-1)","v":7429.7369798917716},7429.7369798917716,366045.29030978767,{"$f":"F247*Reichweite!$F$7","v":1636.8443282669757},367682.13463805465,{"$f":"IF(H247>Reichweite!$D$4*Reichweite!$D$8,A247,\"\")","v":243}]
[244,21,367682.13463805465,{"$f":"Reichweite!$D$5*(1+Reichweite!$D$6)^(B248-1)","v":7429.7369798917716},7429.7369798917716,360252.39765816287,{"$f":"F248*Reichweite!$F$7","v":1610.9402564701586},361863.33791463304,{"$f":"IF(H248>Reichweite!$D$4*Reichweite!$D$8,A248,\"\")","v":244}]
[245,21,361863.33791463304,{"$f":"Reichweite!$D$5*(1+Reichweite!$D$6)^(B249-1)","v":7429.7369798917716},7429.7369798917716,354433.60093474126,{"$f":"F249*Reichweite!$F$7","v":1584.9203494635408},356018.52128420479,{"$f":"IF(H249>Reichweite!$D$4*Reichweite!$D$8,A249,\"\")","v":245}]
[246,21,356018.52128420479,{"$f":"Reichweite!$D$5*(1+Reichweite!$D$6)^(B250-1)","v":7429.7369798917716},7429.7369798917716,348588.78430431301,{"$f":"F250*Reichweite!$F$7","v":1558.7840892669396},350147.56839357998,{"$f":"IF(H250>Reichweite!$D$4*Reichweite!$D$8,A250,\"\")","v":246}]
[247,21,350147.56839357998,{"$f":"Reichweite!$D$5*(1+Reichweite!$D$6)^(B251-1)","v":7429.7369798917716},7429.7369798917716,342717.8314136882,{"$f":"F251*Reichweite!$F$7","v":1532.5309555839222},344250.3623692721,{"$f":"IF(H251>Reichweite!$D$4*Reichweite!$D$8,A251,\"\")","v":247}]
[248,21,344250.3623692721,{"$f":"Reichweite!$D$5*(1+Reichweite!$D$6)^(B252-1)","v":7429.7369798917716},7429.7369798917716,336820.62538938032,{"$f":"F252*Reichweite!$F$7","v":1506.160425791445},338326.78581517178,{"$f":"IF(H252>Reichweite!$D$4*Reichweite!$D$8,A252,\"\")","v":248}]
[249,21,338326.78581517178,{"$f":"Reichweite!$D$5*(1+Reichweite!$D$6)^(B253-1)","v":7429.7369798917716},7429.7369798917716,330897.04883528,{"$f":"F253*Reichweite!$F$7","v":1479.6719749294532},332376.72081020946,{"$f":"IF(H253>Reichweite!$D$4*Reichweite!$D$8,A253,\"\")","v":249}]
[250,21,332376.72081020946,{"$f":"Reichweite!$D$5*(1+Reichweite!$D$6)^(B254-1)","v":7429.7369798917716},7429.7369798917716,324946.98383031768,{"$f":"F254*Reichweite!$F$7","v":1453.0650756904276},326400.04890600813,{"$f":"IF(H254>Reichweite!$D$4*Reichweite!$D$8,A254,\"\")","v":250}]
[251,21,326400.04890600813,{"$f":"Reichweite!$D$5*(1+Reichweite!$D$6)^(B255-1)","v":7429.7369798917716},7429.7369798917716,318970.31192611635,{"$f":"F255*Reichweite!$F$7","v":1426.3391984088892},320396.65112452523,{"$f":"IF(H255>Reichweite!$D$4*Reichweite!$D$8,A255,\"\")","v":251}]
[252,22,320396.65112452523,{"$f":"Reichweite!$D$5*(1+Reichweite!$D$6)^(B256-1)","v":7578.3317194896063},7578.3317194896063,312818.31940503564,{"$f":"F256*Reichweite!$F$7","v":1398.8293401147157},314217.14874515036,{"$f":"IF(H256>Reichweite!$D$4*Reichweite!$D$8,A256,\"\")","v":252}]
[253,22,314217.14874515036,{"$f":"Reichweite!$D$5*(1+Reichweite!$D$6)^(B257-1)","v":7578.3317194896063},7578.3317194896063,306638.81702566077,{"$f":"F257*Reichweite!$F$7","v":1371.1964660170004},308010.01349167776,{"$f":"IF(H257>Reichweite!$D$4*Reichweite!$D$8,A257,\"\")","v":253}]
[254,22,308010.01349167776,{"$f":"Reichweite!$D$5*(1+Reichweite!$D$6)^(B258-1)","v":7578.3317194896063},7578.3317194896063,300431.68177218817,{"$f":"F258*Reichweite!$F$7","v":1343.4400260261073},301775.12179821427,{"$f":"IF(H258>Reichweite!$D$4*Reichweite!$D$8,A258,\"\")","v":254}]
[255,22,301775.12179821427,{"$f":"Reichweite!$D$5*(1+Reichweite!$D$6)^(B259-1)","v":7578.3317194896063},7578.3317194896063,294196.79007872468,{"$f":"F259*Reichweite!$F$7","v":1315.5594675925661},295512.34954631724,{"$f":"IF(H259>Reichweite!$D$4*Reichweite!$D$8,A259,\"\")","v":255}]
[256,{"$f":"INT(A260/12)+1","v":22},295512.34954631724,{"$f":"Reichweite!$D$5*(1+Reichweite!$D$6)^(B260-1)","v":7578.3317194896063},{"$f":"MIN(D260,C260)","v":7578.3317194896063},{"$f":"C260-E260","v":287934.01782682765},{"$f":"F260*Reichweite!$F$7","v":1287.5542356960711},{"$f":"MAX(0,F260+G260)","v":289221.57206252374},{"$f":"IF(H260>Reichweite!$D$4*Reichweite!$D$8,A260,\"\")","v":256}]
[257,22,{"$f":"H260","v":289221.57206252374},{"$f":"Reichweite!$D$5*(1+Reichweite!$D$6)^(B261-1)","v":7578.3317194896063},7578.3317194896063,281643.24034303415,{"$f":"F261*Reichweite!$F$7","v":1259.4237728344331},282902.66411586857,{"$f":"IF(H261>Reichweite!$D$4*Reichweite!$D$8,A261,\"\")","v":257}]
[258,22,282902.66411586857,{"$f":"Reichweite!$D$5*(1+Reichweite!$D$6)^(B262-1)","v":7578.3317194896063},7578.3317194896063,275324.33239637897,{"$f":"F262*Reichweite!$F$7","v":1231.1675190124806},276555.49991539144,{"$f":"IF(H262>Reichweite!$D$4*Reichweite!$D$8,A262,\"\")","v":258}]
[259,22,276555.49991539144,{"$f":"Reichweite!$D$5*(1+Reichweite!$D$6)^(B263-1)","v":7578.3317194896063},7578.3317194896063,268977.16819590185,{"$f":"F263*Reichweite!$F$7","v":1202.7849117309129},270179.95310763275,{"$f":"IF(H263>Reichweite!$D$4*Reichweite!$D$8,A263,\"\")","v":259}]
[260,22,270179.95310763275,{"$f":"Reichweite!$D$5*(1+Reichweite!$D$6)^(B264-1)","v":7578.3317194896063},7578.3317194896063,262601.62138814316,{"$f":"F264*Reichweite!$F$7","v":1174.2753859751012},263775.89677411824,{"$f":"IF(H264>Reichweite!$D$4*Reichweite!$D$8,A264,\"\")","v":260}]
[261,22,263775.89677411824,{"$f":"Reichweite!$D$5*(1+Reichweite!$D$6)^(B265-1)","v":7578.3317194896063},7578.3317194896063,256197.56505462865,{"$f":"F265*Reichweite!$F$7","v":1145.6383742038417},257343.20342883249,{"$f":"IF(H265>Reichweite!$D$4*Reichweite!$D$8,A265,\"\")","v":261}]
[262,22,257343.20342883249,{"$f":"Reichweite!$D$5*(1+Reichweite!$D$6)^(B266-1)","v":7578.3317194896063},7578.3317194896063,249764.8717093429,{"$f":"F266*Reichweite!$F$7","v":1116.8733063380578},250881.74501568096,{"$f":"IF(H266>Reichweite!$D$4*Reichweite!$D$8,A266,\"\")","v":262}]
[263,22,250881.74501568096,{"$f":"Reichweite!$D$5*(1+Reichweite!$D$6)^(B267-1)","v":7578.3317194896063},7578.3317194896063,243303.41329619137,{"$f":"F267*Reichweite!$F$7","v":1087.9796097494495},244391.39290594083,{"$f":"IF(H267>Reichweite!$D$4*Reichweite!$D$8,A267,\"\")","v":263}]
[264,23,244391.39290594083,{"$f":"Reichweite!$D$5*(1+Reichweite!$D$6)^(B268-1)","v":7729.8983538793982},7729.8983538793982,236661.49455206143,{"$f":"F268*Reichweite!$F$7","v":1058.278948894236},237719.77350095566,{"$f":"IF(H268>Reichweite!$D$4*Reichweite!$D$8,A268,\"\")","v":264}]
[265,23,237719.77350095566,{"$f":"Reichweite!$D$5*(1+Reichweite!$D$6)^(B269-1)","v":7729.8983538793982},7729.8983538793982,229989.87514707627,{"$f":"F269*Reichweite!$F$7","v":1028.4454756260407},231018.3206227023,{"$f":"IF(H269>Reichweite!$D$4*Reichweite!$D$8,A269,\"\")","v":265}]
[266,23,231018.3206227023,{"$f":"Reichweite!$D$5*(1+Reichweite!$D$6)^(B270-1)","v":7729.8983538793982},7729.8983538793982,223288.42226882291,{"$f":"F270*Reichweite!$F$7","v":998.47859604774021},224286.90086487064,{"$f":"IF(H270>Reichweite!$D$4*Reichweite!$D$8,A270,\"\")","v":266}]
[267,23,224286.90086487064,{"$f":"Reichweite!$D$5*(1+Reichweite!$D$6)^(B271-1)","v":7729.8983538793982},7729.8983538793982,216557.00251099124,{"$f":"F271*Reichweite!$F$7","v":968.3777136064823},217525.38022459773,{"$f":"IF(H271>Reichweite!$D$4*Reichweite!$D$8,A271,\"\")","v":267}]
[268,23,217525.38022459773,{"$f":"Reichweite!$D$5*(1+Reichweite!$D$6)^(B272-1)","v":7729.8983538793982},7729.8983538793982,209795.48187071833,{"$f":"F272*Reichweite!$F$7","v":938.14222908180989},210733.62409980013,{"$f":"IF(H272>Reichweite!$D$4*Reichweite!$D$8,A272,\"\")","v":268}]
[269,23,210733.62409980013,{"$f":"Reichweite!$D$5*(1+Reichweite!$D$6)^(B273-1)","v":7729.8983538793982},7729.8983538793982,203003.72574592073,{"$f":"F273*Reichweite!$F$7","v":907.77154057373218},203911.49728649447,{"$f":"IF(H273>Reichweite!$D$4*Reichweite!$D$8,A273,\"\")","v":269}]
[270,23,203911.49728649447,{"$f":"Reichweite!$D$5*(1+Reichweite!$D$6)^(B274-1)","v":7729.8983538793982},7729.8983538793982,196181.59893261507,{"$f":"F274*Reichweite!$F$7","v":877.2650434907431},197058.86397610581,{"$f":"IF(H274>Reichweite!$D$4*Reichweite!$D$8,A274,\"\")","v":270}]
[271,23,197058.86397610581,{"$f":"Reichweite!$D$5*(1+Reichweite!$D$6)^(B275-1)","v":7729.8983538793982},7729.8983538793982,189328.96562222642,{"$f":"F275*Reichweite!$F$7","v":846.62213053778521},190175.5877527642,{"$f":"IF(H275>Reichweite!$D$4*Reichweite!$D$8,A275,\"\")","v":271}]
[272,23,190175.5877527642,{"$f":"Reichweite!$D$5*(1+Reichweite!$D$6)^(B276-1)","v":7729.8983538793982},7729.8983538793982,182445.6893988848,{"$f":"F276*Reichweite!$F$7","v":815.84219170416054},183261.53159058897,{"$f":"IF(H276>Reichweite!$D$4*Reichweite!$D$8,A276,\"\")","v":272}]
[273,23,183261.53159058897,{"$f":"Reichweite!$D$5*(1+Reichweite!$D$6)^(B277-1)","v":7729.8983538793982},7729.8983538793982,175531.63323670957,{"$f":"F277*Reichweite!$F$7","v":784.92461425138697},176316.55785096096,{"$f":"IF(H277>Reichweite!$D$4*Reichweite!$D$8,A277,\"\")","v":273}]
[274,23,176316.55785096096,{"$f":"Reichweite!$D$5*(1+Reichweite!$D$6)^(B278-1)","v":7729.8983538793982},7729.8983538793982,168586.65949708156,{"$f":"F278*Reichweite!$F$7","v":753.86878270100021},169340.52827978256,{"$f":"IF(H278>Reichweite!$D$4*Reichweite!$D$8,A278,\"\")","v":274}]
[275,23,169340.52827978256,{"$f":"Reichweite!$D$5*(1+Reichweite!$D$6)^(B279-1)","v":7729.8983538793982},7729.8983538793982,161610.62992590317,{"$f":"F279*Reichweite!$F$7","v":722.67407882230168},162333.30400472548,{"$f":"IF(H279>Reichweite!$D$4*Reichweite!$D$8,A279,\"\")","v":275}]
[276,24,162333.30400472548,{"$f":"Reichweite!$D$5*(1+Reichweite!$D$6)^(B280-1)","v":7884.4963209569851},7884.4963209569851,154448.80768376848,{"$f":"F280*Reichweite!$F$7","v":690.64856605809337},155139.45624982656,{"$f":"IF(H280>Reichweite!$D$4*Reichweite!$D$8,A280,\"\")","v":276}]
[277,24,155139.45624982656,{"$f":"Reichweite!$D$5*(1+Reichweite!$D$6)^(B281-1)","v":7884.4963209569851},7884.4963209569851,147254.95992886956,{"$f":"F281*Reichweite!$F$7","v":658.47984484313952},147913.43977371271,{"$f":"IF(H281>Reichweite!$D$4*Reichweite!$D$8,A281,\"\")","v":""}]
[278,24,147913.43977371271,{"$f":"Reichweite!$D$5*(1+Reichweite!$D$6)^(B282-1)","v":7884.4963209569851},7884.4963209569851,140028.94345275572,{"$f":"F282*Reichweite!$F$7","v":626.16727479236613},140655.11072754808,{"$f":"IF(H282>Reichweite!$D$4*Reichweite!$D$8,A282,\"\")","v":""}]
[279,24,140655.11072754808,{"$f":"Reichweite!$D$5*(1+Reichweite!$D$6)^(B283-1)","v":7884.4963209569851},7884.4963209569851,132770.61440659108,{"$f":"F283*Reichweite!$F$7","v":593.71021265708987},133364.32461924816,{"$f":"IF(H283>Reichweite!$D$4*Reichweite!$D$8,A283,\"\")","v":""}]
[280,24,133364.32461924816,{"$f":"Reichweite!$D$5*(1+Reichweite!$D$6)^(B284-1)","v":7884.4963209569851},7884.4963209569851,125479.82829829118,{"$f":"F284*Reichweite!$F$7","v":561.10801231221285},126040.93631060339,{"$f":"IF(H284>Reichweite!$D$4*Reichweite!$D$8,A284,\"\")","v":""}]
[281,24,126040.93631060339,{"$f":"Reichweite!$D$5*(1+Reichweite!$D$6)^(B285-1)","v":7884.4963209569851},7884.4963209569851,118156.4399896464,{"$f":"F285*Reichweite!$F$7","v":528.36002474336055},118684.80001438977,{"$f":"IF(H285>Reichweite!$D$4*Reichweite!$D$8,A285,\"\")","v":""}]
[282,24,118684.80001438977,{"$f":"Reichweite!$D$5*(1+Reichweite!$D$6)^(B286-1)","v":7884.4963209569851},7884.4963209569851,110800.30369343278,{"$f":"F286*Reichweite!$F$7","v":495.46559803396121},111295.76929146674,{"$f":"IF(H286>Reichweite!$D$4*Reichweite!$D$8,A286,\"\")","v":""}]
[283,24,111295.76929146674,{"$f":"Reichweite!$D$5*(1+Reichweite!$D$6)^(B287-1)","v":7884.4963209569851},7884.4963209569851,103411.27297050976,{"$f":"F287*Reichweite!$F$7","v":462.42407735226874},103873.69704786202,{"$f":"IF(H287>Reichweite!$D$4*Reichweite!$D$8,A287,\"\")","v":""}]
[284,24,103873.69704786202,{"$f":"Reichweite!$D$5*(1+Reichweite!$D$6)^(B288-1)","v":7884.4963209569851},7884.4963209569851,95989.200726905037,{"$f":"F288*Reichweite!$F$7","v":429.23480493832642},96418.435531843366,{"$f":"IF(H288>Reichweite!$D$4*Reichweite!$D$8,A288,\"\")","v":""}]
[285,24,96418.435531843366,{"$f":"Reichweite!$D$5*(1+Reichweite!$D$6)^(B289-1)","v":7884.4963209569851},7884.4963209569851,88533.939210886383,{"$f":"F289*Reichweite!$F$7","v":395.89712009087327},88929.836330977254,{"$f":"IF(H289>Reichweite!$D$4*Reichweite!$D$8,A289,\"\")","v":""}]
[286,24,88929.836330977254,{"$f":"Reichweite!$D$5*(1+Reichweite!$D$6)^(B290-1)","v":7884.4963209569851},7884.4963209569851,81045.340010020271,{"$f":"F290*Reichweite!$F$7","v":362.41035915419104},81407.750369174464,{"$f":"IF(H290>Reichweite!$D$4*Reichweite!$D$8,A290,\"\")","v":""}]
[287,24,81407.750369174464,{"$f":"Reichweite!$D$5*(1+Reichweite!$D$6)^(B291-1)","v":7884.4963209569851},7884.4963209569851,73523.254048217481,{"$f":"F291*Reichweite!$F$7","v":328.77385550489305},73852.027903722381,{"$f":"IF(H291>Reichweite!$D$4*Reichweite!$D$8,A291,\"\")","v":""}]
[288,25,73852.027903722381,{"$f":"Reichweite!$D$5*(1+Reichweite!$D$6)^(B292-1)","v":8042.1862473761248},8042.1862473761248,65809.841656346252,{"$f":"F292*Reichweite!$F$7","v":294.28179766545622},66104.123454011715,{"$f":"IF(H292>Reichweite!$D$4*Reichweite!$D$8,A292,\"\")","v":""}]
[289,25,66104.123454011715,{"$f":"Reichweite!$D$5*(1+Reichweite!$D$6)^(B293-1)","v":8042.1862473761248},8042.1862473761248,58061.937206635586,{"$f":"F293*Reichweite!$F$7","v":259.63550172833226},58321.572708363921,{"$f":"IF(H293>Reichweite!$D$4*Reichweite!$D$8,A293,\"\")","v":""}]
[290,25,58321.572708363921,{"$f":"Reichweite!$D$5*(1+Reichweite!$D$6)^(B294-1)","v":8042.1862473761248},8042.1862473761248,50279.386460987793,{"$f":"F294*Reichweite!$F$7","v":224.83427798718665},50504.220738974982,{"$f":"IF(H294>Reichweite!$D$4*Reichweite!$D$8,A294,\"\")","v":""}]
[291,25,50504.220738974982,{"$f":"Reichweite!$D$5*(1+Reichweite!$D$6)^(B295-1)","v":8042.1862473761248},8042.1862473761248,42462.034491598853,{"$f":"F295*Reichweite!$F$7","v":189.87743365152599},42651.911925250381,{"$f":"IF(H295>Reichweite!$D$4*Reichweite!$D$8,A295,\"\")","v":""}]
[292,25,42651.911925250381,{"$f":"Reichweite!$D$5*(1+Reichweite!$D$6)^(B296-1)","v":8042.1862473761248},8042.1862473761248,34609.725677874259,{"$f":"F296*Reichweite!$F$7","v":154.76427283290636},34764.489950707168,{"$f":"IF(H296>Reichweite!$D$4*Reichweite!$D$8,A296,\"\")","v":""}]
[293,25,34764.489950707168,{"$f":"Reichweite!$D$5*(1+Reichweite!$D$6)^(B297-1)","v":8042.1862473761248},8042.1862473761248,26722.303703331043,{"$f":"F297*Reichweite!$F$7","v":119.49409653108013},26841.797799862125,{"$f":"IF(H297>Reichweite!$D$4*Reichweite!$D$8,A297,\"\")","v":""}]
[294,25,26841.797799862125,{"$f":"Reichweite!$D$5*(1+Reichweite!$D$6)^(B298-1)","v":8042.1862473761248},8042.1862473761248,18799.611552486,{"$f":"F298*Reichweite!$F$7","v":84.066202620081114},18883.67775510608,{"$f":"IF(H298>Reichweite!$D$4*Reichweite!$D$8,A298,\"\")","v":""}]
[295,25,18883.67775510608,{"$f":"Reichweite!$D$5*(1+Reichweite!$D$6)^(B299-1)","v":8042.1862473761248},8042.1862473761248,10841.491507729956,{"$f":"F299*Reichweite!$F$7","v":48.479885834247149},10889.971393564203,{"$f":"IF(H299>Reichweite!$D$4*Reichweite!$D$8,A299,\"\")","v":""}]
[296,25,10889.971393564203,{"$f":"Reichweite!$D$5*(1+Reichweite!$D$6)^(B300-1)","v":8042.1862473761248},8042.1862473761248,2847.7851461880782,{"$f":"F300*Reichweite!$F$7","v":12.73443775418043},2860.5195839422586,{"$f":"IF(H300>Reichweite!$D$4*Reichweite!$D$8,A300,\"\")","v":""}]
[297,25,2860.5195839422586,{"$f":"Reichweite!$D$5*(1+Reichweite!$D$6)^(B301-1)","v":8042.1862473761248},2860.5195839422586,0,{"$f":"F301*Reichweite!$F$7","v":0},0,{"$f":"IF(H301>Reichweite!$D$4*Reichweite!$D$8,A301,\"\")","v":""}]
[298,25,0,{"$f":"Reichweite!$D$5*(1+Reichweite!$D$6)^(B302-1)","v":8042.1862473761248},0,0,{"$f":"F302*Reichweite!$F$7","v":0},0,{"$f":"IF(H302>Reichweite!$D$4*Reichweite!$D$8,A302,\"\")","v":""}]
[299,25,0,{"$f":"Reichweite!$D$5*(1+Reichweite!$D$6)^(B303-1)","v":8042.1862473761248},0,0,{"$f":"F303*Reichweite!$F$7","v":0},0,{"$f":"IF(H303>Reichweite!$D$4*Reichweite!$D$8,A303,\"\")","v":""}]
[300,26,0,{"$f":"Reichweite!$D$5*(1+Reichweite!$D$6)^(B304-1)","v":8203.0299723236476},0,0,{"$f":"F304*Reichweite!$F$7","v":0},0,{"$f":"IF(H304>Reichweite!$D$4*Reichweite!$D$8,A304,\"\")","v":""}]
[301,26,0,{"$f":"Reichweite!$D$5*(1+Reichweite!$D$6)^(B305-1)","v":8203.0299723236476},0,0,{"$f":"F305*Reichweite!$F$7","v":0},0,{"$f":"IF(H305>Reichweite!$D$4*Reichweite!$D$8,A305,\"\")","v":""}]
[302,26,0,{"$f":"Reichweite!$D$5*(1+Reichweite!$D$6)^(B306-1)","v":8203.0299723236476},0,0,{"$f":"F306*Reichweite!$F$7","v":0},0,{"$f":"IF(H306>Reichweite!$D$4*Reichweite!$D$8,A306,\"\")","v":""}]
[303,26,0,{"$f":"Reichweite!$D$5*(1+Reichweite!$D$6)^(B307-1)","v":8203.0299723236476},0,0,{"$f":"F307*Reichweite!$F$7","v":0},0,{"$f":"IF(H307>Reichweite!$D$4*Reichweite!$D$8,A307,\"\")","v":""}]
[304,26,0,{"$f":"Reichweite!$D$5*(1+Reichweite!$D$6)^(B308-1)","v":8203.0299723236476},0,0,{"$f":"F308*Reichweite!$F$7","v":0},0,{"$f":"IF(H308>Reichweite!$D$4*Reichweite!$D$8,A308,\"\")","v":""}]
[305,26,0,{"$f":"Reichweite!$D$5*(1+Reichweite!$D$6)^(B309-1)","v":8203.0299723236476},0,0,{"$f":"F309*Reichweite!$F$7","v":0},0,{"$f":"IF(H309>Reichweite!$D$4*Reichweite!$D$8,A309,\"\")","v":""}]
[306,26,0,{"$f":"Reichweite!$D$5*(1+Reichweite!$D$6)^(B310-1)","v":8203.0299723236476},0,0,{"$f":"F310*Reichweite!$F$7","v":0},0,{"$f":"IF(H310>Reichweite!$D$4*Reichweite!$D$8,A310,\"\")","v":""}]
[307,26,0,{"$f":"Reichweite!$D$5*(1+Reichweite!$D$6)^(B311-1)","v":8203.0299723236476},0,0,{"$f":"F311*Reichweite!$F$7","v":0},0,{"$f":"IF(H311>Reichweite!$D$4*Reichweite!$D$8,A311,\"\")","v":""}]
[308,26,0,{"$f":"Reichweite!$D$5*(1+Reichweite!$D$6)^(B312-1)","v":8203.0299723236476},0,0,{"$f":"F312*Reichweite!$F$7","v":0},0,{"$f":"IF(H312>Reichweite!$D$4*Reichweite!$D$8,A312,\"\")","v":""}]
[309,26,0,{"$f":"Reichweite!$D$5*(1+Reichweite!$D$6)^(B313-1)","v":8203.0299723236476},0,0,{"$f":"F313*Reichweite!$F$7","v":0},0,{"$f":"IF(H313>Reichweite!$D$4*Reichweite!$D$8,A313,\"\")","v":""}]
[310,26,0,{"$f":"Reichweite!$D$5*(1+Reichweite!$D$6)^(B314-1)","v":8203.0299723236476},0,0,{"$f":"F314*Reichweite!$F$7","v":0},0,{"$f":"IF(H314>Reichweite!$D$4*Reichweite!$D$8,A314,\"\")","v":""}]
[311,26,0,{"$f":"Reichweite!$D$5*(1+Reichweite!$D$6)^(B315-1)","v":8203.0299723236476},0,0,{"$f":"F315*Reichweite!$F$7","v":0},0,{"$f":"IF(H315>Reichweite!$D$4*Reichweite!$D$8,A315,\"\")","v":""}]
[312,27,0,{"$f":"Reichweite!$D$5*(1+Reichweite!$D$6)^(B316-1)","v":8367.0905717701207},0,0,{"$f":"F316*Reichweite!$F$7","v":0},0,{"$f":"IF(H316>Reichweite!$D$4*Reichweite!$D$8,A316,\"\")","v":""}]
[313,27,0,{"$f":"Reichweite!$D$5*(1+Reichweite!$D$6)^(B317-1)","v":8367.0905717701207},0,0,{"$f":"F317*Reichweite!$F$7","v":0},0,{"$f":"IF(H317>Reichweite!$D$4*Reichweite!$D$8,A317,\"\")","v":""}]
[314,27,0,{"$f":"Reichweite!$D$5*(1+Reichweite!$D$6)^(B318-1)","v":8367.0905717701207},0,0,{"$f":"F318*Reichweite!$F$7","v":0},0,{"$f":"IF(H318>Reichweite!$D$4*Reichweite!$D$8,A318,\"\")","v":""}]
[315,27,0,{"$f":"Reichweite!$D$5*(1+Reichweite!$D$6)^(B319-1)","v":8367.0905717701207},0,0,{"$f":"F319*Reichweite!$F$7","v":0},0,{"$f":"IF(H319>Reichweite!$D$4*Reichweite!$D$8,A319,\"\")","v":""}]
[316,27,0,{"$f":"Reichweite!$D$5*(1+Reichweite!$D$6)^(B320-1)","v":8367.0905717701207},0,0,{"$f":"F320*Reichweite!$F$7","v":0},0,{"$f":"IF(H320>Reichweite!$D$4*Reichweite!$D$8,A320,\"\")","v":""}]
[317,27,0,{"$f":"Reichweite!$D$5*(1+Reichweite!$D$6)^(B321-1)","v":8367.0905717701207},0,0,{"$f":"F321*Reichweite!$F$7","v":0},0,{"$f":"IF(H321>Reichweite!$D$4*Reichweite!$D$8,A321,\"\")","v":""}]
[318,27,0,{"$f":"Reichweite!$D$5*(1+Reichweite!$D$6)^(B322-1)","v":8367.0905717701207},0,0,{"$f":"F322*Reichweite!$F$7","v":0},0,{"$f":"IF(H322>Reichweite!$D$4*Reichweite!$D$8,A322,\"\")","v":""}]
[319,27,0,{"$f":"Reichweite!$D$5*(1+Reichweite!$D$6)^(B323-1)","v":8367.0905717701207},0,0,{"$f":"F323*Reichweite!$F$7","v":0},0,{"$f":"IF(H323>Reichweite!$D$4*Reichweite!$D$8,A323,\"\")","v":""}]
[320,{"$f":"INT(A324/12)+1","v":27},0,{"$f":"Reichweite!$D$5*(1+Reichweite!$D$6)^(B324-1)","v":8367.0905717701207},{"$f":"MIN(D324,C324)","v":0},{"$f":"C324-E324","v":0},{"$f":"F324*Reichweite!$F$7","v":0},{"$f":"MAX(0,F324+G324)","v":0},{"$f":"IF(H324>Reichweite!$D$4*Reichweite!$D$8,A324,\"\")","v":""}]
[321,27,{"$f":"H324","v":0},{"$f":"Reichweite!$D$5*(1+Reichweite!$D$6)^(B325-1)","v":8367.0905717701207},0,0,{"$f":"F325*Reichweite!$F$7","v":0},0,{"$f":"IF(H325>Reichweite!$D$4*Reichweite!$D$8,A325,\"\")","v":""}]
[322,27,0,{"$f":"Reichweite!$D$5*(1+Reichweite!$D$6)^(B326-1)","v":8367.0905717701207},0,0,{"$f":"F326*Reichweite!$F$7","v":0},0,{"$f":"IF(H326>Reichweite!$D$4*Reichweite!$D$8,A326,\"\")","v":""}]
[323,27,0,{"$f":"Reichweite!$D$5*(1+Reichweite!$D$6)^(B327-1)","v":8367.0905717701207},0,0,{"$f":"F327*Reichweite!$F$7","v":0},0,{"$f":"IF(H327>Reichweite!$D$4*Reichweite!$D$8,A327,\"\")","v":""}]
[324,28,0,{"$f":"Reichweite!$D$5*(1+Reichweite!$D$6)^(B328-1)","v":8534.4323832055215},0,0,{"$f":"F328*Reichweite!$F$7","v":0},0,{"$f":"IF(H328>Reichweite!$D$4*Reichweite!$D$8,A328,\"\")","v":""}]
[325,28,0,{"$f":"Reichweite!$D$5*(1+Reichweite!$D$6)^(B329-1)","v":8534.4323832055215},0,0,{"$f":"F329*Reichweite!$F$7","v":0},0,{"$f":"IF(H329>Reichweite!$D$4*Reichweite!$D$8,A329,\"\")","v":""}]
[326,28,0,{"$f":"Reichweite!$D$5*(1+Reichweite!$D$6)^(B330-1)","v":8534.4323832055215},0,0,{"$f":"F330*Reichweite!$F$7","v":0},0,{"$f":"IF(H330>Reichweite!$D$4*Reichweite!$D$8,A330,\"\")","v":""}]
[327,28,0,{"$f":"Reichweite!$D$5*(1+Reichweite!$D$6)^(B331-1)","v":8534.4323832055215},0,0,{"$f":"F331*Reichweite!$F$7","v":0},0,{"$f":"IF(H331>Reichweite!$D$4*Reichweite!$D$8,A331,\"\")","v":""}]
[328,28,0,{"$f":"Reichweite!$D$5*(1+Reichweite!$D$6)^(B332-1)","v":8534.4323832055215},0,0,{"$f":"F332*Reichweite!$F$7","v":0},0,{"$f":"IF(H332>Reichweite!$D$4*Reichweite!$D$8,A332,\"\")","v":""}]
[329,28,0,{"$f":"Reichweite!$D$5*(1+Reichweite!$D$6)^(B333-1)","v":8534.4323832055215},0,0,{"$f":"F333*Reichweite!$F$7","v":0},0,{"$f":"IF(H333>Reichweite!$D$4*Reichweite!$D$8,A333,\"\")","v":""}]
[330,28,0,{"$f":"Reichweite!$D$5*(1+Reichweite!$D$6)^(B334-1)","v":8534.4323832055215},0,0,{"$f":"F334*Reichweite!$F$7","v":0},0,{"$f":"IF(H334>Reichweite!$D$4*Reichweite!$D$8,A334,\"\")","v":""}]
[331,28,0,{"$f":"Reichweite!$D$5*(1+Reichweite!$D$6)^(B335-1)","v":8534.4323832055215},0,0,{"$f":"F335*Reichweite!$F$7","v":0},0,{"$f":"IF(H335>Reichweite!$D$4*Reichweite!$D$8,A335,\"\")","v":""}]
[332,28,0,{"$f":"Reichweite!$D$5*(1+Reichweite!$D$6)^(B336-1)","v":8534.4323832055215},0,0,{"$f":"F336*Reichweite!$F$7","v":0},0,{"$f":"IF(H336>Reichweite!$D$4*Reichweite!$D$8,A336,\"\")","v":""}]
[333,28,0,{"$f":"Reichweite!$D$5*(1+Reichweite!$D$6)^(B337-1)","v":8534.4323832055215},0,0,{"$f":"F337*Reichweite!$F$7","v":0},0,{"$f":"IF(H337>Reichweite!$D$4*Reichweite!$D$8,A337,\"\")","v":""}]
[334,28,0,{"$f":"Reichweite!$D$5*(1+Reichweite!$D$6)^(B338-1)","v":8534.4323832055215},0,0,{"$f":"F338*Reichweite!$F$7","v":0},0,{"$f":"IF(H338>Reichweite!$D$4*Reichweite!$D$8,A338,\"\")","v":""}]
[335,28,0,{"$f":"Reichweite!$D$5*(1+Reichweite!$D$6)^(B339-1)","v":8534.4323832055215},0,0,{"$f":"F339*Reichweite!$F$7","v":0},0,{"$f":"IF(H339>Reichweite!$D$4*Reichweite!$D$8,A339,\"\")","v":""}]
[336,29,0,{"$f":"Reichweite!$D$5*(1+Reichweite!$D$6)^(B340-1)","v":8705.1210308696354},0,0,{"$f":"F340*Reichweite!$F$7","v":0},0,{"$f":"IF(H340>Reichweite!$D$4*Reichweite!$D$8,A340,\"\")","v":""}]
[337,29,0,{"$f":"Reichweite!$D$5*(1+Reichweite!$D$6)^(B341-1)","v":8705.1210308696354},0,0,{"$f":"F341*Reichweite!$F$7","v":0},0,{"$f":"IF(H341>Reichweite!$D$4*Reichweite!$D$8,A341,\"\")","v":""}]
[338,29,0,{"$f":"Reichweite!$D$5*(1+Reichweite!$D$6)^(B342-1)","v":8705.1210308696354},0,0,{"$f":"F342*Reichweite!$F$7","v":0},0,{"$f":"IF(H342>Reichweite!$D$4*Reichweite!$D$8,A342,\"\")","v":""}]
[339,29,0,{"$f":"Reichweite!$D$5*(1+Reichweite!$D$6)^(B343-1)","v":8705.1210308696354},0,0,{"$f":"F343*Reichweite!$F$7","v":0},0,{"$f":"IF(H343>Reichweite!$D$4*Reichweite!$D$8,A343,\"\")","v":""}]
[340,29,0,{"$f":"Reichweite!$D$5*(1+Reichweite!$D$6)^(B344-1)","v":8705.1210308696354},0,0,{"$f":"F344*Reichweite!$F$7","v":0},0,{"$f":"IF(H344>Reichweite!$D$4*Reichweite!$D$8,A344,\"\")","v":""}]
[341,29,0,{"$f":"Reichweite!$D$5*(1+Reichweite!$D$6)^(B345-1)","v":8705.1210308696354},0,0,{"$f":"F345*Reichweite!$F$7","v":0},0,{"$f":"IF(H345>Reichweite!$D$4*Reichweite!$D$8,A345,\"\")","v":""}]
[342,29,0,{"$f":"Reichweite!$D$5*(1+Reichweite!$D$6)^(B346-1)","v":8705.1210308696354},0,0,{"$f":"F346*Reichweite!$F$7","v":0},0,{"$f":"IF(H346>Reichweite!$D$4*Reichweite!$D$8,A346,\"\")","v":""}]
[343,29,0,{"$f":"Reichweite!$D$5*(1+Reichweite!$D$6)^(B347-1)","v":8705.1210308696354},0,0,{"$f":"F347*Reichweite!$F$7","v":0},0,{"$f":"IF(H347>Reichweite!$D$4*Reichweite!$D$8,A347,\"\")","v":""}]
[344,29,0,{"$f":"Reichweite!$D$5*(1+Reichweite!$D$6)^(B348-1)","v":8705.1210308696354},0,0,{"$f":"F348*Reichweite!$F$7","v":0},0,{"$f":"IF(H348>Reichweite!$D$4*Reichweite!$D$8,A348,\"\")","v":""}]
[345,29,0,{"$f":"Reichweite!$D$5*(1+Reichweite!$D$6)^(B349-1)","v":8705.1210308696354},0,0,{"$f":"F349*Reichweite!$F$7","v":0},0,{"$f":"IF(H349>Reichweite!$D$4*Reichweite!$D$8,A349,\"\")","v":""}]
[346,29,0,{"$f":"Reichweite!$D$5*(1+Reichweite!$D$6)^(B350-1)","v":8705.1210308696354},0,0,{"$f":"F350*Reichweite!$F$7","v":0},0,{"$f":"IF(H350>Reichweite!$D$4*Reichweite!$D$8,A350,\"\")","v":""}]
[347,29,0,{"$f":"Reichweite!$D$5*(1+Reichweite!$D$6)^(B351-1)","v":8705.1210308696354},0,0,{"$f":"F351*Reichweite!$F$7","v":0},0,{"$f":"IF(H351>Reichweite!$D$4*Reichweite!$D$8,A351,\"\")","v":""}]
[348,30,0,{"$f":"Reichweite!$D$5*(1+Reichweite!$D$6)^(B352-1)","v":8879.223451487027},0,0,{"$f":"F352*Reichweite!$F$7","v":0},0,{"$f":"IF(H352>Reichweite!$D$4*Reichweite!$D$8,A352,\"\")","v":""}]
[349,30,0,{"$f":"Reichweite!$D$5*(1+Reichweite!$D$6)^(B353-1)","v":8879.223451487027},0,0,{"$f":"F353*Reichweite!$F$7","v":0},0,{"$f":"IF(H353>Reichweite!$D$4*Reichweite!$D$8,A353,\"\")","v":""}]
[350,30,0,{"$f":"Reichweite!$D$5*(1+Reichweite!$D$6)^(B354-1)","v":8879.223451487027},0,0,{"$f":"F354*Reichweite!$F$7","v":0},0,{"$f":"IF(H354>Reichweite!$D$4*Reichweite!$D$8,A354,\"\")","v":""}]
[351,30,0,{"$f":"Reichweite!$D$5*(1+Reichweite!$D$6)^(B355-1)","v":8879.223451487027},0,0,{"$f":"F355*Reichweite!$F$7","v":0},0,{"$f":"IF(H355>Reichweite!$D$4*Reichweite!$D$8,A355,\"\")","v":""}]
[352,30,0,{"$f":"Reichweite!$D$5*(1+Reichweite!$D$6)^(B356-1)","v":8879.223451487027},0,0,{"$f":"F356*Reichweite!$F$7","v":0},0,{"$f":"IF(H356>Reichweite!$D$4*Reichweite!$D$8,A356,\"\")","v":""}]
[353,30,0,{"$f":"Reichweite!$D$5*(1+Reichweite!$D$6)^(B357-1)","v":8879.223451487027},0,0,{"$f":"F357*Reichweite!$F$7","v":0},0,{"$f":"IF(H357>Reichweite!$D$4*Reichweite!$D$8,A357,\"\")","v":""}]
[354,30,0,{"$f":"Reichweite!$D$5*(1+Reichweite!$D$6)^(B358-1)","v":8879.223451487027},0,0,{"$f":"F358*Reichweite!$F$7","v":0},0,{"$f":"IF(H358>Reichweite!$D$4*Reichweite!$D$8,A358,\"\")","v":""}]
[355,30,0,{"$f":"Reichweite!$D$5*(1+Reichweite!$D$6)^(B359-1)","v":8879.223451487027},0,0,{"$f":"F359*Reichweite!$F$7","v":0},0,{"$f":"IF(H359>Reichweite!$D$4*Reichweite!$D$8,A359,\"\")","v":""}]
[356,30,0,{"$f":"Reichweite!$D$5*(1+Reichweite!$D$6)^(B360-1)","v":8879.223451487027},0,0,{"$f":"F360*Reichweite!$F$7","v":0},0,{"$f":"IF(H360>Reichweite!$D$4*Reichweite!$D$8,A360,\"\")","v":""}]
[357,30,0,{"$f":"Reichweite!$D$5*(1+Reichweite!$D$6)^(B361-1)","v":8879.223451487027},0,0,{"$f":"F361*Reichweite!$F$7","v":0},0,{"$f":"IF(H361>Reichweite!$D$4*Reichweite!$D$8,A361,\"\")","v":""}]
[358,30,0,{"$f":"Reichweite!$D$5*(1+Reichweite!$D$6)^(B362-1)","v":8879.223451487027},0,0,{"$f":"F362*Reichweite!$F$7","v":0},0,{"$f":"IF(H362>Reichweite!$D$4*Reichweite!$D$8,A362,\"\")","v":""}]
[359,30,0,{"$f":"Reichweite!$D$5*(1+Reichweite!$D$6)^(B363-1)","v":8879.223451487027},0,0,{"$f":"F363*Reichweite!$F$7","v":0},0,{"$f":"IF(H363>Reichweite!$D$4*Reichweite!$D$8,A363,\"\")","v":""}]
[360,31,0,{"$f":"Reichweite!$D$5*(1+Reichweite!$D$6)^(B364-1)","v":9056.8079205167669},0,0,{"$f":"F364*Reichweite!$F$7","v":0},0,{"$f":"IF(H364>Reichweite!$D$4*Reichweite!$D$8,A364,\"\")","v":""}]
[361,31,0,{"$f":"Reichweite!$D$5*(1+Reichweite!$D$6)^(B365-1)","v":9056.8079205167669},0,0,{"$f":"F365*Reichweite!$F$7","v":0},0,{"$f":"IF(H365>Reichweite!$D$4*Reichweite!$D$8,A365,\"\")","v":""}]
[362,31,0,{"$f":"Reichweite!$D$5*(1+Reichweite!$D$6)^(B366-1)","v":9056.8079205167669},0,0,{"$f":"F366*Reichweite!$F$7","v":0},0,{"$f":"IF(H366>Reichweite!$D$4*Reichweite!$D$8,A366,\"\")","v":""}]
[363,31,0,{"$f":"Reichweite!$D$5*(1+Reichweite!$D$6)^(B367-1)","v":9056.8079205167669},0,0,{"$f":"F367*Reichweite!$F$7","v":0},0,{"$f":"IF(H367>Reichweite!$D$4*Reichweite!$D$8,A367,\"\")","v":""}]
[364,31,0,{"$f":"Reichweite!$D$5*(1+Reichweite!$D$6)^(B368-1)","v":9056.8079205167669},0,0,{"$f":"F368*Reichweite!$F$7","v":0},0,{"$f":"IF(H368>Reichweite!$D$4*Reichweite!$D$8,A368,\"\")","v":""}]
[365,31,0,{"$f":"Reichweite!$D$5*(1+Reichweite!$D$6)^(B369-1)","v":9056.8079205167669},0,0,{"$f":"F369*Reichweite!$F$7","v":0},0,{"$f":"IF(H369>Reichweite!$D$4*Reichweite!$D$8,A369,\"\")","v":""}]
[366,31,0,{"$f":"Reichweite!$D$5*(1+Reichweite!$D$6)^(B370-1)","v":9056.8079205167669},0,0,{"$f":"F370*Reichweite!$F$7","v":0},0,{"$f":"IF(H370>Reichweite!$D$4*Reichweite!$D$8,A370,\"\")","v":""}]
[367,31,0,{"$f":"Reichweite!$D$5*(1+Reichweite!$D$6)^(B371-1)","v":9056.8079205167669},0,0,{"$f":"F371*Reichweite!$F$7","v":0},0,{"$f":"IF(H371>Reichweite!$D$4*Reichweite!$D$8,A371,\"\")","v":""}]
[368,31,0,{"$f":"Reichweite!$D$5*(1+Reichweite!$D$6)^(B372-1)","v":9056.8079205167669},0,0,{"$f":"F372*Reichweite!$F$7","v":0},0,{"$f":"IF(H372>Reichweite!$D$4*Reichweite!$D$8,A372,\"\")","v":""}]
[369,31,0,{"$f":"Reichweite!$D$5*(1+Reichweite!$D$6)^(B373-1)","v":9056.8079205167669},0,0,{"$f":"F373*Reichweite!$F$7","v":0},0,{"$f":"IF(H373>Reichweite!$D$4*Reichweite!$D$8,A373,\"\")","v":""}]
[370,31,0,{"$f":"Reichweite!$D$5*(1+Reichweite!$D$6)^(B374-1)","v":9056.8079205167669},0,0,{"$f":"F374*Reichweite!$F$7","v":0},0,{"$f":"IF(H374>Reichweite!$D$4*Reichweite!$D$8,A374,\"\")","v":""}]
[371,31,0,{"$f":"Reichweite!$D$5*(1+Reichweite!$D$6)^(B375-1)","v":9056.8079205167669},0,0,{"$f":"F375*Reichweite!$F$7","v":0},0,{"$f":"IF(H375>Reichweite!$D$4*Reichweite!$D$8,A375,\"\")","v":""}]
[372,32,0,{"$f":"Reichweite!$D$5*(1+Reichweite!$D$6)^(B376-1)","v":9237.9440789271011},0,0,{"$f":"F376*Reichweite!$F$7","v":0},0,{"$f":"IF(H376>Reichweite!$D$4*Reichweite!$D$8,A376,\"\")","v":""}]
[373,32,0,{"$f":"Reichweite!$D$5*(1+Reichweite!$D$6)^(B377-1)","v":9237.9440789271011},0,0,{"$f":"F377*Reichweite!$F$7","v":0},0,{"$f":"IF(H377>Reichweite!$D$4*Reichweite!$D$8,A377,\"\")","v":""}]
[374,32,0,{"$f":"Reichweite!$D$5*(1+Reichweite!$D$6)^(B378-1)","v":9237.9440789271011},0,0,{"$f":"F378*Reichweite!$F$7","v":0},0,{"$f":"IF(H378>Reichweite!$D$4*Reichweite!$D$8,A378,\"\")","v":""}]
[375,32,0,{"$f":"Reichweite!$D$5*(1+Reichweite!$D$6)^(B379-1)","v":9237.9440789271011},0,0,{"$f":"F379*Reichweite!$F$7","v":0},0,{"$f":"IF(H379>Reichweite!$D$4*Reichweite!$D$8,A379,\"\")","v":""}]
[376,32,0,{"$f":"Reichweite!$D$5*(1+Reichweite!$D$6)^(B380-1)","v":9237.9440789271011},0,0,{"$f":"F380*Reichweite!$F$7","v":0},0,{"$f":"IF(H380>Reichweite!$D$4*Reichweite!$D$8,A380,\"\")","v":""}]
[377,32,0,{"$f":"Reichweite!$D$5*(1+Reichweite!$D$6)^(B381-1)","v":9237.9440789271011},0,0,{"$f":"F381*Reichweite!$F$7","v":0},0,{"$f":"IF(H381>Reichweite!$D$4*Reichweite!$D$8,A381,\"\")","v":""}]
[378,32,0,{"$f":"Reichweite!$D$5*(1+Reichweite!$D$6)^(B382-1)","v":9237.9440789271011},0,0,{"$f":"F382*Reichweite!$F$7","v":0},0,{"$f":"IF(H382>Reichweite!$D$4*Reichweite!$D$8,A382,\"\")","v":""}]
[379,32,0,{"$f":"Reichweite!$D$5*(1+Reichweite!$D$6)^(B383-1)","v":9237.9440789271011},0,0,{"$f":"F383*Reichweite!$F$7","v":0},0,{"$f":"IF(H383>Reichweite!$D$4*Reichweite!$D$8,A383,\"\")","v":""}]
[380,32,0,{"$f":"Reichweite!$D$5*(1+Reichweite!$D$6)^(B384-1)","v":9237.9440789271011},0,0,{"$f":"F384*Reichweite!$F$7","v":0},0,{"$f":"IF(H384>Reichweite!$D$4*Reichweite!$D$8,A384,\"\")","v":""}]
[381,32,0,{"$f":"Reichweite!$D$5*(1+Reichweite!$D$6)^(B385-1)","v":9237.9440789271011},0,0,{"$f":"F385*Reichweite!$F$7","v":0},0,{"$f":"IF(H385>Reichweite!$D$4*Reichweite!$D$8,A385,\"\")","v":""}]
[382,32,0,{"$f":"Reichweite!$D$5*(1+Reichweite!$D$6)^(B386-1)","v":9237.9440789271011},0,0,{"$f":"F386*Reichweite!$F$7","v":0},0,{"$f":"IF(H386>Reichweite!$D$4*Reichweite!$D$8,A386,\"\")","v":""}]
[383,32,0,{"$f":"Reichweite!$D$5*(1+Reichweite!$D$6)^(B387-1)","v":9237.9440789271011},0,0,{"$f":"F387*Reichweite!$F$7","v":0},0,{"$f":"IF(H387>Reichweite!$D$4*Reichweite!$D$8,A387,\"\")","v":""}]
[384,{"$f":"INT(A388/12)+1","v":33},0,{"$f":"Reichweite!$D$5*(1+Reichweite!$D$6)^(B388-1)","v":9422.702960505645},{"$f":"MIN(D388,C388)","v":0},{"$f":"C388-E388","v":0},{"$f":"F388*Reichweite!$F$7","v":0},{"$f":"MAX(0,F388+G388)","v":0},{"$f":"IF(H388>Reichweite!$D$4*Reichweite!$D$8,A388,\"\")","v":""}]
[385,33,{"$f":"H388","v":0},{"$f":"Reichweite!$D$5*(1+Reichweite!$D$6)^(B389-1)","v":9422.702960505645},0,0,{"$f":"F389*Reichweite!$F$7","v":0},0,{"$f":"IF(H389>Reichweite!$D$4*Reichweite!$D$8,A389,\"\")","v":""}]
[386,33,0,{"$f":"Reichweite!$D$5*(1+Reichweite!$D$6)^(B390-1)","v":9422.702960505645},0,0,{"$f":"F390*Reichweite!$F$7","v":0},0,{"$f":"IF(H390>Reichweite!$D$4*Reichweite!$D$8,A390,\"\")","v":""}]
[387,33,0,{"$f":"Reichweite!$D$5*(1+Reichweite!$D$6)^(B391-1)","v":9422.702960505645},0,0,{"$f":"F391*Reichweite!$F$7","v":0},0,{"$f":"IF(H391>Reichweite!$D$4*Reichweite!$D$8,A391,\"\")","v":""}]
[388,33,0,{"$f":"Reichweite!$D$5*(1+Reichweite!$D$6)^(B392-1)","v":9422.702960505645},0,0,{"$f":"F392*Reichweite!$F$7","v":0},0,{"$f":"IF(H392>Reichweite!$D$4*Reichweite!$D$8,A392,\"\")","v":""}]
[389,33,0,{"$f":"Reichweite!$D$5*(1+Reichweite!$D$6)^(B393-1)","v":9422.702960505645},0,0,{"$f":"F393*Reichweite!$F$7","v":0},0,{"$f":"IF(H393>Reichweite!$D$4*Reichweite!$D$8,A393,\"\")","v":""}]
[390,33,0,{"$f":"Reichweite!$D$5*(1+Reichweite!$D$6)^(B394-1)","v":9422.702960505645},0,0,{"$f":"F394*Reichweite!$F$7","v":0},0,{"$f":"IF(H394>Reichweite!$D$4*Reichweite!$D$8,A394,\"\")","v":""}]
[391,33,0,{"$f":"Reichweite!$D$5*(1+Reichweite!$D$6)^(B395-1)","v":9422.702960505645},0,0,{"$f":"F395*Reichweite!$F$7","v":0},0,{"$f":"IF(H395>Reichweite!$D$4*Reichweite!$D$8,A395,\"\")","v":""}]
[392,33,0,{"$f":"Reichweite!$D$5*(1+Reichweite!$D$6)^(B396-1)","v":9422.702960505645},0,0,{"$f":"F396*Reichweite!$F$7","v":0},0,{"$f":"IF(H396>Reichweite!$D$4*Reichweite!$D$8,A396,\"\")","v":""}]
[393,33,0,{"$f":"Reichweite!$D$5*(1+Reichweite!$D$6)^(B397-1)","v":9422.702960505645},0,0,{"$f":"F397*Reichweite!$F$7","v":0},0,{"$f":"IF(H397>Reichweite!$D$4*Reichweite!$D$8,A397,\"\")","v":""}]
[394,33,0,{"$f":"Reichweite!$D$5*(1+Reichweite!$D$6)^(B398-1)","v":9422.702960505645},0,0,{"$f":"F398*Reichweite!$F$7","v":0},0,{"$f":"IF(H398>Reichweite!$D$4*Reichweite!$D$8,A398,\"\")","v":""}]
[395,33,0,{"$f":"Reichweite!$D$5*(1+Reichweite!$D$6)^(B399-1)","v":9422.702960505645},0,0,{"$f":"F399*Reichweite!$F$7","v":0},0,{"$f":"IF(H399>Reichweite!$D$4*Reichweite!$D$8,A399,\"\")","v":""}]
[396,34,0,{"$f":"Reichweite!$D$5*(1+Reichweite!$D$6)^(B400-1)","v":9611.157019715758},0,0,{"$f":"F400*Reichweite!$F$7","v":0},0,{"$f":"IF(H400>Reichweite!$D$4*Reichweite!$D$8,A400,\"\")","v":""}]
[397,34,0,{"$f":"Reichweite!$D$5*(1+Reichweite!$D$6)^(B401-1)","v":9611.157019715758},0,0,{"$f":"F401*Reichweite!$F$7","v":0},0,{"$f":"IF(H401>Reichweite!$D$4*Reichweite!$D$8,A401,\"\")","v":""}]
[398,34,0,{"$f":"Reichweite!$D$5*(1+Reichweite!$D$6)^(B402-1)","v":9611.157019715758},0,0,{"$f":"F402*Reichweite!$F$7","v":0},0,{"$f":"IF(H402>Reichweite!$D$4*Reichweite!$D$8,A402,\"\")","v":""}]
[399,34,0,{"$f":"Reichweite!$D$5*(1+Reichweite!$D$6)^(B403-1)","v":9611.157019715758},0,0,{"$f":"F403*Reichweite!$F$7","v":0},0,{"$f":"IF(H403>Reichweite!$D$4*Reichweite!$D$8,A403,\"\")","v":""}]
[400,34,0,{"$f":"Reichweite!$D$5*(1+Reichweite!$D$6)^(B404-1)","v":9611.157019715758},0,0,{"$f":"F404*Reichweite!$F$7","v":0},0,{"$f":"IF(H404>Reichweite!$D$4*Reichweite!$D$8,A404,\"\")","v":""}]
[401,34,0,{"$f":"Reichweite!$D$5*(1+Reichweite!$D$6)^(B405-1)","v":9611.157019715758},0,0,{"$f":"F405*Reichweite!$F$7","v":0},0,{"$f":"IF(H405>Reichweite!$D$4*Reichweite!$D$8,A405,\"\")","v":""}]
[402,34,0,{"$f":"Reichweite!$D$5*(1+Reichweite!$D$6)^(B406-1)","v":9611.157019715758},0,0,{"$f":"F406*Reichweite!$F$7","v":0},0,{"$f":"IF(H406>Reichweite!$D$4*Reichweite!$D$8,A406,\"\")","v":""}]
[403,34,0,{"$f":"Reichweite!$D$5*(1+Reichweite!$D$6)^(B407-1)","v":9611.157019715758},0,0,{"$f":"F407*Reichweite!$F$7","v":0},0,{"$f":"IF(H407>Reichweite!$D$4*Reichweite!$D$8,A407,\"\")","v":""}]
[404,34,0,{"$f":"Reichweite!$D$5*(1+Reichweite!$D$6)^(B408-1)","v":9611.157019715758},0,0,{"$f":"F408*Reichweite!$F$7","v":0},0,{"$f":"IF(H408>Reichweite!$D$4*Reichweite!$D$8,A408,\"\")","v":""}]
[405,34,0,{"$f":"Reichweite!$D$5*(1+Reichweite!$D$6)^(B409-1)","v":9611.157019715758},0,0,{"$f":"F409*Reichweite!$F$7","v":0},0,{"$f":"IF(H409>Reichweite!$D$4*Reichweite!$D$8,A409,\"\")","v":""}]
[406,34,0,{"$f":"Reichweite!$D$5*(1+Reichweite!$D$6)^(B410-1)","v":9611.157019715758},0,0,{"$f":"F410*Reichweite!$F$7","v":0},0,{"$f":"IF(H410>Reichweite!$D$4*Reichweite!$D$8,A410,\"\")","v":""}]
[407,34,0,{"$f":"Reichweite!$D$5*(1+Reichweite!$D$6)^(B411-1)","v":9611.157019715758},0,0,{"$f":"F411*Reichweite!$F$7","v":0},0,{"$f":"IF(H411>Reichweite!$D$4*Reichweite!$D$8,A411,\"\")","v":""}]
[408,35,0,{"$f":"Reichweite!$D$5*(1+Reichweite!$D$6)^(B412-1)","v":9803.3801601100731},0,0,{"$f":"F412*Reichweite!$F$7","v":0},0,{"$f":"IF(H412>Reichweite!$D$4*Reichweite!$D$8,A412,\"\")","v":""}]
[409,35,0,{"$f":"Reichweite!$D$5*(1+Reichweite!$D$6)^(B413-1)","v":9803.3801601100731},0,0,{"$f":"F413*Reichweite!$F$7","v":0},0,{"$f":"IF(H413>Reichweite!$D$4*Reichweite!$D$8,A413,\"\")","v":""}]
[410,35,0,{"$f":"Reichweite!$D$5*(1+Reichweite!$D$6)^(B414-1)","v":9803.3801601100731},0,0,{"$f":"F414*Reichweite!$F$7","v":0},0,{"$f":"IF(H414>Reichweite!$D$4*Reichweite!$D$8,A414,\"\")","v":""}]
[411,35,0,{"$f":"Reichweite!$D$5*(1+Reichweite!$D$6)^(B415-1)","v":9803.3801601100731},0,0,{"$f":"F415*Reichweite!$F$7","v":0},0,{"$f":"IF(H415>Reichweite!$D$4*Reichweite!$D$8,A415,\"\")","v":""}]
[412,35,0,{"$f":"Reichweite!$D$5*(1+Reichweite!$D$6)^(B416-1)","v":9803.3801601100731},0,0,{"$f":"F416*Reichweite!$F$7","v":0},0,{"$f":"IF(H416>Reichweite!$D$4*Reichweite!$D$8,A416,\"\")","v":""}]
[413,35,0,{"$f":"Reichweite!$D$5*(1+Reichweite!$D$6)^(B417-1)","v":9803.3801601100731},0,0,{"$f":"F417*Reichweite!$F$7","v":0},0,{"$f":"IF(H417>Reichweite!$D$4*Reichweite!$D$8,A417,\"\")","v":""}]
[414,35,0,{"$f":"Reichweite!$D$5*(1+Reichweite!$D$6)^(B418-1)","v":9803.3801601100731},0,0,{"$f":"F418*Reichweite!$F$7","v":0},0,{"$f":"IF(H418>Reichweite!$D$4*Reichweite!$D$8,A418,\"\")","v":""}]
[415,35,0,{"$f":"Reichweite!$D$5*(1+Reichweite!$D$6)^(B419-1)","v":9803.3801601100731},0,0,{"$f":"F419*Reichweite!$F$7","v":0},0,{"$f":"IF(H419>Reichweite!$D$4*Reichweite!$D$8,A419,\"\")","v":""}]
[416,35,0,{"$f":"Reichweite!$D$5*(1+Reichweite!$D$6)^(B420-1)","v":9803.3801601100731},0,0,{"$f":"F420*Reichweite!$F$7","v":0},0,{"$f":"IF(H420>Reichweite!$D$4*Reichweite!$D$8,A420,\"\")","v":""}]
[417,35,0,{"$f":"Reichweite!$D$5*(1+Reichweite!$D$6)^(B421-1)","v":9803.3801601100731},0,0,{"$f":"F421*Reichweite!$F$7","v":0},0,{"$f":"IF(H421>Reichweite!$D$4*Reichweite!$D$8,A421,\"\")","v":""}]
[418,35,0,{"$f":"Reichweite!$D$5*(1+Reichweite!$D$6)^(B422-1)","v":9803.3801601100731},0,0,{"$f":"F422*Reichweite!$F$7","v":0},0,{"$f":"IF(H422>Reichweite!$D$4*Reichweite!$D$8,A422,\"\")","v":""}]
[419,35,0,{"$f":"Reichweite!$D$5*(1+Reichweite!$D$6)^(B423-1)","v":9803.3801601100731},0,0,{"$f":"F423*Reichweite!$F$7","v":0},0,{"$f":"IF(H423>Reichweite!$D$4*Reichweite!$D$8,A423,\"\")","v":""}]
[420,36,0,{"$f":"Reichweite!$D$5*(1+Reichweite!$D$6)^(B424-1)","v":9999.4477633122733},0,0,{"$f":"F424*Reichweite!$F$7","v":0},0,{"$f":"IF(H424>Reichweite!$D$4*Reichweite!$D$8,A424,\"\")","v":""}]
[421,36,0,{"$f":"Reichweite!$D$5*(1+Reichweite!$D$6)^(B425-1)","v":9999.4477633122733},0,0,{"$f":"F425*Reichweite!$F$7","v":0},0,{"$f":"IF(H425>Reichweite!$D$4*Reichweite!$D$8,A425,\"\")","v":""}]
[422,36,0,{"$f":"Reichweite!$D$5*(1+Reichweite!$D$6)^(B426-1)","v":9999.4477633122733},0,0,{"$f":"F426*Reichweite!$F$7","v":0},0,{"$f":"IF(H426>Reichweite!$D$4*Reichweite!$D$8,A426,\"\")","v":""}]
[423,36,0,{"$f":"Reichweite!$D$5*(1+Reichweite!$D$6)^(B427-1)","v":9999.4477633122733},0,0,{"$f":"F427*Reichweite!$F$7","v":0},0,{"$f":"IF(H427>Reichweite!$D$4*Reichweite!$D$8,A427,\"\")","v":""}]
[424,36,0,{"$f":"Reichweite!$D$5*(1+Reichweite!$D$6)^(B428-1)","v":9999.4477633122733},0,0,{"$f":"F428*Reichweite!$F$7","v":0},0,{"$f":"IF(H428>Reichweite!$D$4*Reichweite!$D$8,A428,\"\")","v":""}]
[425,36,0,{"$f":"Reichweite!$D$5*(1+Reichweite!$D$6)^(B429-1)","v":9999.4477633122733},0,0,{"$f":"F429*Reichweite!$F$7","v":0},0,{"$f":"IF(H429>Reichweite!$D$4*Reichweite!$D$8,A429,\"\")","v":""}]
[426,36,0,{"$f":"Reichweite!$D$5*(1+Reichweite!$D$6)^(B430-1)","v":9999.4477633122733},0,0,{"$f":"F430*Reichweite!$F$7","v":0},0,{"$f":"IF(H430>Reichweite!$D$4*Reichweite!$D$8,A430,\"\")","v":""}]
[427,36,0,{"$f":"Reichweite!$D$5*(1+Reichweite!$D$6)^(B431-1)","v":9999.4477633122733},0,0,{"$f":"F431*Reichweite!$F$7","v":0},0,{"$f":"IF(H431>Reichweite!$D$4*Reichweite!$D$8,A431,\"\")","v":""}]
[428,36,0,{"$f":"Reichweite!$D$5*(1+Reichweite!$D$6)^(B432-1)","v":9999.4477633122733},0,0,{"$f":"F432*Reichweite!$F$7","v":0},0,{"$f":"IF(H432>Reichweite!$D$4*Reichweite!$D$8,A432,\"\")","v":""}]
[429,36,0,{"$f":"Reichweite!$D$5*(1+Reichweite!$D$6)^(B433-1)","v":9999.4477633122733},0,0,{"$f":"F433*Reichweite!$F$7","v":0},0,{"$f":"IF(H433>Reichweite!$D$4*Reichweite!$D$8,A433,\"\")","v":""}]
[430,36,0,{"$f":"Reichweite!$D$5*(1+Reichweite!$D$6)^(B434-1)","v":9999.4477633122733},0,0,{"$f":"F434*Reichweite!$F$7","v":0},0,{"$f":"IF(H434>Reichweite!$D$4*Reichweite!$D$8,A434,\"\")","v":""}]
[431,36,0,{"$f":"Reichweite!$D$5*(1+Reichweite!$D$6)^(B435-1)","v":9999.4477633122733},0,0,{"$f":"F435*Reichweite!$F$7","v":0},0,{"$f":"IF(H435>Reichweite!$D$4*Reichweite!$D$8,A435,\"\")","v":""}]
[432,37,0,{"$f":"Reichweite!$D$5*(1+Reichweite!$D$6)^(B436-1)","v":10199.436718578518},0,0,{"$f":"F436*Reichweite!$F$7","v":0},0,{"$f":"IF(H436>Reichweite!$D$4*Reichweite!$D$8,A436,\"\")","v":""}]
[433,37,0,{"$f":"Reichweite!$D$5*(1+Reichweite!$D$6)^(B437-1)","v":10199.436718578518},0,0,{"$f":"F437*Reichweite!$F$7","v":0},0,{"$f":"IF(H437>Reichweite!$D$4*Reichweite!$D$8,A437,\"\")","v":""}]
[434,37,0,{"$f":"Reichweite!$D$5*(1+Reichweite!$D$6)^(B438-1)","v":10199.436718578518},0,0,{"$f":"F438*Reichweite!$F$7","v":0},0,{"$f":"IF(H438>Reichweite!$D$4*Reichweite!$D$8,A438,\"\")","v":""}]
[435,37,0,{"$f":"Reichweite!$D$5*(1+Reichweite!$D$6)^(B439-1)","v":10199.436718578518},0,0,{"$f":"F439*Reichweite!$F$7","v":0},0,{"$f":"IF(H439>Reichweite!$D$4*Reichweite!$D$8,A439,\"\")","v":""}]
[436,37,0,{"$f":"Reichweite!$D$5*(1+Reichweite!$D$6)^(B440-1)","v":10199.436718578518},0,0,{"$f":"F440*Reichweite!$F$7","v":0},0,{"$f":"IF(H440>Reichweite!$D$4*Reichweite!$D$8,A440,\"\")","v":""}]
[437,37,0,{"$f":"Reichweite!$D$5*(1+Reichweite!$D$6)^(B441-1)","v":10199.436718578518},0,0,{"$f":"F441*Reichweite!$F$7","v":0},0,{"$f":"IF(H441>Reichweite!$D$4*Reichweite!$D$8,A441,\"\")","v":""}]
[438,37,0,{"$f":"Reichweite!$D$5*(1+Reichweite!$D$6)^(B442-1)","v":10199.436718578518},0,0,{"$f":"F442*Reichweite!$F$7","v":0},0,{"$f":"IF(H442>Reichweite!$D$4*Reichweite!$D$8,A442,\"\")","v":""}]
[439,37,0,{"$f":"Reichweite!$D$5*(1+Reichweite!$D$6)^(B443-1)","v":10199.436718578518},0,0,{"$f":"F443*Reichweite!$F$7","v":0},0,{"$f":"IF(H443>Reichweite!$D$4*Reichweite!$D$8,A443,\"\")","v":""}]
[440,37,0,{"$f":"Reichweite!$D$5*(1+Reichweite!$D$6)^(B444-1)","v":10199.436718578518},0,0,{"$f":"F444*Reichweite!$F$7","v":0},0,{"$f":"IF(H444>Reichweite!$D$4*Reichweite!$D$8,A444,\"\")","v":""}]
[441,37,0,{"$f":"Reichweite!$D$5*(1+Reichweite!$D$6)^(B445-1)","v":10199.436718578518},0,0,{"$f":"F445*Reichweite!$F$7","v":0},0,{"$f":"IF(H445>Reichweite!$D$4*Reichweite!$D$8,A445,\"\")","v":""}]
[442,37,0,{"$f":"Reichweite!$D$5*(1+Reichweite!$D$6)^(B446-1)","v":10199.436718578518},0,0,{"$f":"F446*Reichweite!$F$7","v":0},0,{"$f":"IF(H446>Reichweite!$D$4*Reichweite!$D$8,A446,\"\")","v":""}]
[443,37,0,{"$f":"Reichweite!$D$5*(1+Reichweite!$D$6)^(B447-1)","v":10199.436718578518},0,0,{"$f":"F447*Reichweite!$F$7","v":0},0,{"$f":"IF(H447>Reichweite!$D$4*Reichweite!$D$8,A447,\"\")","v":""}]
[444,38,0,{"$f":"Reichweite!$D$5*(1+Reichweite!$D$6)^(B448-1)","v":10403.42545295009},0,0,{"$f":"F448*Reichweite!$F$7","v":0},0,{"$f":"IF(H448>Reichweite!$D$4*Reichweite!$D$8,A448,\"\")","v":""}]
[445,38,0,{"$f":"Reichweite!$D$5*(1+Reichweite!$D$6)^(B449-1)","v":10403.42545295009},0,0,{"$f":"F449*Reichweite!$F$7","v":0},0,{"$f":"IF(H449>Reichweite!$D$4*Reichweite!$D$8,A449,\"\")","v":""}]
[446,38,0,{"$f":"Reichweite!$D$5*(1+Reichweite!$D$6)^(B450-1)","v":10403.42545295009},0,0,{"$f":"F450*Reichweite!$F$7","v":0},0,{"$f":"IF(H450>Reichweite!$D$4*Reichweite!$D$8,A450,\"\")","v":""}]
[447,38,0,{"$f":"Reichweite!$D$5*(1+Reichweite!$D$6)^(B451-1)","v":10403.42545295009},0,0,{"$f":"F451*Reichweite!$F$7","v":0},0,{"$f":"IF(H451>Reichweite!$D$4*Reichweite!$D$8,A451,\"\")","v":""}]
[448,{"$f":"INT(A452/12)+1","v":38},0,{"$f":"Reichweite!$D$5*(1+Reichweite!$D$6)^(B452-1)","v":10403.42545295009},{"$f":"MIN(D452,C452)","v":0},{"$f":"C452-E452","v":0},{"$f":"F452*Reichweite!$F$7","v":0},{"$f":"MAX(0,F452+G452)","v":0},{"$f":"IF(H452>Reichweite!$D$4*Reichweite!$D$8,A452,\"\")","v":""}]
[449,38,{"$f":"H452","v":0},{"$f":"Reichweite!$D$5*(1+Reichweite!$D$6)^(B453-1)","v":10403.42545295009},0,0,{"$f":"F453*Reichweite!$F$7","v":0},0,{"$f":"IF(H453>Reichweite!$D$4*Reichweite!$D$8,A453,\"\")","v":""}]
[450,38,0,{"$f":"Reichweite!$D$5*(1+Reichweite!$D$6)^(B454-1)","v":10403.42545295009},0,0,{"$f":"F454*Reichweite!$F$7","v":0},0,{"$f":"IF(H454>Reichweite!$D$4*Reichweite!$D$8,A454,\"\")","v":""}]
[451,38,0,{"$f":"Reichweite!$D$5*(1+Reichweite!$D$6)^(B455-1)","v":10403.42545295009},0,0,{"$f":"F455*Reichweite!$F$7","v":0},0,{"$f":"IF(H455>Reichweite!$D$4*Reichweite!$D$8,A455,\"\")","v":""}]
[452,38,0,{"$f":"Reichweite!$D$5*(1+Reichweite!$D$6)^(B456-1)","v":10403.42545295009},0,0,{"$f":"F456*Reichweite!$F$7","v":0},0,{"$f":"IF(H456>Reichweite!$D$4*Reichweite!$D$8,A456,\"\")","v":""}]
[453,38,0,{"$f":"Reichweite!$D$5*(1+Reichweite!$D$6)^(B457-1)","v":10403.42545295009},0,0,{"$f":"F457*Reichweite!$F$7","v":0},0,{"$f":"IF(H457>Reichweite!$D$4*Reichweite!$D$8,A457,\"\")","v":""}]
[454,38,0,{"$f":"Reichweite!$D$5*(1+Reichweite!$D$6)^(B458-1)","v":10403.42545295009},0,0,{"$f":"F458*Reichweite!$F$7","v":0},0,{"$f":"IF(H458>Reichweite!$D$4*Reichweite!$D$8,A458,\"\")","v":""}]
[455,38,0,{"$f":"Reichweite!$D$5*(1+Reichweite!$D$6)^(B459-1)","v":10403.42545295009},0,0,{"$f":"F459*Reichweite!$F$7","v":0},0,{"$f":"IF(H459>Reichweite!$D$4*Reichweite!$D$8,A459,\"\")","v":""}]
[456,39,0,{"$f":"Reichweite!$D$5*(1+Reichweite!$D$6)^(B460-1)","v":10611.493962009094},0,0,{"$f":"F460*Reichweite!$F$7","v":0},0,{"$f":"IF(H460>Reichweite!$D$4*Reichweite!$D$8,A460,\"\")","v":""}]
[457,39,0,{"$f":"Reichweite!$D$5*(1+Reichweite!$D$6)^(B461-1)","v":10611.493962009094},0,0,{"$f":"F461*Reichweite!$F$7","v":0},0,{"$f":"IF(H461>Reichweite!$D$4*Reichweite!$D$8,A461,\"\")","v":""}]
[458,39,0,{"$f":"Reichweite!$D$5*(1+Reichweite!$D$6)^(B462-1)","v":10611.493962009094},0,0,{"$f":"F462*Reichweite!$F$7","v":0},0,{"$f":"IF(H462>Reichweite!$D$4*Reichweite!$D$8,A462,\"\")","v":""}]
[459,39,0,{"$f":"Reichweite!$D$5*(1+Reichweite!$D$6)^(B463-1)","v":10611.493962009094},0,0,{"$f":"F463*Reichweite!$F$7","v":0},0,{"$f":"IF(H463>Reichweite!$D$4*Reichweite!$D$8,A463,\"\")","v":""}]
[460,39,0,{"$f":"Reichweite!$D$5*(1+Reichweite!$D$6)^(B464-1)","v":10611.493962009094},0,0,{"$f":"F464*Reichweite!$F$7","v":0},0,{"$f":"IF(H464>Reichweite!$D$4*Reichweite!$D$8,A464,\"\")","v":""}]
[461,39,0,{"$f":"Reichweite!$D$5*(1+Reichweite!$D$6)^(B465-1)","v":10611.493962009094},0,0,{"$f":"F465*Reichweite!$F$7","v":0},0,{"$f":"IF(H465>Reichweite!$D$4*Reichweite!$D$8,A465,\"\")","v":""}]
[462,39,0,{"$f":"Reichweite!$D$5*(1+Reichweite!$D$6)^(B466-1)","v":10611.493962009094},0,0,{"$f":"F466*Reichweite!$F$7","v":0},0,{"$f":"IF(H466>Reichweite!$D$4*Reichweite!$D$8,A466,\"\")","v":""}]
[463,39,0,{"$f":"Reichweite!$D$5*(1+Reichweite!$D$6)^(B467-1)","v":10611.493962009094},0,0,{"$f":"F467*Reichweite!$F$7","v":0},0,{"$f":"IF(H467>Reichweite!$D$4*Reichweite!$D$8,A467,\"\")","v":""}]
[464,39,0,{"$f":"Reichweite!$D$5*(1+Reichweite!$D$6)^(B468-1)","v":10611.493962009094},0,0,{"$f":"F468*Reichweite!$F$7","v":0},0,{"$f":"IF(H468>Reichweite!$D$4*Reichweite!$D$8,A468,\"\")","v":""}]
[465,39,0,{"$f":"Reichweite!$D$5*(1+Reichweite!$D$6)^(B469-1)","v":10611.493962009094},0,0,{"$f":"F469*Reichweite!$F$7","v":0},0,{"$f":"IF(H469>Reichweite!$D$4*Reichweite!$D$8,A469,\"\")","v":""}]
[466,39,0,{"$f":"Reichweite!$D$5*(1+Reichweite!$D$6)^(B470-1)","v":10611.493962009094},0,0,{"$f":"F470*Reichweite!$F$7","v":0},0,{"$f":"IF(H470>Reichweite!$D$4*Reichweite!$D$8,A470,\"\")","v":""}]
[467,39,0,{"$f":"Reichweite!$D$5*(1+Reichweite!$D$6)^(B471-1)","v":10611.493962009094},0,0,{"$f":"F471*Reichweite!$F$7","v":0},0,{"$f":"IF(H471>Reichweite!$D$4*Reichweite!$D$8,A471,\"\")","v":""}]
[468,40,0,{"$f":"Reichweite!$D$5*(1+Reichweite!$D$6)^(B472-1)","v":10823.723841249272},0,0,{"$f":"F472*Reichweite!$F$7","v":0},0,{"$f":"IF(H472>Reichweite!$D$4*Reichweite!$D$8,A472,\"\")","v":""}]
[469,40,0,{"$f":"Reichweite!$D$5*(1+Reichweite!$D$6)^(B473-1)","v":10823.723841249272},0,0,{"$f":"F473*Reichweite!$F$7","v":0},0,{"$f":"IF(H473>Reichweite!$D$4*Reichweite!$D$8,A473,\"\")","v":""}]
[470,40,0,{"$f":"Reichweite!$D$5*(1+Reichweite!$D$6)^(B474-1)","v":10823.723841249272},0,0,{"$f":"F474*Reichweite!$F$7","v":0},0,{"$f":"IF(H474>Reichweite!$D$4*Reichweite!$D$8,A474,\"\")","v":""}]
[471,40,0,{"$f":"Reichweite!$D$5*(1+Reichweite!$D$6)^(B475-1)","v":10823.723841249272},0,0,{"$f":"F475*Reichweite!$F$7","v":0},0,{"$f":"IF(H475>Reichweite!$D$4*Reichweite!$D$8,A475,\"\")","v":""}]
[472,40,0,{"$f":"Reichweite!$D$5*(1+Reichweite!$D$6)^(B476-1)","v":10823.723841249272},0,0,{"$f":"F476*Reichweite!$F$7","v":0},0,{"$f":"IF(H476>Reichweite!$D$4*Reichweite!$D$8,A476,\"\")","v":""}]
[473,40,0,{"$f":"Reichweite!$D$5*(1+Reichweite!$D$6)^(B477-1)","v":10823.723841249272},0,0,{"$f":"F477*Reichweite!$F$7","v":0},0,{"$f":"IF(H477>Reichweite!$D$4*Reichweite!$D$8,A477,\"\")","v":""}]
[474,40,0,{"$f":"Reichweite!$D$5*(1+Reichweite!$D$6)^(B478-1)","v":10823.723841249272},0,0,{"$f":"F478*Reichweite!$F$7","v":0},0,{"$f":"IF(H478>Reichweite!$D$4*Reichweite!$D$8,A478,\"\")","v":""}]
[475,40,0,{"$f":"Reichweite!$D$5*(1+Reichweite!$D$6)^(B479-1)","v":10823.723841249272},0,0,{"$f":"F479*Reichweite!$F$7","v":0},0,{"$f":"IF(H479>Reichweite!$D$4*Reichweite!$D$8,A479,\"\")","v":""}]
[476,40,0,{"$f":"Reichweite!$D$5*(1+Reichweite!$D$6)^(B480-1)","v":10823.723841249272},0,0,{"$f":"F480*Reichweite!$F$7","v":0},0,{"$f":"IF(H480>Reichweite!$D$4*Reichweite!$D$8,A480,\"\")","v":""}]
[477,40,0,{"$f":"Reichweite!$D$5*(1+Reichweite!$D$6)^(B481-1)","v":10823.723841249272},0,0,{"$f":"F481*Reichweite!$F$7","v":0},0,{"$f":"IF(H481>Reichweite!$D$4*Reichweite!$D$8,A481,\"\")","v":""}]
[478,40,0,{"$f":"Reichweite!$D$5*(1+Reichweite!$D$6)^(B482-1)","v":10823.723841249272},0,0,{"$f":"F482*Reichweite!$F$7","v":0},0,{"$f":"IF(H482>Reichweite!$D$4*Reichweite!$D$8,A482,\"\")","v":""}]
[479,40,0,{"$f":"Reichweite!$D$5*(1+Reichweite!$D$6)^(B483-1)","v":10823.723841249272},0,0,{"$f":"F483*Reichweite!$F$7","v":0},0,{"$f":"IF(H483>Reichweite!$D$4*Reichweite!$D$8,A483,\"\")","v":""}]
[480,41,0,{"$f":"Reichweite!$D$5*(1+Reichweite!$D$6)^(B484-1)","v":11040.198318074259},0,0,{"$f":"F484*Reichweite!$F$7","v":0},0,{"$f":"IF(H484>Reichweite!$D$4*Reichweite!$D$8,A484,\"\")","v":""}]
[481,41,0,{"$f":"Reichweite!$D$5*(1+Reichweite!$D$6)^(B485-1)","v":11040.198318074259},0,0,{"$f":"F485*Reichweite!$F$7","v":0},0,{"$f":"IF(H485>Reichweite!$D$4*Reichweite!$D$8,A485,\"\")","v":""}]
[482,41,0,{"$f":"Reichweite!$D$5*(1+Reichweite!$D$6)^(B486-1)","v":11040.198318074259},0,0,{"$f":"F486*Reichweite!$F$7","v":0},0,{"$f":"IF(H486>Reichweite!$D$4*Reichweite!$D$8,A486,\"\")","v":""}]
[483,41,0,{"$f":"Reichweite!$D$5*(1+Reichweite!$D$6)^(B487-1)","v":11040.198318074259},0,0,{"$f":"F487*Reichweite!$F$7","v":0},0,{"$f":"IF(H487>Reichweite!$D$4*Reichweite!$D$8,A487,\"\")","v":""}]
[484,41,0,{"$f":"Reichweite!$D$5*(1+Reichweite!$D$6)^(B488-1)","v":11040.198318074259},0,0,{"$f":"F488*Reichweite!$F$7","v":0},0,{"$f":"IF(H488>Reichweite!$D$4*Reichweite!$D$8,A488,\"\")","v":""}]
[485,41,0,{"$f":"Reichweite!$D$5*(1+Reichweite!$D$6)^(B489-1)","v":11040.198318074259},0,0,{"$f":"F489*Reichweite!$F$7","v":0},0,{"$f":"IF(H489>Reichweite!$D$4*Reichweite!$D$8,A489,\"\")","v":""}]
[486,41,0,{"$f":"Reichweite!$D$5*(1+Reichweite!$D$6)^(B490-1)","v":11040.198318074259},0,0,{"$f":"F490*Reichweite!$F$7","v":0},0,{"$f":"IF(H490>Reichweite!$D$4*Reichweite!$D$8,A490,\"\")","v":""}]
[487,41,0,{"$f":"Reichweite!$D$5*(1+Reichweite!$D$6)^(B491-1)","v":11040.198318074259},0,0,{"$f":"F491*Reichweite!$F$7","v":0},0,{"$f":"IF(H491>Reichweite!$D$4*Reichweite!$D$8,A491,\"\")","v":""}]
[488,41,0,{"$f":"Reichweite!$D$5*(1+Reichweite!$D$6)^(B492-1)","v":11040.198318074259},0,0,{"$f":"F492*Reichweite!$F$7","v":0},0,{"$f":"IF(H492>Reichweite!$D$4*Reichweite!$D$8,A492,\"\")","v":""}]
[489,41,0,{"$f":"Reichweite!$D$5*(1+Reichweite!$D$6)^(B493-1)","v":11040.198318074259},0,0,{"$f":"F493*Reichweite!$F$7","v":0},0,{"$f":"IF(H493>Reichweite!$D$4*Reichweite!$D$8,A493,\"\")","v":""}]
[490,41,0,{"$f":"Reichweite!$D$5*(1+Reichweite!$D$6)^(B494-1)","v":11040.198318074259},0,0,{"$f":"F494*Reichweite!$F$7","v":0},0,{"$f":"IF(H494>Reichweite!$D$4*Reichweite!$D$8,A494,\"\")","v":""}]
[491,41,0,{"$f":"Reichweite!$D$5*(1+Reichweite!$D$6)^(B495-1)","v":11040.198318074259},0,0,{"$f":"F495*Reichweite!$F$7","v":0},0,{"$f":"IF(H495>Reichweite!$D$4*Reichweite!$D$8,A495,\"\")","v":""}]
[492,42,0,{"$f":"Reichweite!$D$5*(1+Reichweite!$D$6)^(B496-1)","v":11261.002284435745},0,0,{"$f":"F496*Reichweite!$F$7","v":0},0,{"$f":"IF(H496>Reichweite!$D$4*Reichweite!$D$8,A496,\"\")","v":""}]
[493,42,0,{"$f":"Reichweite!$D$5*(1+Reichweite!$D$6)^(B497-1)","v":11261.002284435745},0,0,{"$f":"F497*Reichweite!$F$7","v":0},0,{"$f":"IF(H497>Reichweite!$D$4*Reichweite!$D$8,A497,\"\")","v":""}]
[494,42,0,{"$f":"Reichweite!$D$5*(1+Reichweite!$D$6)^(B498-1)","v":11261.002284435745},0,0,{"$f":"F498*Reichweite!$F$7","v":0},0,{"$f":"IF(H498>Reichweite!$D$4*Reichweite!$D$8,A498,\"\")","v":""}]
[495,42,0,{"$f":"Reichweite!$D$5*(1+Reichweite!$D$6)^(B499-1)","v":11261.002284435745},0,0,{"$f":"F499*Reichweite!$F$7","v":0},0,{"$f":"IF(H499>Reichweite!$D$4*Reichweite!$D$8,A499,\"\")","v":""}]
[496,42,0,{"$f":"Reichweite!$D$5*(1+Reichweite!$D$6)^(B500-1)","v":11261.002284435745},0,0,{"$f":"F500*Reichweite!$F$7","v":0},0,{"$f":"IF(H500>Reichweite!$D$4*Reichweite!$D$8,A500,\"\")","v":""}]
[497,42,0,{"$f":"Reichweite!$D$5*(1+Reichweite!$D$6)^(B501-1)","v":11261.002284435745},0,0,{"$f":"F501*Reichweite!$F$7","v":0},0,{"$f":"IF(H501>Reichweite!$D$4*Reichweite!$D$8,A501,\"\")","v":""}]
[498,42,0,{"$f":"Reichweite!$D$5*(1+Reichweite!$D$6)^(B502-1)","v":11261.002284435745},0,0,{"$f":"F502*Reichweite!$F$7","v":0},0,{"$f":"IF(H502>Reichweite!$D$4*Reichweite!$D$8,A502,\"\")","v":""}]
[499,42,0,{"$f":"Reichweite!$D$5*(1+Reichweite!$D$6)^(B503-1)","v":11261.002284435745},0,0,{"$f":"F503*Reichweite!$F$7","v":0},0,{"$f":"IF(H503>Reichweite!$D$4*Reichweite!$D$8,A503,\"\")","v":""}]
[500,42,0,{"$f":"Reichweite!$D$5*(1+Reichweite!$D$6)^(B504-1)","v":11261.002284435745},0,0,{"$f":"F504*Reichweite!$F$7","v":0},0,{"$f":"IF(H504>Reichweite!$D$4*Reichweite!$D$8,A504,\"\")","v":""}]
[501,42,0,{"$f":"Reichweite!$D$5*(1+Reichweite!$D$6)^(B505-1)","v":11261.002284435745},0,0,{"$f":"F505*Reichweite!$F$7","v":0},0,{"$f":"IF(H505>Reichweite!$D$4*Reichweite!$D$8,A505,\"\")","v":""}]
[502,42,0,{"$f":"Reichweite!$D$5*(1+Reichweite!$D$6)^(B506-1)","v":11261.002284435745},0,0,{"$f":"F506*Reichweite!$F$7","v":0},0,{"$f":"IF(H506>Reichweite!$D$4*Reichweite!$D$8,A506,\"\")","v":""}]
[503,42,0,{"$f":"Reichweite!$D$5*(1+Reichweite!$D$6)^(B507-1)","v":11261.002284435745},0,0,{"$f":"F507*Reichweite!$F$7","v":0},0,{"$f":"IF(H507>Reichweite!$D$4*Reichweite!$D$8,A507,\"\")","v":""}]
[504,43,0,{"$f":"Reichweite!$D$5*(1+Reichweite!$D$6)^(B508-1)","v":11486.222330124458},0,0,{"$f":"F508*Reichweite!$F$7","v":0},0,{"$f":"IF(H508>Reichweite!$D$4*Reichweite!$D$8,A508,\"\")","v":""}]
[505,43,0,{"$f":"Reichweite!$D$5*(1+Reichweite!$D$6)^(B509-1)","v":11486.222330124458},0,0,{"$f":"F509*Reichweite!$F$7","v":0},0,{"$f":"IF(H509>Reichweite!$D$4*Reichweite!$D$8,A509,\"\")","v":""}]
[506,43,0,{"$f":"Reichweite!$D$5*(1+Reichweite!$D$6)^(B510-1)","v":11486.222330124458},0,0,{"$f":"F510*Reichweite!$F$7","v":0},0,{"$f":"IF(H510>Reichweite!$D$4*Reichweite!$D$8,A510,\"\")","v":""}]
[507,43,0,{"$f":"Reichweite!$D$5*(1+Reichweite!$D$6)^(B511-1)","v":11486.222330124458},0,0,{"$f":"F511*Reichweite!$F$7","v":0},0,{"$f":"IF(H511>Reichweite!$D$4*Reichweite!$D$8,A511,\"\")","v":""}]
[508,43,0,{"$f":"Reichweite!$D$5*(1+Reichweite!$D$6)^(B512-1)","v":11486.222330124458},0,0,{"$f":"F512*Reichweite!$F$7","v":0},0,{"$f":"IF(H512>Reichweite!$D$4*Reichweite!$D$8,A512,\"\")","v":""}]
[509,43,0,{"$f":"Reichweite!$D$5*(1+Reichweite!$D$6)^(B513-1)","v":11486.222330124458},0,0,{"$f":"F513*Reichweite!$F$7","v":0},0,{"$f":"IF(H513>Reichweite!$D$4*Reichweite!$D$8,A513,\"\")","v":""}]
[510,43,0,{"$f":"Reichweite!$D$5*(1+Reichweite!$D$6)^(B514-1)","v":11486.222330124458},0,0,{"$f":"F514*Reichweite!$F$7","v":0},0,{"$f":"IF(H514>Reichweite!$D$4*Reichweite!$D$8,A514,\"\")","v":""}]
[511,43,0,{"$f":"Reichweite!$D$5*(1+Reichweite!$D$6)^(B515-1)","v":11486.222330124458},0,0,{"$f":"F515*Reichweite!$F$7","v":0},0,{"$f":"IF(H515>Reichweite!$D$4*Reichweite!$D$8,A515,\"\")","v":""}]
[512,{"$f":"INT(A516/12)+1","v":43},0,{"$f":"Reichweite!$D$5*(1+Reichweite!$D$6)^(B516-1)","v":11486.222330124458},{"$f":"MIN(D516,C516)","v":0},{"$f":"C516-E516","v":0},{"$f":"F516*Reichweite!$F$7","v":0},{"$f":"MAX(0,F516+G516)","v":0},{"$f":"IF(H516>Reichweite!$D$4*Reichweite!$D$8,A516,\"\")","v":""}]
[513,43,{"$f":"H516","v":0},{"$f":"Reichweite!$D$5*(1+Reichweite!$D$6)^(B517-1)","v":11486.222330124458},0,0,{"$f":"F517*Reichweite!$F$7","v":0},0,{"$f":"IF(H517>Reichweite!$D$4*Reichweite!$D$8,A517,\"\")","v":""}]
[514,43,0,{"$f":"Reichweite!$D$5*(1+Reichweite!$D$6)^(B518-1)","v":11486.222330124458},0,0,{"$f":"F518*Reichweite!$F$7","v":0},0,{"$f":"IF(H518>Reichweite!$D$4*Reichweite!$D$8,A518,\"\")","v":""}]
[515,43,0,{"$f":"Reichweite!$D$5*(1+Reichweite!$D$6)^(B519-1)","v":11486.222330124458},0,0,{"$f":"F519*Reichweite!$F$7","v":0},0,{"$f":"IF(H519>Reichweite!$D$4*Reichweite!$D$8,A519,\"\")","v":""}]
[516,44,0,{"$f":"Reichweite!$D$5*(1+Reichweite!$D$6)^(B520-1)","v":11715.946776726947},0,0,{"$f":"F520*Reichweite!$F$7","v":0},0,{"$f":"IF(H520>Reichweite!$D$4*Reichweite!$D$8,A520,\"\")","v":""}]
[517,44,0,{"$f":"Reichweite!$D$5*(1+Reichweite!$D$6)^(B521-1)","v":11715.946776726947},0,0,{"$f":"F521*Reichweite!$F$7","v":0},0,{"$f":"IF(H521>Reichweite!$D$4*Reichweite!$D$8,A521,\"\")","v":""}]
[518,44,0,{"$f":"Reichweite!$D$5*(1+Reichweite!$D$6)^(B522-1)","v":11715.946776726947},0,0,{"$f":"F522*Reichweite!$F$7","v":0},0,{"$f":"IF(H522>Reichweite!$D$4*Reichweite!$D$8,A522,\"\")","v":""}]
[519,44,0,{"$f":"Reichweite!$D$5*(1+Reichweite!$D$6)^(B523-1)","v":11715.946776726947},0,0,{"$f":"F523*Reichweite!$F$7","v":0},0,{"$f":"IF(H523>Reichweite!$D$4*Reichweite!$D$8,A523,\"\")","v":""}]
[520,44,0,{"$f":"Reichweite!$D$5*(1+Reichweite!$D$6)^(B524-1)","v":11715.946776726947},0,0,{"$f":"F524*Reichweite!$F$7","v":0},0,{"$f":"IF(H524>Reichweite!$D$4*Reichweite!$D$8,A524,\"\")","v":""}]
[521,44,0,{"$f":"Reichweite!$D$5*(1+Reichweite!$D$6)^(B525-1)","v":11715.946776726947},0,0,{"$f":"F525*Reichweite!$F$7","v":0},0,{"$f":"IF(H525>Reichweite!$D$4*Reichweite!$D$8,A525,\"\")","v":""}]
[522,44,0,{"$f":"Reichweite!$D$5*(1+Reichweite!$D$6)^(B526-1)","v":11715.946776726947},0,0,{"$f":"F526*Reichweite!$F$7","v":0},0,{"$f":"IF(H526>Reichweite!$D$4*Reichweite!$D$8,A526,\"\")","v":""}]
[523,44,0,{"$f":"Reichweite!$D$5*(1+Reichweite!$D$6)^(B527-1)","v":11715.946776726947},0,0,{"$f":"F527*Reichweite!$F$7","v":0},0,{"$f":"IF(H527>Reichweite!$D$4*Reichweite!$D$8,A527,\"\")","v":""}]
[524,44,0,{"$f":"Reichweite!$D$5*(1+Reichweite!$D$6)^(B528-1)","v":11715.946776726947},0,0,{"$f":"F528*Reichweite!$F$7","v":0},0,{"$f":"IF(H528>Reichweite!$D$4*Reichweite!$D$8,A528,\"\")","v":""}]
[525,44,0,{"$f":"Reichweite!$D$5*(1+Reichweite!$D$6)^(B529-1)","v":11715.946776726947},0,0,{"$f":"F529*Reichweite!$F$7","v":0},0,{"$f":"IF(H529>Reichweite!$D$4*Reichweite!$D$8,A529,\"\")","v":""}]
[526,44,0,{"$f":"Reichweite!$D$5*(1+Reichweite!$D$6)^(B530-1)","v":11715.946776726947},0,0,{"$f":"F530*Reichweite!$F$7","v":0},0,{"$f":"IF(H530>Reichweite!$D$4*Reichweite!$D$8,A530,\"\")","v":""}]
[527,44,0,{"$f":"Reichweite!$D$5*(1+Reichweite!$D$6)^(B531-1)","v":11715.946776726947},0,0,{"$f":"F531*Reichweite!$F$7","v":0},0,{"$f":"IF(H531>Reichweite!$D$4*Reichweite!$D$8,A531,\"\")","v":""}]
[528,45,0,{"$f":"Reichweite!$D$5*(1+Reichweite!$D$6)^(B532-1)","v":11950.265712261487},0,0,{"$f":"F532*Reichweite!$F$7","v":0},0,{"$f":"IF(H532>Reichweite!$D$4*Reichweite!$D$8,A532,\"\")","v":""}]
[529,45,0,{"$f":"Reichweite!$D$5*(1+Reichweite!$D$6)^(B533-1)","v":11950.265712261487},0,0,{"$f":"F533*Reichweite!$F$7","v":0},0,{"$f":"IF(H533>Reichweite!$D$4*Reichweite!$D$8,A533,\"\")","v":""}]
[530,45,0,{"$f":"Reichweite!$D$5*(1+Reichweite!$D$6)^(B534-1)","v":11950.265712261487},0,0,{"$f":"F534*Reichweite!$F$7","v":0},0,{"$f":"IF(H534>Reichweite!$D$4*Reichweite!$D$8,A534,\"\")","v":""}]
[531,45,0,{"$f":"Reichweite!$D$5*(1+Reichweite!$D$6)^(B535-1)","v":11950.265712261487},0,0,{"$f":"F535*Reichweite!$F$7","v":0},0,{"$f":"IF(H535>Reichweite!$D$4*Reichweite!$D$8,A535,\"\")","v":""}]
[532,45,0,{"$f":"Reichweite!$D$5*(1+Reichweite!$D$6)^(B536-1)","v":11950.265712261487},0,0,{"$f":"F536*Reichweite!$F$7","v":0},0,{"$f":"IF(H536>Reichweite!$D$4*Reichweite!$D$8,A536,\"\")","v":""}]
[533,45,0,{"$f":"Reichweite!$D$5*(1+Reichweite!$D$6)^(B537-1)","v":11950.265712261487},0,0,{"$f":"F537*Reichweite!$F$7","v":0},0,{"$f":"IF(H537>Reichweite!$D$4*Reichweite!$D$8,A537,\"\")","v":""}]
[534,45,0,{"$f":"Reichweite!$D$5*(1+Reichweite!$D$6)^(B538-1)","v":11950.265712261487},0,0,{"$f":"F538*Reichweite!$F$7","v":0},0,{"$f":"IF(H538>Reichweite!$D$4*Reichweite!$D$8,A538,\"\")","v":""}]
[535,45,0,{"$f":"Reichweite!$D$5*(1+Reichweite!$D$6)^(B539-1)","v":11950.265712261487},0,0,{"$f":"F539*Reichweite!$F$7","v":0},0,{"$f":"IF(H539>Reichweite!$D$4*Reichweite!$D$8,A539,\"\")","v":""}]
[536,45,0,{"$f":"Reichweite!$D$5*(1+Reichweite!$D$6)^(B540-1)","v":11950.265712261487},0,0,{"$f":"F540*Reichweite!$F$7","v":0},0,{"$f":"IF(H540>Reichweite!$D$4*Reichweite!$D$8,A540,\"\")","v":""}]
[537,45,0,{"$f":"Reichweite!$D$5*(1+Reichweite!$D$6)^(B541-1)","v":11950.265712261487},0,0,{"$f":"F541*Reichweite!$F$7","v":0},0,{"$f":"IF(H541>Reichweite!$D$4*Reichweite!$D$8,A541,\"\")","v":""}]
[538,45,0,{"$f":"Reichweite!$D$5*(1+Reichweite!$D$6)^(B542-1)","v":11950.265712261487},0,0,{"$f":"F542*Reichweite!$F$7","v":0},0,{"$f":"IF(H542>Reichweite!$D$4*Reichweite!$D$8,A542,\"\")","v":""}]
[539,45,0,{"$f":"Reichweite!$D$5*(1+Reichweite!$D$6)^(B543-1)","v":11950.265712261487},0,0,{"$f":"F543*Reichweite!$F$7","v":0},0,{"$f":"IF(H543>Reichweite!$D$4*Reichweite!$D$8,A543,\"\")","v":""}]
[540,46,0,{"$f":"Reichweite!$D$5*(1+Reichweite!$D$6)^(B544-1)","v":12189.271026506716},0,0,{"$f":"F544*Reichweite!$F$7","v":0},0,{"$f":"IF(H544>Reichweite!$D$4*Reichweite!$D$8,A544,\"\")","v":""}]
[541,46,0,{"$f":"Reichweite!$D$5*(1+Reichweite!$D$6)^(B545-1)","v":12189.271026506716},0,0,{"$f":"F545*Reichweite!$F$7","v":0},0,{"$f":"IF(H545>Reichweite!$D$4*Reichweite!$D$8,A545,\"\")","v":""}]
[542,46,0,{"$f":"Reichweite!$D$5*(1+Reichweite!$D$6)^(B546-1)","v":12189.271026506716},0,0,{"$f":"F546*Reichweite!$F$7","v":0},0,{"$f":"IF(H546>Reichweite!$D$4*Reichweite!$D$8,A546,\"\")","v":""}]
[543,46,0,{"$f":"Reichweite!$D$5*(1+Reichweite!$D$6)^(B547-1)","v":12189.271026506716},0,0,{"$f":"F547*Reichweite!$F$7","v":0},0,{"$f":"IF(H547>Reichweite!$D$4*Reichweite!$D$8,A547,\"\")","v":""}]
[544,46,0,{"$f":"Reichweite!$D$5*(1+Reichweite!$D$6)^(B548-1)","v":12189.271026506716},0,0,{"$f":"F548*Reichweite!$F$7","v":0},0,{"$f":"IF(H548>Reichweite!$D$4*Reichweite!$D$8,A548,\"\")","v":""}]
[545,46,0,{"$f":"Reichweite!$D$5*(1+Reichweite!$D$6)^(B549-1)","v":12189.271026506716},0,0,{"$f":"F549*Reichweite!$F$7","v":0},0,{"$f":"IF(H549>Reichweite!$D$4*Reichweite!$D$8,A549,\"\")","v":""}]
[546,46,0,{"$f":"Reichweite!$D$5*(1+Reichweite!$D$6)^(B550-1)","v":12189.271026506716},0,0,{"$f":"F550*Reichweite!$F$7","v":0},0,{"$f":"IF(H550>Reichweite!$D$4*Reichweite!$D$8,A550,\"\")","v":""}]
[547,46,0,{"$f":"Reichweite!$D$5*(1+Reichweite!$D$6)^(B551-1)","v":12189.271026506716},0,0,{"$f":"F551*Reichweite!$F$7","v":0},0,{"$f":"IF(H551>Reichweite!$D$4*Reichweite!$D$8,A551,\"\")","v":""}]
[548,46,0,{"$f":"Reichweite!$D$5*(1+Reichweite!$D$6)^(B552-1)","v":12189.271026506716},0,0,{"$f":"F552*Reichweite!$F$7","v":0},0,{"$f":"IF(H552>Reichweite!$D$4*Reichweite!$D$8,A552,\"\")","v":""}]
[549,46,0,{"$f":"Reichweite!$D$5*(1+Reichweite!$D$6)^(B553-1)","v":12189.271026506716},0,0,{"$f":"F553*Reichweite!$F$7","v":0},0,{"$f":"IF(H553>Reichweite!$D$4*Reichweite!$D$8,A553,\"\")","v":""}]
[550,46,0,{"$f":"Reichweite!$D$5*(1+Reichweite!$D$6)^(B554-1)","v":12189.271026506716},0,0,{"$f":"F554*Reichweite!$F$7","v":0},0,{"$f":"IF(H554>Reichweite!$D$4*Reichweite!$D$8,A554,\"\")","v":""}]
[551,46,0,{"$f":"Reichweite!$D$5*(1+Reichweite!$D$6)^(B555-1)","v":12189.271026506716},0,0,{"$f":"F555*Reichweite!$F$7","v":0},0,{"$f":"IF(H555>Reichweite!$D$4*Reichweite!$D$8,A555,\"\")","v":""}]
[552,47,0,{"$f":"Reichweite!$D$5*(1+Reichweite!$D$6)^(B556-1)","v":12433.056447036852},0,0,{"$f":"F556*Reichweite!$F$7","v":0},0,{"$f":"IF(H556>Reichweite!$D$4*Reichweite!$D$8,A556,\"\")","v":""}]
[553,47,0,{"$f":"Reichweite!$D$5*(1+Reichweite!$D$6)^(B557-1)","v":12433.056447036852},0,0,{"$f":"F557*Reichweite!$F$7","v":0},0,{"$f":"IF(H557>Reichweite!$D$4*Reichweite!$D$8,A557,\"\")","v":""}]
[554,47,0,{"$f":"Reichweite!$D$5*(1+Reichweite!$D$6)^(B558-1)","v":12433.056447036852},0,0,{"$f":"F558*Reichweite!$F$7","v":0},0,{"$f":"IF(H558>Reichweite!$D$4*Reichweite!$D$8,A558,\"\")","v":""}]
[555,47,0,{"$f":"Reichweite!$D$5*(1+Reichweite!$D$6)^(B559-1)","v":12433.056447036852},0,0,{"$f":"F559*Reichweite!$F$7","v":0},0,{"$f":"IF(H559>Reichweite!$D$4*Reichweite!$D$8,A559,\"\")","v":""}]
[556,47,0,{"$f":"Reichweite!$D$5*(1+Reichweite!$D$6)^(B560-1)","v":12433.056447036852},0,0,{"$f":"F560*Reichweite!$F$7","v":0},0,{"$f":"IF(H560>Reichweite!$D$4*Reichweite!$D$8,A560,\"\")","v":""}]
[557,47,0,{"$f":"Reichweite!$D$5*(1+Reichweite!$D$6)^(B561-1)","v":12433.056447036852},0,0,{"$f":"F561*Reichweite!$F$7","v":0},0,{"$f":"IF(H561>Reichweite!$D$4*Reichweite!$D$8,A561,\"\")","v":""}]
[558,47,0,{"$f":"Reichweite!$D$5*(1+Reichweite!$D$6)^(B562-1)","v":12433.056447036852},0,0,{"$f":"F562*Reichweite!$F$7","v":0},0,{"$f":"IF(H562>Reichweite!$D$4*Reichweite!$D$8,A562,\"\")","v":""}]
[559,47,0,{"$f":"Reichweite!$D$5*(1+Reichweite!$D$6)^(B563-1)","v":12433.056447036852},0,0,{"$f":"F563*Reichweite!$F$7","v":0},0,{"$f":"IF(H563>Reichweite!$D$4*Reichweite!$D$8,A563,\"\")","v":""}]
[560,47,0,{"$f":"Reichweite!$D$5*(1+Reichweite!$D$6)^(B564-1)","v":12433.056447036852},0,0,{"$f":"F564*Reichweite!$F$7","v":0},0,{"$f":"IF(H564>Reichweite!$D$4*Reichweite!$D$8,A564,\"\")","v":""}]
[561,47,0,{"$f":"Reichweite!$D$5*(1+Reichweite!$D$6)^(B565-1)","v":12433.056447036852},0,0,{"$f":"F565*Reichweite!$F$7","v":0},0,{"$f":"IF(H565>Reichweite!$D$4*Reichweite!$D$8,A565,\"\")","v":""}]
[562,47,0,{"$f":"Reichweite!$D$5*(1+Reichweite!$D$6)^(B566-1)","v":12433.056447036852},0,0,{"$f":"F566*Reichweite!$F$7","v":0},0,{"$f":"IF(H566>Reichweite!$D$4*Reichweite!$D$8,A566,\"\")","v":""}]
[563,47,0,{"$f":"Reichweite!$D$5*(1+Reichweite!$D$6)^(B567-1)","v":12433.056447036852},0,0,{"$f":"F567*Reichweite!$F$7","v":0},0,{"$f":"IF(H567>Reichweite!$D$4*Reichweite!$D$8,A567,\"\")","v":""}]
[564,48,0,{"$f":"Reichweite!$D$5*(1+Reichweite!$D$6)^(B568-1)","v":12681.717575977586},0,0,{"$f":"F568*Reichweite!$F$7","v":0},0,{"$f":"IF(H568>Reichweite!$D$4*Reichweite!$D$8,A568,\"\")","v":""}]
[565,48,0,{"$f":"Reichweite!$D$5*(1+Reichweite!$D$6)^(B569-1)","v":12681.717575977586},0,0,{"$f":"F569*Reichweite!$F$7","v":0},0,{"$f":"IF(H569>Reichweite!$D$4*Reichweite!$D$8,A569,\"\")","v":""}]
[566,48,0,{"$f":"Reichweite!$D$5*(1+Reichweite!$D$6)^(B570-1)","v":12681.717575977586},0,0,{"$f":"F570*Reichweite!$F$7","v":0},0,{"$f":"IF(H570>Reichweite!$D$4*Reichweite!$D$8,A570,\"\")","v":""}]
[567,48,0,{"$f":"Reichweite!$D$5*(1+Reichweite!$D$6)^(B571-1)","v":12681.717575977586},0,0,{"$f":"F571*Reichweite!$F$7","v":0},0,{"$f":"IF(H571>Reichweite!$D$4*Reichweite!$D$8,A571,\"\")","v":""}]
[568,48,0,{"$f":"Reichweite!$D$5*(1+Reichweite!$D$6)^(B572-1)","v":12681.717575977586},0,0,{"$f":"F572*Reichweite!$F$7","v":0},0,{"$f":"IF(H572>Reichweite!$D$4*Reichweite!$D$8,A572,\"\")","v":""}]
[569,48,0,{"$f":"Reichweite!$D$5*(1+Reichweite!$D$6)^(B573-1)","v":12681.717575977586},0,0,{"$f":"F573*Reichweite!$F$7","v":0},0,{"$f":"IF(H573>Reichweite!$D$4*Reichweite!$D$8,A573,\"\")","v":""}]
[570,48,0,{"$f":"Reichweite!$D$5*(1+Reichweite!$D$6)^(B574-1)","v":12681.717575977586},0,0,{"$f":"F574*Reichweite!$F$7","v":0},0,{"$f":"IF(H574>Reichweite!$D$4*Reichweite!$D$8,A574,\"\")","v":""}]
[571,48,0,{"$f":"Reichweite!$D$5*(1+Reichweite!$D$6)^(B575-1)","v":12681.717575977586},0,0,{"$f":"F575*Reichweite!$F$7","v":0},0,{"$f":"IF(H575>Reichweite!$D$4*Reichweite!$D$8,A575,\"\")","v":""}]
[572,48,0,{"$f":"Reichweite!$D$5*(1+Reichweite!$D$6)^(B576-1)","v":12681.717575977586},0,0,{"$f":"F576*Reichweite!$F$7","v":0},0,{"$f":"IF(H576>Reichweite!$D$4*Reichweite!$D$8,A576,\"\")","v":""}]
[573,48,0,{"$f":"Reichweite!$D$5*(1+Reichweite!$D$6)^(B577-1)","v":12681.717575977586},0,0,{"$f":"F577*Reichweite!$F$7","v":0},0,{"$f":"IF(H577>Reichweite!$D$4*Reichweite!$D$8,A577,\"\")","v":""}]
[574,48,0,{"$f":"Reichweite!$D$5*(1+Reichweite!$D$6)^(B578-1)","v":12681.717575977586},0,0,{"$f":"F578*Reichweite!$F$7","v":0},0,{"$f":"IF(H578>Reichweite!$D$4*Reichweite!$D$8,A578,\"\")","v":""}]
[575,48,0,{"$f":"Reichweite!$D$5*(1+Reichweite!$D$6)^(B579-1)","v":12681.717575977586},0,0,{"$f":"F579*Reichweite!$F$7","v":0},0,{"$f":"IF(H579>Reichweite!$D$4*Reichweite!$D$8,A579,\"\")","v":""}]
[576,{"$f":"INT(A580/12)+1","v":49},0,{"$f":"Reichweite!$D$5*(1+Reichweite!$D$6)^(B580-1)","v":12935.351927497139},{"$f":"MIN(D580,C580)","v":0},{"$f":"C580-E580","v":0},{"$f":"F580*Reichweite!$F$7","v":0},{"$f":"MAX(0,F580+G580)","v":0},{"$f":"IF(H580>Reichweite!$D$4*Reichweite!$D$8,A580,\"\")","v":""}]
[577,49,{"$f":"H580","v":0},{"$f":"Reichweite!$D$5*(1+Reichweite!$D$6)^(B581-1)","v":12935.351927497139},0,0,{"$f":"F581*Reichweite!$F$7","v":0},0,{"$f":"IF(H581>Reichweite!$D$4*Reichweite!$D$8,A581,\"\")","v":""}]
[578,49,0,{"$f":"Reichweite!$D$5*(1+Reichweite!$D$6)^(B582-1)","v":12935.351927497139},0,0,{"$f":"F582*Reichweite!$F$7","v":0},0,{"$f":"IF(H582>Reichweite!$D$4*Reichweite!$D$8,A582,\"\")","v":""}]
[579,49,0,{"$f":"Reichweite!$D$5*(1+Reichweite!$D$6)^(B583-1)","v":12935.351927497139},0,0,{"$f":"F583*Reichweite!$F$7","v":0},0,{"$f":"IF(H583>Reichweite!$D$4*Reichweite!$D$8,A583,\"\")","v":""}]
[580,49,0,{"$f":"Reichweite!$D$5*(1+Reichweite!$D$6)^(B584-1)","v":12935.351927497139},0,0,{"$f":"F584*Reichweite!$F$7","v":0},0,{"$f":"IF(H584>Reichweite!$D$4*Reichweite!$D$8,A584,\"\")","v":""}]
[581,49,0,{"$f":"Reichweite!$D$5*(1+Reichweite!$D$6)^(B585-1)","v":12935.351927497139},0,0,{"$f":"F585*Reichweite!$F$7","v":0},0,{"$f":"IF(H585>Reichweite!$D$4*Reichweite!$D$8,A585,\"\")","v":""}]
[582,49,0,{"$f":"Reichweite!$D$5*(1+Reichweite!$D$6)^(B586-1)","v":12935.351927497139},0,0,{"$f":"F586*Reichweite!$F$7","v":0},0,{"$f":"IF(H586>Reichweite!$D$4*Reichweite!$D$8,A586,\"\")","v":""}]
[583,49,0,{"$f":"Reichweite!$D$5*(1+Reichweite!$D$6)^(B587-1)","v":12935.351927497139},0,0,{"$f":"F587*Reichweite!$F$7","v":0},0,{"$f":"IF(H587>Reichweite!$D$4*Reichweite!$D$8,A587,\"\")","v":""}]
[584,49,0,{"$f":"Reichweite!$D$5*(1+Reichweite!$D$6)^(B588-1)","v":12935.351927497139},0,0,{"$f":"F588*Reichweite!$F$7","v":0},0,{"$f":"IF(H588>Reichweite!$D$4*Reichweite!$D$8,A588,\"\")","v":""}]
[585,49,0,{"$f":"Reichweite!$D$5*(1+Reichweite!$D$6)^(B589-1)","v":12935.351927497139},0,0,{"$f":"F589*Reichweite!$F$7","v":0},0,{"$f":"IF(H589>Reichweite!$D$4*Reichweite!$D$8,A589,\"\")","v":""}]
[586,49,0,{"$f":"Reichweite!$D$5*(1+Reichweite!$D$6)^(B590-1)","v":12935.351927497139},0,0,{"$f":"F590*Reichweite!$F$7","v":0},0,{"$f":"IF(H590>Reichweite!$D$4*Reichweite!$D$8,A590,\"\")","v":""}]
[587,49,0,{"$f":"Reichweite!$D$5*(1+Reichweite!$D$6)^(B591-1)","v":12935.351927497139},0,0,{"$f":"F591*Reichweite!$F$7","v":0},0,{"$f":"IF(H591>Reichweite!$D$4*Reichweite!$D$8,A591,\"\")","v":""}]
[588,50,0,{"$f":"Reichweite!$D$5*(1+Reichweite!$D$6)^(B592-1)","v":13194.058966047081},0,0,{"$f":"F592*Reichweite!$F$7","v":0},0,{"$f":"IF(H592>Reichweite!$D$4*Reichweite!$D$8,A592,\"\")","v":""}]
[589,50,0,{"$f":"Reichweite!$D$5*(1+Reichweite!$D$6)^(B593-1)","v":13194.058966047081},0,0,{"$f":"F593*Reichweite!$F$7","v":0},0,{"$f":"IF(H593>Reichweite!$D$4*Reichweite!$D$8,A593,\"\")","v":""}]
[590,50,0,{"$f":"Reichweite!$D$5*(1+Reichweite!$D$6)^(B594-1)","v":13194.058966047081},0,0,{"$f":"F594*Reichweite!$F$7","v":0},0,{"$f":"IF(H594>Reichweite!$D$4*Reichweite!$D$8,A594,\"\")","v":""}]
[591,50,0,{"$f":"Reichweite!$D$5*(1+Reichweite!$D$6)^(B595-1)","v":13194.058966047081},0,0,{"$f":"F595*Reichweite!$F$7","v":0},0,{"$f":"IF(H595>Reichweite!$D$4*Reichweite!$D$8,A595,\"\")","v":""}]
[592,50,0,{"$f":"Reichweite!$D$5*(1+Reichweite!$D$6)^(B596-1)","v":13194.058966047081},0,0,{"$f":"F596*Reichweite!$F$7","v":0},0,{"$f":"IF(H596>Reichweite!$D$4*Reichweite!$D$8,A596,\"\")","v":""}]
[593,50,0,{"$f":"Reichweite!$D$5*(1+Reichweite!$D$6)^(B597-1)","v":13194.058966047081},0,0,{"$f":"F597*Reichweite!$F$7","v":0},0,{"$f":"IF(H597>Reichweite!$D$4*Reichweite!$D$8,A597,\"\")","v":""}]
[594,50,0,{"$f":"Reichweite!$D$5*(1+Reichweite!$D$6)^(B598-1)","v":13194.058966047081},0,0,{"$f":"F598*Reichweite!$F$7","v":0},0,{"$f":"IF(H598>Reichweite!$D$4*Reichweite!$D$8,A598,\"\")","v":""}]
[595,50,0,{"$f":"Reichweite!$D$5*(1+Reichweite!$D$6)^(B599-1)","v":13194.058966047081},0,0,{"$f":"F599*Reichweite!$F$7","v":0},0,{"$f":"IF(H599>Reichweite!$D$4*Reichweite!$D$8,A599,\"\")","v":""}]
[596,50,0,{"$f":"Reichweite!$D$5*(1+Reichweite!$D$6)^(B600-1)","v":13194.058966047081},0,0,{"$f":"F600*Reichweite!$F$7","v":0},0,{"$f":"IF(H600>Reichweite!$D$4*Reichweite!$D$8,A600,\"\")","v":""}]
[597,50,0,{"$f":"Reichweite!$D$5*(1+Reichweite!$D$6)^(B601-1)","v":13194.058966047081},0,0,{"$f":"F601*Reichweite!$F$7","v":0},0,{"$f":"IF(H601>Reichweite!$D$4*Reichweite!$D$8,A601,\"\")","v":""}]
[598,50,0,{"$f":"Reichweite!$D$5*(1+Reichweite!$D$6)^(B602-1)","v":13194.058966047081},0,0,{"$f":"F602*Reichweite!$F$7","v":0},0,{"$f":"IF(H602>Reichweite!$D$4*Reichweite!$D$8,A602,\"\")","v":""}]
[599,50,0,{"$f":"Reichweite!$D$5*(1+Reichweite!$D$6)^(B603-1)","v":13194.058966047081},0,0,{"$f":"F603*Reichweite!$F$7","v":0},0,{"$f":"IF(H603>Reichweite!$D$4*Reichweite!$D$8,A603,\"\")","v":""}]
[600,51,0,{"$f":"Reichweite!$D$5*(1+Reichweite!$D$6)^(B604-1)","v":13457.940145368024},0,0,{"$f":"F604*Reichweite!$F$7","v":0},0,{"$f":"IF(H604>Reichweite!$D$4*Reichweite!$D$8,A604,\"\")","v":""}]
[601,51,0,{"$f":"Reichweite!$D$5*(1+Reichweite!$D$6)^(B605-1)","v":13457.940145368024},0,0,{"$f":"F605*Reichweite!$F$7","v":0},0,{"$f":"IF(H605>Reichweite!$D$4*Reichweite!$D$8,A605,\"\")","v":""}]
[602,51,0,{"$f":"Reichweite!$D$5*(1+Reichweite!$D$6)^(B606-1)","v":13457.940145368024},0,0,{"$f":"F606*Reichweite!$F$7","v":0},0,{"$f":"IF(H606>Reichweite!$D$4*Reichweite!$D$8,A606,\"\")","v":""}]
[603,51,0,{"$f":"Reichweite!$D$5*(1+Reichweite!$D$6)^(B607-1)","v":13457.940145368024},0,0,{"$f":"F607*Reichweite!$F$7","v":0},0,{"$f":"IF(H607>Reichweite!$D$4*Reichweite!$D$8,A607,\"\")","v":""}]
[604,51,0,{"$f":"Reichweite!$D$5*(1+Reichweite!$D$6)^(B608-1)","v":13457.940145368024},0,0,{"$f":"F608*Reichweite!$F$7","v":0},0,{"$f":"IF(H608>Reichweite!$D$4*Reichweite!$D$8,A608,\"\")","v":""}]
[605,51,0,{"$f":"Reichweite!$D$5*(1+Reichweite!$D$6)^(B609-1)","v":13457.940145368024},0,0,{"$f":"F609*Reichweite!$F$7","v":0},0,{"$f":"IF(H609>Reichweite!$D$4*Reichweite!$D$8,A609,\"\")","v":""}]
[606,51,0,{"$f":"Reichweite!$D$5*(1+Reichweite!$D$6)^(B610-1)","v":13457.940145368024},0,0,{"$f":"F610*Reichweite!$F$7","v":0},0,{"$f":"IF(H610>Reichweite!$D$4*Reichweite!$D$8,A610,\"\")","v":""}]
[607,51,0,{"$f":"Reichweite!$D$5*(1+Reichweite!$D$6)^(B611-1)","v":13457.940145368024},0,0,{"$f":"F611*Reichweite!$F$7","v":0},0,{"$f":"IF(H611>Reichweite!$D$4*Reichweite!$D$8,A611,\"\")","v":""}]
[608,51,0,{"$f":"Reichweite!$D$5*(1+Reichweite!$D$6)^(B612-1)","v":13457.940145368024},0,0,{"$f":"F612*Reichweite!$F$7","v":0},0,{"$f":"IF(H612>Reichweite!$D$4*Reichweite!$D$8,A612,\"\")","v":""}]
[609,51,0,{"$f":"Reichweite!$D$5*(1+Reichweite!$D$6)^(B613-1)","v":13457.940145368024},0,0,{"$f":"F613*Reichweite!$F$7","v":0},0,{"$f":"IF(H613>Reichweite!$D$4*Reichweite!$D$8,A613,\"\")","v":""}]
[610,51,0,{"$f":"Reichweite!$D$5*(1+Reichweite!$D$6)^(B614-1)","v":13457.940145368024},0,0,{"$f":"F614*Reichweite!$F$7","v":0},0,{"$f":"IF(H614>Reichweite!$D$4*Reichweite!$D$8,A614,\"\")","v":""}]
[611,51,0,{"$f":"Reichweite!$D$5*(1+Reichweite!$D$6)^(B615-1)","v":13457.940145368024},0,0,{"$f":"F615*Reichweite!$F$7","v":0},0,{"$f":"IF(H615>Reichweite!$D$4*Reichweite!$D$8,A615,\"\")","v":""}]
[612,52,0,{"$f":"Reichweite!$D$5*(1+Reichweite!$D$6)^(B616-1)","v":13727.098948275383},0,0,{"$f":"F616*Reichweite!$F$7","v":0},0,{"$f":"IF(H616>Reichweite!$D$4*Reichweite!$D$8,A616,\"\")","v":""}]
[613,52,0,{"$f":"Reichweite!$D$5*(1+Reichweite!$D$6)^(B617-1)","v":13727.098948275383},0,0,{"$f":"F617*Reichweite!$F$7","v":0},0,{"$f":"IF(H617>Reichweite!$D$4*Reichweite!$D$8,A617,\"\")","v":""}]
[614,52,0,{"$f":"Reichweite!$D$5*(1+Reichweite!$D$6)^(B618-1)","v":13727.098948275383},0,0,{"$f":"F618*Reichweite!$F$7","v":0},0,{"$f":"IF(H618>Reichweite!$D$4*Reichweite!$D$8,A618,\"\")","v":""}]
[615,52,0,{"$f":"Reichweite!$D$5*(1+Reichweite!$D$6)^(B619-1)","v":13727.098948275383},0,0,{"$f":"F619*Reichweite!$F$7","v":0},0,{"$f":"IF(H619>Reichweite!$D$4*Reichweite!$D$8,A619,\"\")","v":""}]
[616,52,0,{"$f":"Reichweite!$D$5*(1+Reichweite!$D$6)^(B620-1)","v":13727.098948275383},0,0,{"$f":"F620*Reichweite!$F$7","v":0},0,{"$f":"IF(H620>Reichweite!$D$4*Reichweite!$D$8,A620,\"\")","v":""}]
[617,52,0,{"$f":"Reichweite!$D$5*(1+Reichweite!$D$6)^(B621-1)","v":13727.098948275383},0,0,{"$f":"F621*Reichweite!$F$7","v":0},0,{"$f":"IF(H621>Reichweite!$D$4*Reichweite!$D$8,A621,\"\")","v":""}]
[618,52,0,{"$f":"Reichweite!$D$5*(1+Reichweite!$D$6)^(B622-1)","v":13727.098948275383},0,0,{"$f":"F622*Reichweite!$F$7","v":0},0,{"$f":"IF(H622>Reichweite!$D$4*Reichweite!$D$8,A622,\"\")","v":""}]
[619,52,0,{"$f":"Reichweite!$D$5*(1+Reichweite!$D$6)^(B623-1)","v":13727.098948275383},0,0,{"$f":"F623*Reichweite!$F$7","v":0},0,{"$f":"IF(H623>Reichweite!$D$4*Reichweite!$D$8,A623,\"\")","v":""}]
[620,52,0,{"$f":"Reichweite!$D$5*(1+Reichweite!$D$6)^(B624-1)","v":13727.098948275383},0,0,{"$f":"F624*Reichweite!$F$7","v":0},0,{"$f":"IF(H624>Reichweite!$D$4*Reichweite!$D$8,A624,\"\")","v":""}]
[621,52,0,{"$f":"Reichweite!$D$5*(1+Reichweite!$D$6)^(B625-1)","v":13727.098948275383},0,0,{"$f":"F625*Reichweite!$F$7","v":0},0,{"$f":"IF(H625>Reichweite!$D$4*Reichweite!$D$8,A625,\"\")","v":""}]
[622,52,0,{"$f":"Reichweite!$D$5*(1+Reichweite!$D$6)^(B626-1)","v":13727.098948275383},0,0,{"$f":"F626*Reichweite!$F$7","v":0},0,{"$f":"IF(H626>Reichweite!$D$4*Reichweite!$D$8,A626,\"\")","v":""}]
[623,52,0,{"$f":"Reichweite!$D$5*(1+Reichweite!$D$6)^(B627-1)","v":13727.098948275383},0,0,{"$f":"F627*Reichweite!$F$7","v":0},0,{"$f":"IF(H627>Reichweite!$D$4*Reichweite!$D$8,A627,\"\")","v":""}]
[624,53,0,{"$f":"Reichweite!$D$5*(1+Reichweite!$D$6)^(B628-1)","v":14001.640927240893},0,0,{"$f":"F628*Reichweite!$F$7","v":0},0,{"$f":"IF(H628>Reichweite!$D$4*Reichweite!$D$8,A628,\"\")","v":""}]
[625,53,0,{"$f":"Reichweite!$D$5*(1+Reichweite!$D$6)^(B629-1)","v":14001.640927240893},0,0,{"$f":"F629*Reichweite!$F$7","v":0},0,{"$f":"IF(H629>Reichweite!$D$4*Reichweite!$D$8,A629,\"\")","v":""}]
[626,53,0,{"$f":"Reichweite!$D$5*(1+Reichweite!$D$6)^(B630-1)","v":14001.640927240893},0,0,{"$f":"F630*Reichweite!$F$7","v":0},0,{"$f":"IF(H630>Reichweite!$D$4*Reichweite!$D$8,A630,\"\")","v":""}]
[627,53,0,{"$f":"Reichweite!$D$5*(1+Reichweite!$D$6)^(B631-1)","v":14001.640927240893},0,0,{"$f":"F631*Reichweite!$F$7","v":0},0,{"$f":"IF(H631>Reichweite!$D$4*Reichweite!$D$8,A631,\"\")","v":""}]
[628,53,0,{"$f":"Reichweite!$D$5*(1+Reichweite!$D$6)^(B632-1)","v":14001.640927240893},0,0,{"$f":"F632*Reichweite!$F$7","v":0},0,{"$f":"IF(H632>Reichweite!$D$4*Reichweite!$D$8,A632,\"\")","v":""}]
[629,53,0,{"$f":"Reichweite!$D$5*(1+Reichweite!$D$6)^(B633-1)","v":14001.640927240893},0,0,{"$f":"F633*Reichweite!$F$7","v":0},0,{"$f":"IF(H633>Reichweite!$D$4*Reichweite!$D$8,A633,\"\")","v":""}]
[630,53,0,{"$f":"Reichweite!$D$5*(1+Reichweite!$D$6)^(B634-1)","v":14001.640927240893},0,0,{"$f":"F634*Reichweite!$F$7","v":0},0,{"$f":"IF(H634>Reichweite!$D$4*Reichweite!$D$8,A634,\"\")","v":""}]
[631,53,0,{"$f":"Reichweite!$D$5*(1+Reichweite!$D$6)^(B635-1)","v":14001.640927240893},0,0,{"$f":"F635*Reichweite!$F$7","v":0},0,{"$f":"IF(H635>Reichweite!$D$4*Reichweite!$D$8,A635,\"\")","v":""}]
[632,53,0,{"$f":"Reichweite!$D$5*(1+Reichweite!$D$6)^(B636-1)","v":14001.640927240893},0,0,{"$f":"F636*Reichweite!$F$7","v":0},0,{"$f":"IF(H636>Reichweite!$D$4*Reichweite!$D$8,A636,\"\")","v":""}]
[633,53,0,{"$f":"Reichweite!$D$5*(1+Reichweite!$D$6)^(B637-1)","v":14001.640927240893},0,0,{"$f":"F637*Reichweite!$F$7","v":0},0,{"$f":"IF(H637>Reichweite!$D$4*Reichweite!$D$8,A637,\"\")","v":""}]
[634,53,0,{"$f":"Reichweite!$D$5*(1+Reichweite!$D$6)^(B638-1)","v":14001.640927240893},0,0,{"$f":"F638*Reichweite!$F$7","v":0},0,{"$f":"IF(H638>Reichweite!$D$4*Reichweite!$D$8,A638,\"\")","v":""}]
[635,53,0,{"$f":"Reichweite!$D$5*(1+Reichweite!$D$6)^(B639-1)","v":14001.640927240893},0,0,{"$f":"F639*Reichweite!$F$7","v":0},0,{"$f":"IF(H639>Reichweite!$D$4*Reichweite!$D$8,A639,\"\")","v":""}]
[636,54,0,{"$f":"Reichweite!$D$5*(1+Reichweite!$D$6)^(B640-1)","v":14281.673745785707},0,0,{"$f":"F640*Reichweite!$F$7","v":0},0,{"$f":"IF(H640>Reichweite!$D$4*Reichweite!$D$8,A640,\"\")","v":""}]
[637,54,0,{"$f":"Reichweite!$D$5*(1+Reichweite!$D$6)^(B641-1)","v":14281.673745785707},0,0,{"$f":"F641*Reichweite!$F$7","v":0},0,{"$f":"IF(H641>Reichweite!$D$4*Reichweite!$D$8,A641,\"\")","v":""}]
[638,54,0,{"$f":"Reichweite!$D$5*(1+Reichweite!$D$6)^(B642-1)","v":14281.673745785707},0,0,{"$f":"F642*Reichweite!$F$7","v":0},0,{"$f":"IF(H642>Reichweite!$D$4*Reichweite!$D$8,A642,\"\")","v":""}]
[639,54,0,{"$f":"Reichweite!$D$5*(1+Reichweite!$D$6)^(B643-1)","v":14281.673745785707},0,0,{"$f":"F643*Reichweite!$F$7","v":0},0,{"$f":"IF(H643>Reichweite!$D$4*Reichweite!$D$8,A643,\"\")","v":""}]
[640,{"$f":"INT(A644/12)+1","v":54},0,{"$f":"Reichweite!$D$5*(1+Reichweite!$D$6)^(B644-1)","v":14281.673745785707},{"$f":"MIN(D644,C644)","v":0},{"$f":"C644-E644","v":0},{"$f":"F644*Reichweite!$F$7","v":0},{"$f":"MAX(0,F644+G644)","v":0},{"$f":"IF(H644>Reichweite!$D$4*Reichweite!$D$8,A644,\"\")","v":""}]
[641,54,{"$f":"H644","v":0},{"$f":"Reichweite!$D$5*(1+Reichweite!$D$6)^(B645-1)","v":14281.673745785707},0,0,{"$f":"F645*Reichweite!$F$7","v":0},0,{"$f":"IF(H645>Reichweite!$D$4*Reichweite!$D$8,A645,\"\")","v":""}]
[642,54,0,{"$f":"Reichweite!$D$5*(1+Reichweite!$D$6)^(B646-1)","v":14281.673745785707},0,0,{"$f":"F646*Reichweite!$F$7","v":0},0,{"$f":"IF(H646>Reichweite!$D$4*Reichweite!$D$8,A646,\"\")","v":""}]
[643,54,0,{"$f":"Reichweite!$D$5*(1+Reichweite!$D$6)^(B647-1)","v":14281.673745785707},0,0,{"$f":"F647*Reichweite!$F$7","v":0},0,{"$f":"IF(H647>Reichweite!$D$4*Reichweite!$D$8,A647,\"\")","v":""}]
[644,54,0,{"$f":"Reichweite!$D$5*(1+Reichweite!$D$6)^(B648-1)","v":14281.673745785707},0,0,{"$f":"F648*Reichweite!$F$7","v":0},0,{"$f":"IF(H648>Reichweite!$D$4*Reichweite!$D$8,A648,\"\")","v":""}]
[645,54,0,{"$f":"Reichweite!$D$5*(1+Reichweite!$D$6)^(B649-1)","v":14281.673745785707},0,0,{"$f":"F649*Reichweite!$F$7","v":0},0,{"$f":"IF(H649>Reichweite!$D$4*Reichweite!$D$8,A649,\"\")","v":""}]
[646,54,0,{"$f":"Reichweite!$D$5*(1+Reichweite!$D$6)^(B650-1)","v":14281.673745785707},0,0,{"$f":"F650*Reichweite!$F$7","v":0},0,{"$f":"IF(H650>Reichweite!$D$4*Reichweite!$D$8,A650,\"\")","v":""}]
[647,54,0,{"$f":"Reichweite!$D$5*(1+Reichweite!$D$6)^(B651-1)","v":14281.673745785707},0,0,{"$f":"F651*Reichweite!$F$7","v":0},0,{"$f":"IF(H651>Reichweite!$D$4*Reichweite!$D$8,A651,\"\")","v":""}]
[648,55,0,{"$f":"Reichweite!$D$5*(1+Reichweite!$D$6)^(B652-1)","v":14567.307220701425},0,0,{"$f":"F652*Reichweite!$F$7","v":0},0,{"$f":"IF(H652>Reichweite!$D$4*Reichweite!$D$8,A652,\"\")","v":""}]
[649,55,0,{"$f":"Reichweite!$D$5*(1+Reichweite!$D$6)^(B653-1)","v":14567.307220701425},0,0,{"$f":"F653*Reichweite!$F$7","v":0},0,{"$f":"IF(H653>Reichweite!$D$4*Reichweite!$D$8,A653,\"\")","v":""}]
[650,55,0,{"$f":"Reichweite!$D$5*(1+Reichweite!$D$6)^(B654-1)","v":14567.307220701425},0,0,{"$f":"F654*Reichweite!$F$7","v":0},0,{"$f":"IF(H654>Reichweite!$D$4*Reichweite!$D$8,A654,\"\")","v":""}]
[651,55,0,{"$f":"Reichweite!$D$5*(1+Reichweite!$D$6)^(B655-1)","v":14567.307220701425},0,0,{"$f":"F655*Reichweite!$F$7","v":0},0,{"$f":"IF(H655>Reichweite!$D$4*Reichweite!$D$8,A655,\"\")","v":""}]
[652,55,0,{"$f":"Reichweite!$D$5*(1+Reichweite!$D$6)^(B656-1)","v":14567.307220701425},0,0,{"$f":"F656*Reichweite!$F$7","v":0},0,{"$f":"IF(H656>Reichweite!$D$4*Reichweite!$D$8,A656,\"\")","v":""}]
[653,55,0,{"$f":"Reichweite!$D$5*(1+Reichweite!$D$6)^(B657-1)","v":14567.307220701425},0,0,{"$f":"F657*Reichweite!$F$7","v":0},0,{"$f":"IF(H657>Reichweite!$D$4*Reichweite!$D$8,A657,\"\")","v":""}]
[654,55,0,{"$f":"Reichweite!$D$5*(1+Reichweite!$D$6)^(B658-1)","v":14567.307220701425},0,0,{"$f":"F658*Reichweite!$F$7","v":0},0,{"$f":"IF(H658>Reichweite!$D$4*Reichweite!$D$8,A658,\"\")","v":""}]
[655,55,0,{"$f":"Reichweite!$D$5*(1+Reichweite!$D$6)^(B659-1)","v":14567.307220701425},0,0,{"$f":"F659*Reichweite!$F$7","v":0},0,{"$f":"IF(H659>Reichweite!$D$4*Reichweite!$D$8,A659,\"\")","v":""}]
[656,55,0,{"$f":"Reichweite!$D$5*(1+Reichweite!$D$6)^(B660-1)","v":14567.307220701425},0,0,{"$f":"F660*Reichweite!$F$7","v":0},0,{"$f":"IF(H660>Reichweite!$D$4*Reichweite!$D$8,A660,\"\")","v":""}]
[657,55,0,{"$f":"Reichweite!$D$5*(1+Reichweite!$D$6)^(B661-1)","v":14567.307220701425},0,0,{"$f":"F661*Reichweite!$F$7","v":0},0,{"$f":"IF(H661>Reichweite!$D$4*Reichweite!$D$8,A661,\"\")","v":""}]
[658,55,0,{"$f":"Reichweite!$D$5*(1+Reichweite!$D$6)^(B662-1)","v":14567.307220701425},0,0,{"$f":"F662*Reichweite!$F$7","v":0},0,{"$f":"IF(H662>Reichweite!$D$4*Reichweite!$D$8,A662,\"\")","v":""}]
[659,55,0,{"$f":"Reichweite!$D$5*(1+Reichweite!$D$6)^(B663-1)","v":14567.307220701425},0,0,{"$f":"F663*Reichweite!$F$7","v":0},0,{"$f":"IF(H663>Reichweite!$D$4*Reichweite!$D$8,A663,\"\")","v":""}]
[660,56,0,{"$f":"Reichweite!$D$5*(1+Reichweite!$D$6)^(B664-1)","v":14858.653365115448},0,0,{"$f":"F664*Reichweite!$F$7","v":0},0,{"$f":"IF(H664>Reichweite!$D$4*Reichweite!$D$8,A664,\"\")","v":""}]
[661,56,0,{"$f":"Reichweite!$D$5*(1+Reichweite!$D$6)^(B665-1)","v":14858.653365115448},0,0,{"$f":"F665*Reichweite!$F$7","v":0},0,{"$f":"IF(H665>Reichweite!$D$4*Reichweite!$D$8,A665,\"\")","v":""}]
[662,56,0,{"$f":"Reichweite!$D$5*(1+Reichweite!$D$6)^(B666-1)","v":14858.653365115448},0,0,{"$f":"F666*Reichweite!$F$7","v":0},0,{"$f":"IF(H666>Reichweite!$D$4*Reichweite!$D$8,A666,\"\")","v":""}]
[663,56,0,{"$f":"Reichweite!$D$5*(1+Reichweite!$D$6)^(B667-1)","v":14858.653365115448},0,0,{"$f":"F667*Reichweite!$F$7","v":0},0,{"$f":"IF(H667>Reichweite!$D$4*Reichweite!$D$8,A667,\"\")","v":""}]
[664,56,0,{"$f":"Reichweite!$D$5*(1+Reichweite!$D$6)^(B668-1)","v":14858.653365115448},0,0,{"$f":"F668*Reichweite!$F$7","v":0},0,{"$f":"IF(H668>Reichweite!$D$4*Reichweite!$D$8,A668,\"\")","v":""}]
[665,56,0,{"$f":"Reichweite!$D$5*(1+Reichweite!$D$6)^(B669-1)","v":14858.653365115448},0,0,{"$f":"F669*Reichweite!$F$7","v":0},0,{"$f":"IF(H669>Reichweite!$D$4*Reichweite!$D$8,A669,\"\")","v":""}]
[666,56,0,{"$f":"Reichweite!$D$5*(1+Reichweite!$D$6)^(B670-1)","v":14858.653365115448},0,0,{"$f":"F670*Reichweite!$F$7","v":0},0,{"$f":"IF(H670>Reichweite!$D$4*Reichweite!$D$8,A670,\"\")","v":""}]
[667,56,0,{"$f":"Reichweite!$D$5*(1+Reichweite!$D$6)^(B671-1)","v":14858.653365115448},0,0,{"$f":"F671*Reichweite!$F$7","v":0},0,{"$f":"IF(H671>Reichweite!$D$4*Reichweite!$D$8,A671,\"\")","v":""}]
[668,56,0,{"$f":"Reichweite!$D$5*(1+Reichweite!$D$6)^(B672-1)","v":14858.653365115448},0,0,{"$f":"F672*Reichweite!$F$7","v":0},0,{"$f":"IF(H672>Reichweite!$D$4*Reichweite!$D$8,A672,\"\")","v":""}]
[669,56,0,{"$f":"Reichweite!$D$5*(1+Reichweite!$D$6)^(B673-1)","v":14858.653365115448},0,0,{"$f":"F673*Reichweite!$F$7","v":0},0,{"$f":"IF(H673>Reichweite!$D$4*Reichweite!$D$8,A673,\"\")","v":""}]
[670,56,0,{"$f":"Reichweite!$D$5*(1+Reichweite!$D$6)^(B674-1)","v":14858.653365115448},0,0,{"$f":"F674*Reichweite!$F$7","v":0},0,{"$f":"IF(H674>Reichweite!$D$4*Reichweite!$D$8,A674,\"\")","v":""}]
[671,56,0,{"$f":"Reichweite!$D$5*(1+Reichweite!$D$6)^(B675-1)","v":14858.653365115448},0,0,{"$f":"F675*Reichweite!$F$7","v":0},0,{"$f":"IF(H675>Reichweite!$D$4*Reichweite!$D$8,A675,\"\")","v":""}]
[672,57,0,{"$f":"Reichweite!$D$5*(1+Reichweite!$D$6)^(B676-1)","v":15155.826432417758},0,0,{"$f":"F676*Reichweite!$F$7","v":0},0,{"$f":"IF(H676>Reichweite!$D$4*Reichweite!$D$8,A676,\"\")","v":""}]
[673,57,0,{"$f":"Reichweite!$D$5*(1+Reichweite!$D$6)^(B677-1)","v":15155.826432417758},0,0,{"$f":"F677*Reichweite!$F$7","v":0},0,{"$f":"IF(H677>Reichweite!$D$4*Reichweite!$D$8,A677,\"\")","v":""}]
[674,57,0,{"$f":"Reichweite!$D$5*(1+Reichweite!$D$6)^(B678-1)","v":15155.826432417758},0,0,{"$f":"F678*Reichweite!$F$7","v":0},0,{"$f":"IF(H678>Reichweite!$D$4*Reichweite!$D$8,A678,\"\")","v":""}]
[675,57,0,{"$f":"Reichweite!$D$5*(1+Reichweite!$D$6)^(B679-1)","v":15155.826432417758},0,0,{"$f":"F679*Reichweite!$F$7","v":0},0,{"$f":"IF(H679>Reichweite!$D$4*Reichweite!$D$8,A679,\"\")","v":""}]
[676,57,0,{"$f":"Reichweite!$D$5*(1+Reichweite!$D$6)^(B680-1)","v":15155.826432417758},0,0,{"$f":"F680*Reichweite!$F$7","v":0},0,{"$f":"IF(H680>Reichweite!$D$4*Reichweite!$D$8,A680,\"\")","v":""}]
[677,57,0,{"$f":"Reichweite!$D$5*(1+Reichweite!$D$6)^(B681-1)","v":15155.826432417758},0,0,{"$f":"F681*Reichweite!$F$7","v":0},0,{"$f":"IF(H681>Reichweite!$D$4*Reichweite!$D$8,A681,\"\")","v":""}]
[678,57,0,{"$f":"Reichweite!$D$5*(1+Reichweite!$D$6)^(B682-1)","v":15155.826432417758},0,0,{"$f":"F682*Reichweite!$F$7","v":0},0,{"$f":"IF(H682>Reichweite!$D$4*Reichweite!$D$8,A682,\"\")","v":""}]
[679,57,0,{"$f":"Reichweite!$D$5*(1+Reichweite!$D$6)^(B683-1)","v":15155.826432417758},0,0,{"$f":"F683*Reichweite!$F$7","v":0},0,{"$f":"IF(H683>Reichweite!$D$4*Reichweite!$D$8,A683,\"\")","v":""}]
[680,57,0,{"$f":"Reichweite!$D$5*(1+Reichweite!$D$6)^(B684-1)","v":15155.826432417758},0,0,{"$f":"F684*Reichweite!$F$7","v":0},0,{"$f":"IF(H684>Reichweite!$D$4*Reichweite!$D$8,A684,\"\")","v":""}]
[681,57,0,{"$f":"Reichweite!$D$5*(1+Reichweite!$D$6)^(B685-1)","v":15155.826432417758},0,0,{"$f":"F685*Reichweite!$F$7","v":0},0,{"$f":"IF(H685>Reichweite!$D$4*Reichweite!$D$8,A685,\"\")","v":""}]
[682,57,0,{"$f":"Reichweite!$D$5*(1+Reichweite!$D$6)^(B686-1)","v":15155.826432417758},0,0,{"$f":"F686*Reichweite!$F$7","v":0},0,{"$f":"IF(H686>Reichweite!$D$4*Reichweite!$D$8,A686,\"\")","v":""}]
[683,57,0,{"$f":"Reichweite!$D$5*(1+Reichweite!$D$6)^(B687-1)","v":15155.826432417758},0,0,{"$f":"F687*Reichweite!$F$7","v":0},0,{"$f":"IF(H687>Reichweite!$D$4*Reichweite!$D$8,A687,\"\")","v":""}]
[684,58,0,{"$f":"Reichweite!$D$5*(1+Reichweite!$D$6)^(B688-1)","v":15458.942961066114},0,0,{"$f":"F688*Reichweite!$F$7","v":0},0,{"$f":"IF(H688>Reichweite!$D$4*Reichweite!$D$8,A688,\"\")","v":""}]
[685,58,0,{"$f":"Reichweite!$D$5*(1+Reichweite!$D$6)^(B689-1)","v":15458.942961066114},0,0,{"$f":"F689*Reichweite!$F$7","v":0},0,{"$f":"IF(H689>Reichweite!$D$4*Reichweite!$D$8,A689,\"\")","v":""}]
[686,58,0,{"$f":"Reichweite!$D$5*(1+Reichweite!$D$6)^(B690-1)","v":15458.942961066114},0,0,{"$f":"F690*Reichweite!$F$7","v":0},0,{"$f":"IF(H690>Reichweite!$D$4*Reichweite!$D$8,A690,\"\")","v":""}]
[687,58,0,{"$f":"Reichweite!$D$5*(1+Reichweite!$D$6)^(B691-1)","v":15458.942961066114},0,0,{"$f":"F691*Reichweite!$F$7","v":0},0,{"$f":"IF(H691>Reichweite!$D$4*Reichweite!$D$8,A691,\"\")","v":""}]
[688,58,0,{"$f":"Reichweite!$D$5*(1+Reichweite!$D$6)^(B692-1)","v":15458.942961066114},0,0,{"$f":"F692*Reichweite!$F$7","v":0},0,{"$f":"IF(H692>Reichweite!$D$4*Reichweite!$D$8,A692,\"\")","v":""}]
[689,58,0,{"$f":"Reichweite!$D$5*(1+Reichweite!$D$6)^(B693-1)","v":15458.942961066114},0,0,{"$f":"F693*Reichweite!$F$7","v":0},0,{"$f":"IF(H693>Reichweite!$D$4*Reichweite!$D$8,A693,\"\")","v":""}]
[690,58,0,{"$f":"Reichweite!$D$5*(1+Reichweite!$D$6)^(B694-1)","v":15458.942961066114},0,0,{"$f":"F694*Reichweite!$F$7","v":0},0,{"$f":"IF(H694>Reichweite!$D$4*Reichweite!$D$8,A694,\"\")","v":""}]
[691,58,0,{"$f":"Reichweite!$D$5*(1+Reichweite!$D$6)^(B695-1)","v":15458.942961066114},0,0,{"$f":"F695*Reichweite!$F$7","v":0},0,{"$f":"IF(H695>Reichweite!$D$4*Reichweite!$D$8,A695,\"\")","v":""}]
[692,58,0,{"$f":"Reichweite!$D$5*(1+Reichweite!$D$6)^(B696-1)","v":15458.942961066114},0,0,{"$f":"F696*Reichweite!$F$7","v":0},0,{"$f":"IF(H696>Reichweite!$D$4*Reichweite!$D$8,A696,\"\")","v":""}]
[693,58,0,{"$f":"Reichweite!$D$5*(1+Reichweite!$D$6)^(B697-1)","v":15458.942961066114},0,0,{"$f":"F697*Reichweite!$F$7","v":0},0,{"$f":"IF(H697>Reichweite!$D$4*Reichweite!$D$8,A697,\"\")","v":""}]
[694,58,0,{"$f":"Reichweite!$D$5*(1+Reichweite!$D$6)^(B698-1)","v":15458.942961066114},0,0,{"$f":"F698*Reichweite!$F$7","v":0},0,{"$f":"IF(H698>Reichweite!$D$4*Reichweite!$D$8,A698,\"\")","v":""}]
[695,58,0,{"$f":"Reichweite!$D$5*(1+Reichweite!$D$6)^(B699-1)","v":15458.942961066114},0,0,{"$f":"F699*Reichweite!$F$7","v":0},0,{"$f":"IF(H699>Reichweite!$D$4*Reichweite!$D$8,A699,\"\")","v":""}]
[696,59,0,{"$f":"Reichweite!$D$5*(1+Reichweite!$D$6)^(B700-1)","v":15768.121820287437},0,0,{"$f":"F700*Reichweite!$F$7","v":0},0,{"$f":"IF(H700>Reichweite!$D$4*Reichweite!$D$8,A700,\"\")","v":""}]
[697,59,0,{"$f":"Reichweite!$D$5*(1+Reichweite!$D$6)^(B701-1)","v":15768.121820287437},0,0,{"$f":"F701*Reichweite!$F$7","v":0},0,{"$f":"IF(H701>Reichweite!$D$4*Reichweite!$D$8,A701,\"\")","v":""}]
[698,59,0,{"$f":"Reichweite!$D$5*(1+Reichweite!$D$6)^(B702-1)","v":15768.121820287437},0,0,{"$f":"F702*Reichweite!$F$7","v":0},0,{"$f":"IF(H702>Reichweite!$D$4*Reichweite!$D$8,A702,\"\")","v":""}]
[699,59,0,{"$f":"Reichweite!$D$5*(1+Reichweite!$D$6)^(B703-1)","v":15768.121820287437},0,0,{"$f":"F703*Reichweite!$F$7","v":0},0,{"$f":"IF(H703>Reichweite!$D$4*Reichweite!$D$8,A703,\"\")","v":""}]
[700,59,0,{"$f":"Reichweite!$D$5*(1+Reichweite!$D$6)^(B704-1)","v":15768.121820287437},0,0,{"$f":"F704*Reichweite!$F$7","v":0},0,{"$f":"IF(H704>Reichweite!$D$4*Reichweite!$D$8,A704,\"\")","v":""}]
[701,59,0,{"$f":"Reichweite!$D$5*(1+Reichweite!$D$6)^(B705-1)","v":15768.121820287437},0,0,{"$f":"F705*Reichweite!$F$7","v":0},0,{"$f":"IF(H705>Reichweite!$D$4*Reichweite!$D$8,A705,\"\")","v":""}]
[702,59,0,{"$f":"Reichweite!$D$5*(1+Reichweite!$D$6)^(B706-1)","v":15768.121820287437},0,0,{"$f":"F706*Reichweite!$F$7","v":0},0,{"$f":"IF(H706>Reichweite!$D$4*Reichweite!$D$8,A706,\"\")","v":""}]
[703,59,0,{"$f":"Reichweite!$D$5*(1+Reichweite!$D$6)^(B707-1)","v":15768.121820287437},0,0,{"$f":"F707*Reichweite!$F$7","v":0},0,{"$f":"IF(H707>Reichweite!$D$4*Reichweite!$D$8,A707,\"\")","v":""}]
[704,{"$f":"INT(A708/12)+1","v":59},0,{"$f":"Reichweite!$D$5*(1+Reichweite!$D$6)^(B708-1)","v":15768.121820287437},{"$f":"MIN(D708,C708)","v":0},{"$f":"C708-E708","v":0},{"$f":"F708*Reichweite!$F$7","v":0},{"$f":"MAX(0,F708+G708)","v":0},{"$f":"IF(H708>Reichweite!$D$4*Reichweite!$D$8,A708,\"\")","v":""}]
[705,59,{"$f":"H708","v":0},{"$f":"Reichweite!$D$5*(1+Reichweite!$D$6)^(B709-1)","v":15768.121820287437},0,0,{"$f":"F709*Reichweite!$F$7","v":0},0,{"$f":"IF(H709>Reichweite!$D$4*Reichweite!$D$8,A709,\"\")","v":""}]
[706,59,0,{"$f":"Reichweite!$D$5*(1+Reichweite!$D$6)^(B710-1)","v":15768.121820287437},0,0,{"$f":"F710*Reichweite!$F$7","v":0},0,{"$f":"IF(H710>Reichweite!$D$4*Reichweite!$D$8,A710,\"\")","v":""}]
[707,59,0,{"$f":"Reichweite!$D$5*(1+Reichweite!$D$6)^(B711-1)","v":15768.121820287437},0,0,{"$f":"F711*Reichweite!$F$7","v":0},0,{"$f":"IF(H711>Reichweite!$D$4*Reichweite!$D$8,A711,\"\")","v":""}]
[708,60,0,{"$f":"Reichweite!$D$5*(1+Reichweite!$D$6)^(B712-1)","v":16083.484256693184},0,0,{"$f":"F712*Reichweite!$F$7","v":0},0,{"$f":"IF(H712>Reichweite!$D$4*Reichweite!$D$8,A712,\"\")","v":""}]
[709,60,0,{"$f":"Reichweite!$D$5*(1+Reichweite!$D$6)^(B713-1)","v":16083.484256693184},0,0,{"$f":"F713*Reichweite!$F$7","v":0},0,{"$f":"IF(H713>Reichweite!$D$4*Reichweite!$D$8,A713,\"\")","v":""}]
[710,60,0,{"$f":"Reichweite!$D$5*(1+Reichweite!$D$6)^(B714-1)","v":16083.484256693184},0,0,{"$f":"F714*Reichweite!$F$7","v":0},0,{"$f":"IF(H714>Reichweite!$D$4*Reichweite!$D$8,A714,\"\")","v":""}]
[711,60,0,{"$f":"Reichweite!$D$5*(1+Reichweite!$D$6)^(B715-1)","v":16083.484256693184},0,0,{"$f":"F715*Reichweite!$F$7","v":0},0,{"$f":"IF(H715>Reichweite!$D$4*Reichweite!$D$8,A715,\"\")","v":""}]
[712,60,0,{"$f":"Reichweite!$D$5*(1+Reichweite!$D$6)^(B716-1)","v":16083.484256693184},0,0,{"$f":"F716*Reichweite!$F$7","v":0},0,{"$f":"IF(H716>Reichweite!$D$4*Reichweite!$D$8,A716,\"\")","v":""}]
[713,60,0,{"$f":"Reichweite!$D$5*(1+Reichweite!$D$6)^(B717-1)","v":16083.484256693184},0,0,{"$f":"F717*Reichweite!$F$7","v":0},0,{"$f":"IF(H717>Reichweite!$D$4*Reichweite!$D$8,A717,\"\")","v":""}]
[714,60,0,{"$f":"Reichweite!$D$5*(1+Reichweite!$D$6)^(B718-1)","v":16083.484256693184},0,0,{"$f":"F718*Reichweite!$F$7","v":0},0,{"$f":"IF(H718>Reichweite!$D$4*Reichweite!$D$8,A718,\"\")","v":""}]
[715,60,0,{"$f":"Reichweite!$D$5*(1+Reichweite!$D$6)^(B719-1)","v":16083.484256693184},0,0,{"$f":"F719*Reichweite!$F$7","v":0},0,{"$f":"IF(H719>Reichweite!$D$4*Reichweite!$D$8,A719,\"\")","v":""}]
[716,60,0,{"$f":"Reichweite!$D$5*(1+Reichweite!$D$6)^(B720-1)","v":16083.484256693184},0,0,{"$f":"F720*Reichweite!$F$7","v":0},0,{"$f":"IF(H720>Reichweite!$D$4*Reichweite!$D$8,A720,\"\")","v":""}]
[717,60,0,{"$f":"Reichweite!$D$5*(1+Reichweite!$D$6)^(B721-1)","v":16083.484256693184},0,0,{"$f":"F721*Reichweite!$F$7","v":0},0,{"$f":"IF(H721>Reichweite!$D$4*Reichweite!$D$8,A721,\"\")","v":""}]
[718,60,0,{"$f":"Reichweite!$D$5*(1+Reichweite!$D$6)^(B722-1)","v":16083.484256693184},0,0,{"$f":"F722*Reichweite!$F$7","v":0},0,{"$f":"IF(H722>Reichweite!$D$4*Reichweite!$D$8,A722,\"\")","v":""}]
[719,60,0,{"$f":"Reichweite!$D$5*(1+Reichweite!$D$6)^(B723-1)","v":16083.484256693184},0,0,{"$f":"F723*Reichweite!$F$7","v":0},0,{"$f":"IF(H723>Reichweite!$D$4*Reichweite!$D$8,A723,\"\")","v":""}]
[720,61,0,{"$f":"Reichweite!$D$5*(1+Reichweite!$D$6)^(B724-1)","v":16405.153941827051},0,0,{"$f":"F724*Reichweite!$F$7","v":0},0,{"$f":"IF(H724>Reichweite!$D$4*Reichweite!$D$8,A724,\"\")","v":""}]
[721,61,0,{"$f":"Reichweite!$D$5*(1+Reichweite!$D$6)^(B725-1)","v":16405.153941827051},0,0,{"$f":"F725*Reichweite!$F$7","v":0},0,{"$f":"IF(H725>Reichweite!$D$4*Reichweite!$D$8,A725,\"\")","v":""}]
[722,61,0,{"$f":"Reichweite!$D$5*(1+Reichweite!$D$6)^(B726-1)","v":16405.153941827051},0,0,{"$f":"F726*Reichweite!$F$7","v":0},0,{"$f":"IF(H726>Reichweite!$D$4*Reichweite!$D$8,A726,\"\")","v":""}]
[723,61,0,{"$f":"Reichweite!$D$5*(1+Reichweite!$D$6)^(B727-1)","v":16405.153941827051},0,0,{"$f":"F727*Reichweite!$F$7","v":0},0,{"$f":"IF(H727>Reichweite!$D$4*Reichweite!$D$8,A727,\"\")","v":""}]
[724,61,0,{"$f":"Reichweite!$D$5*(1+Reichweite!$D$6)^(B728-1)","v":16405.153941827051},0,0,{"$f":"F728*Reichweite!$F$7","v":0},0,{"$f":"IF(H728>Reichweite!$D$4*Reichweite!$D$8,A728,\"\")","v":""}]
[725,61,0,{"$f":"Reichweite!$D$5*(1+Reichweite!$D$6)^(B729-1)","v":16405.153941827051},0,0,{"$f":"F729*Reichweite!$F$7","v":0},0,{"$f":"IF(H729>Reichweite!$D$4*Reichweite!$D$8,A729,\"\")","v":""}]
[726,61,0,{"$f":"Reichweite!$D$5*(1+Reichweite!$D$6)^(B730-1)","v":16405.153941827051},0,0,{"$f":"F730*Reichweite!$F$7","v":0},0,{"$f":"IF(H730>Reichweite!$D$4*Reichweite!$D$8,A730,\"\")","v":""}]
[727,61,0,{"$f":"Reichweite!$D$5*(1+Reichweite!$D$6)^(B731-1)","v":16405.153941827051},0,0,{"$f":"F731*Reichweite!$F$7","v":0},0,{"$f":"IF(H731>Reichweite!$D$4*Reichweite!$D$8,A731,\"\")","v":""}]
[728,61,0,{"$f":"Reichweite!$D$5*(1+Reichweite!$D$6)^(B732-1)","v":16405.153941827051},0,0,{"$f":"F732*Reichweite!$F$7","v":0},0,{"$f":"IF(H732>Reichweite!$D$4*Reichweite!$D$8,A732,\"\")","v":""}]
[729,61,0,{"$f":"Reichweite!$D$5*(1+Reichweite!$D$6)^(B733-1)","v":16405.153941827051},0,0,{"$f":"F733*Reichweite!$F$7","v":0},0,{"$f":"IF(H733>Reichweite!$D$4*Reichweite!$D$8,A733,\"\")","v":""}]
[730,61,0,{"$f":"Reichweite!$D$5*(1+Reichweite!$D$6)^(B734-1)","v":16405.153941827051},0,0,{"$f":"F734*Reichweite!$F$7","v":0},0,{"$f":"IF(H734>Reichweite!$D$4*Reichweite!$D$8,A734,\"\")","v":""}]
[731,61,0,{"$f":"Reichweite!$D$5*(1+Reichweite!$D$6)^(B735-1)","v":16405.153941827051},0,0,{"$f":"F735*Reichweite!$F$7","v":0},0,{"$f":"IF(H735>Reichweite!$D$4*Reichweite!$D$8,A735,\"\")","v":""}]
[732,62,0,{"$f":"Reichweite!$D$5*(1+Reichweite!$D$6)^(B736-1)","v":16733.25702066359},0,0,{"$f":"F736*Reichweite!$F$7","v":0},0,{"$f":"IF(H736>Reichweite!$D$4*Reichweite!$D$8,A736,\"\")","v":""}]
[733,62,0,{"$f":"Reichweite!$D$5*(1+Reichweite!$D$6)^(B737-1)","v":16733.25702066359},0,0,{"$f":"F737*Reichweite!$F$7","v":0},0,{"$f":"IF(H737>Reichweite!$D$4*Reichweite!$D$8,A737,\"\")","v":""}]
[734,62,0,{"$f":"Reichweite!$D$5*(1+Reichweite!$D$6)^(B738-1)","v":16733.25702066359},0,0,{"$f":"F738*Reichweite!$F$7","v":0},0,{"$f":"IF(H738>Reichweite!$D$4*Reichweite!$D$8,A738,\"\")","v":""}]
[735,62,0,{"$f":"Reichweite!$D$5*(1+Reichweite!$D$6)^(B739-1)","v":16733.25702066359},0,0,{"$f":"F739*Reichweite!$F$7","v":0},0,{"$f":"IF(H739>Reichweite!$D$4*Reichweite!$D$8,A739,\"\")","v":""}]
[736,62,0,{"$f":"Reichweite!$D$5*(1+Reichweite!$D$6)^(B740-1)","v":16733.25702066359},0,0,{"$f":"F740*Reichweite!$F$7","v":0},0,{"$f":"IF(H740>Reichweite!$D$4*Reichweite!$D$8,A740,\"\")","v":""}]
[737,62,0,{"$f":"Reichweite!$D$5*(1+Reichweite!$D$6)^(B741-1)","v":16733.25702066359},0,0,{"$f":"F741*Reichweite!$F$7","v":0},0,{"$f":"IF(H741>Reichweite!$D$4*Reichweite!$D$8,A741,\"\")","v":""}]
[738,62,0,{"$f":"Reichweite!$D$5*(1+Reichweite!$D$6)^(B742-1)","v":16733.25702066359},0,0,{"$f":"F742*Reichweite!$F$7","v":0},0,{"$f":"IF(H742>Reichweite!$D$4*Reichweite!$D$8,A742,\"\")","v":""}]
[739,62,0,{"$f":"Reichweite!$D$5*(1+Reichweite!$D$6)^(B743-1)","v":16733.25702066359},0,0,{"$f":"F743*Reichweite!$F$7","v":0},0,{"$f":"IF(H743>Reichweite!$D$4*Reichweite!$D$8,A743,\"\")","v":""}]
[740,62,0,{"$f":"Reichweite!$D$5*(1+Reichweite!$D$6)^(B744-1)","v":16733.25702066359},0,0,{"$f":"F744*Reichweite!$F$7","v":0},0,{"$f":"IF(H744>Reichweite!$D$4*Reichweite!$D$8,A744,\"\")","v":""}]
[741,62,0,{"$f":"Reichweite!$D$5*(1+Reichweite!$D$6)^(B745-1)","v":16733.25702066359},0,0,{"$f":"F745*Reichweite!$F$7","v":0},0,{"$f":"IF(H745>Reichweite!$D$4*Reichweite!$D$8,A745,\"\")","v":""}]
[742,62,0,{"$f":"Reichweite!$D$5*(1+Reichweite!$D$6)^(B746-1)","v":16733.25702066359},0,0,{"$f":"F746*Reichweite!$F$7","v":0},0,{"$f":"IF(H746>Reichweite!$D$4*Reichweite!$D$8,A746,\"\")","v":""}]
[743,62,0,{"$f":"Reichweite!$D$5*(1+Reichweite!$D$6)^(B747-1)","v":16733.25702066359},0,0,{"$f":"F747*Reichweite!$F$7","v":0},0,{"$f":"IF(H747>Reichweite!$D$4*Reichweite!$D$8,A747,\"\")","v":""}]
[744,63,0,{"$f":"Reichweite!$D$5*(1+Reichweite!$D$6)^(B748-1)","v":17067.922161076862},0,0,{"$f":"F748*Reichweite!$F$7","v":0},0,{"$f":"IF(H748>Reichweite!$D$4*Reichweite!$D$8,A748,\"\")","v":""}]
[745,63,0,{"$f":"Reichweite!$D$5*(1+Reichweite!$D$6)^(B749-1)","v":17067.922161076862},0,0,{"$f":"F749*Reichweite!$F$7","v":0},0,{"$f":"IF(H749>Reichweite!$D$4*Reichweite!$D$8,A749,\"\")","v":""}]
[746,63,0,{"$f":"Reichweite!$D$5*(1+Reichweite!$D$6)^(B750-1)","v":17067.922161076862},0,0,{"$f":"F750*Reichweite!$F$7","v":0},0,{"$f":"IF(H750>Reichweite!$D$4*Reichweite!$D$8,A750,\"\")","v":""}]
[747,63,0,{"$f":"Reichweite!$D$5*(1+Reichweite!$D$6)^(B751-1)","v":17067.922161076862},0,0,{"$f":"F751*Reichweite!$F$7","v":0},0,{"$f":"IF(H751>Reichweite!$D$4*Reichweite!$D$8,A751,\"\")","v":""}]
[748,63,0,{"$f":"Reichweite!$D$5*(1+Reichweite!$D$6)^(B752-1)","v":17067.922161076862},0,0,{"$f":"F752*Reichweite!$F$7","v":0},0,{"$f":"IF(H752>Reichweite!$D$4*Reichweite!$D$8,A752,\"\")","v":""}]
[749,63,0,{"$f":"Reichweite!$D$5*(1+Reichweite!$D$6)^(B753-1)","v":17067.922161076862},0,0,{"$f":"F753*Reichweite!$F$7","v":0},0,{"$f":"IF(H753>Reichweite!$D$4*Reichweite!$D$8,A753,\"\")","v":""}]
[750,63,0,{"$f":"Reichweite!$D$5*(1+Reichweite!$D$6)^(B754-1)","v":17067.922161076862},0,0,{"$f":"F754*Reichweite!$F$7","v":0},0,{"$f":"IF(H754>Reichweite!$D$4*Reichweite!$D$8,A754,\"\")","v":""}]
[751,63,0,{"$f":"Reichweite!$D$5*(1+Reichweite!$D$6)^(B755-1)","v":17067.922161076862},0,0,{"$f":"F755*Reichweite!$F$7","v":0},0,{"$f":"IF(H755>Reichweite!$D$4*Reichweite!$D$8,A755,\"\")","v":""}]
[752,63,0,{"$f":"Reichweite!$D$5*(1+Reichweite!$D$6)^(B756-1)","v":17067.922161076862},0,0,{"$f":"F756*Reichweite!$F$7","v":0},0,{"$f":"IF(H756>Reichweite!$D$4*Reichweite!$D$8,A756,\"\")","v":""}]
[753,63,0,{"$f":"Reichweite!$D$5*(1+Reichweite!$D$6)^(B757-1)","v":17067.922161076862},0,0,{"$f":"F757*Reichweite!$F$7","v":0},0,{"$f":"IF(H757>Reichweite!$D$4*Reichweite!$D$8,A757,\"\")","v":""}]
[754,63,0,{"$f":"Reichweite!$D$5*(1+Reichweite!$D$6)^(B758-1)","v":17067.922161076862},0,0,{"$f":"F758*Reichweite!$F$7","v":0},0,{"$f":"IF(H758>Reichweite!$D$4*Reichweite!$D$8,A758,\"\")","v":""}]
[755,63,0,{"$f":"Reichweite!$D$5*(1+Reichweite!$D$6)^(B759-1)","v":17067.922161076862},0,0,{"$f":"F759*Reichweite!$F$7","v":0},0,{"$f":"IF(H759>Reichweite!$D$4*Reichweite!$D$8,A759,\"\")","v":""}]
[756,64,0,{"$f":"Reichweite!$D$5*(1+Reichweite!$D$6)^(B760-1)","v":17409.280604298398},0,0,{"$f":"F760*Reichweite!$F$7","v":0},0,{"$f":"IF(H760>Reichweite!$D$4*Reichweite!$D$8,A760,\"\")","v":""}]
[757,64,0,{"$f":"Reichweite!$D$5*(1+Reichweite!$D$6)^(B761-1)","v":17409.280604298398},0,0,{"$f":"F761*Reichweite!$F$7","v":0},0,{"$f":"IF(H761>Reichweite!$D$4*Reichweite!$D$8,A761,\"\")","v":""}]
[758,64,0,{"$f":"Reichweite!$D$5*(1+Reichweite!$D$6)^(B762-1)","v":17409.280604298398},0,0,{"$f":"F762*Reichweite!$F$7","v":0},0,{"$f":"IF(H762>Reichweite!$D$4*Reichweite!$D$8,A762,\"\")","v":""}]
[759,64,0,{"$f":"Reichweite!$D$5*(1+Reichweite!$D$6)^(B763-1)","v":17409.280604298398},0,0,{"$f":"F763*Reichweite!$F$7","v":0},0,{"$f":"IF(H763>Reichweite!$D$4*Reichweite!$D$8,A763,\"\")","v":""}]
[760,64,0,{"$f":"Reichweite!$D$5*(1+Reichweite!$D$6)^(B764-1)","v":17409.280604298398},0,0,{"$f":"F764*Reichweite!$F$7","v":0},0,{"$f":"IF(H764>Reichweite!$D$4*Reichweite!$D$8,A764,\"\")","v":""}]
[761,64,0,{"$f":"Reichweite!$D$5*(1+Reichweite!$D$6)^(B765-1)","v":17409.280604298398},0,0,{"$f":"F765*Reichweite!$F$7","v":0},0,{"$f":"IF(H765>Reichweite!$D$4*Reichweite!$D$8,A765,\"\")","v":""}]
[762,64,0,{"$f":"Reichweite!$D$5*(1+Reichweite!$D$6)^(B766-1)","v":17409.280604298398},0,0,{"$f":"F766*Reichweite!$F$7","v":0},0,{"$f":"IF(H766>Reichweite!$D$4*Reichweite!$D$8,A766,\"\")","v":""}]
[763,64,0,{"$f":"Reichweite!$D$5*(1+Reichweite!$D$6)^(B767-1)","v":17409.280604298398},0,0,{"$f":"F767*Reichweite!$F$7","v":0},0,{"$f":"IF(H767>Reichweite!$D$4*Reichweite!$D$8,A767,\"\")","v":""}]
[764,64,0,{"$f":"Reichweite!$D$5*(1+Reichweite!$D$6)^(B768-1)","v":17409.280604298398},0,0,{"$f":"F768*Reichweite!$F$7","v":0},0,{"$f":"IF(H768>Reichweite!$D$4*Reichweite!$D$8,A768,\"\")","v":""}]
[765,64,0,{"$f":"Reichweite!$D$5*(1+Reichweite!$D$6)^(B769-1)","v":17409.280604298398},0,0,{"$f":"F769*Reichweite!$F$7","v":0},0,{"$f":"IF(H769>Reichweite!$D$4*Reichweite!$D$8,A769,\"\")","v":""}]
[766,64,0,{"$f":"Reichweite!$D$5*(1+Reichweite!$D$6)^(B770-1)","v":17409.280604298398},0,0,{"$f":"F770*Reichweite!$F$7","v":0},0,{"$f":"IF(H770>Reichweite!$D$4*Reichweite!$D$8,A770,\"\")","v":""}]
[767,64,0,{"$f":"Reichweite!$D$5*(1+Reichweite!$D$6)^(B771-1)","v":17409.280604298398},0,0,{"$f":"F771*Reichweite!$F$7","v":0},0,{"$f":"IF(H771>Reichweite!$D$4*Reichweite!$D$8,A771,\"\")","v":""}]
[768,{"$f":"INT(A772/12)+1","v":65},0,{"$f":"Reichweite!$D$5*(1+Reichweite!$D$6)^(B772-1)","v":17757.466216384368},{"$f":"MIN(D772,C772)","v":0},{"$f":"C772-E772","v":0},{"$f":"F772*Reichweite!$F$7","v":0},{"$f":"MAX(0,F772+G772)","v":0},{"$f":"IF(H772>Reichweite!$D$4*Reichweite!$D$8,A772,\"\")","v":""}]
[769,65,{"$f":"H772","v":0},{"$f":"Reichweite!$D$5*(1+Reichweite!$D$6)^(B773-1)","v":17757.466216384368},0,0,{"$f":"F773*Reichweite!$F$7","v":0},0,{"$f":"IF(H773>Reichweite!$D$4*Reichweite!$D$8,A773,\"\")","v":""}]
[770,65,0,{"$f":"Reichweite!$D$5*(1+Reichweite!$D$6)^(B774-1)","v":17757.466216384368},0,0,{"$f":"F774*Reichweite!$F$7","v":0},0,{"$f":"IF(H774>Reichweite!$D$4*Reichweite!$D$8,A774,\"\")","v":""}]
[771,65,0,{"$f":"Reichweite!$D$5*(1+Reichweite!$D$6)^(B775-1)","v":17757.466216384368},0,0,{"$f":"F775*Reichweite!$F$7","v":0},0,{"$f":"IF(H775>Reichweite!$D$4*Reichweite!$D$8,A775,\"\")","v":""}]
[772,65,0,{"$f":"Reichweite!$D$5*(1+Reichweite!$D$6)^(B776-1)","v":17757.466216384368},0,0,{"$f":"F776*Reichweite!$F$7","v":0},0,{"$f":"IF(H776>Reichweite!$D$4*Reichweite!$D$8,A776,\"\")","v":""}]
[773,65,0,{"$f":"Reichweite!$D$5*(1+Reichweite!$D$6)^(B777-1)","v":17757.466216384368},0,0,{"$f":"F777*Reichweite!$F$7","v":0},0,{"$f":"IF(H777>Reichweite!$D$4*Reichweite!$D$8,A777,\"\")","v":""}]
[774,65,0,{"$f":"Reichweite!$D$5*(1+Reichweite!$D$6)^(B778-1)","v":17757.466216384368},0,0,{"$f":"F778*Reichweite!$F$7","v":0},0,{"$f":"IF(H778>Reichweite!$D$4*Reichweite!$D$8,A778,\"\")","v":""}]
[775,65,0,{"$f":"Reichweite!$D$5*(1+Reichweite!$D$6)^(B779-1)","v":17757.466216384368},0,0,{"$f":"F779*Reichweite!$F$7","v":0},0,{"$f":"IF(H779>Reichweite!$D$4*Reichweite!$D$8,A779,\"\")","v":""}]
[776,65,0,{"$f":"Reichweite!$D$5*(1+Reichweite!$D$6)^(B780-1)","v":17757.466216384368},0,0,{"$f":"F780*Reichweite!$F$7","v":0},0,{"$f":"IF(H780>Reichweite!$D$4*Reichweite!$D$8,A780,\"\")","v":""}]
[777,65,0,{"$f":"Reichweite!$D$5*(1+Reichweite!$D$6)^(B781-1)","v":17757.466216384368},0,0,{"$f":"F781*Reichweite!$F$7","v":0},0,{"$f":"IF(H781>Reichweite!$D$4*Reichweite!$D$8,A781,\"\")","v":""}]
[778,65,0,{"$f":"Reichweite!$D$5*(1+Reichweite!$D$6)^(B782-1)","v":17757.466216384368},0,0,{"$f":"F782*Reichweite!$F$7","v":0},0,{"$f":"IF(H782>Reichweite!$D$4*Reichweite!$D$8,A782,\"\")","v":""}]
[779,65,0,{"$f":"Reichweite!$D$5*(1+Reichweite!$D$6)^(B783-1)","v":17757.466216384368},0,0,{"$f":"F783*Reichweite!$F$7","v":0},0,{"$f":"IF(H783>Reichweite!$D$4*Reichweite!$D$8,A783,\"\")","v":""}]
[780,66,0,{"$f":"Reichweite!$D$5*(1+Reichweite!$D$6)^(B784-1)","v":18112.615540712057},0,0,{"$f":"F784*Reichweite!$F$7","v":0},0,{"$f":"IF(H784>Reichweite!$D$4*Reichweite!$D$8,A784,\"\")","v":""}]
[781,66,0,{"$f":"Reichweite!$D$5*(1+Reichweite!$D$6)^(B785-1)","v":18112.615540712057},0,0,{"$f":"F785*Reichweite!$F$7","v":0},0,{"$f":"IF(H785>Reichweite!$D$4*Reichweite!$D$8,A785,\"\")","v":""}]
[782,66,0,{"$f":"Reichweite!$D$5*(1+Reichweite!$D$6)^(B786-1)","v":18112.615540712057},0,0,{"$f":"F786*Reichweite!$F$7","v":0},0,{"$f":"IF(H786>Reichweite!$D$4*Reichweite!$D$8,A786,\"\")","v":""}]
[783,66,0,{"$f":"Reichweite!$D$5*(1+Reichweite!$D$6)^(B787-1)","v":18112.615540712057},0,0,{"$f":"F787*Reichweite!$F$7","v":0},0,{"$f":"IF(H787>Reichweite!$D$4*Reichweite!$D$8,A787,\"\")","v":""}]
[784,66,0,{"$f":"Reichweite!$D$5*(1+Reichweite!$D$6)^(B788-1)","v":18112.615540712057},0,0,{"$f":"F788*Reichweite!$F$7","v":0},0,{"$f":"IF(H788>Reichweite!$D$4*Reichweite!$D$8,A788,\"\")","v":""}]
[785,66,0,{"$f":"Reichweite!$D$5*(1+Reichweite!$D$6)^(B789-1)","v":18112.615540712057},0,0,{"$f":"F789*Reichweite!$F$7","v":0},0,{"$f":"IF(H789>Reichweite!$D$4*Reichweite!$D$8,A789,\"\")","v":""}]
[786,66,0,{"$f":"Reichweite!$D$5*(1+Reichweite!$D$6)^(B790-1)","v":18112.615540712057},0,0,{"$f":"F790*Reichweite!$F$7","v":0},0,{"$f":"IF(H790>Reichweite!$D$4*Reichweite!$D$8,A790,\"\")","v":""}]
[787,66,0,{"$f":"Reichweite!$D$5*(1+Reichweite!$D$6)^(B791-1)","v":18112.615540712057},0,0,{"$f":"F791*Reichweite!$F$7","v":0},0,{"$f":"IF(H791>Reichweite!$D$4*Reichweite!$D$8,A791,\"\")","v":""}]
[788,66,0,{"$f":"Reichweite!$D$5*(1+Reichweite!$D$6)^(B792-1)","v":18112.615540712057},0,0,{"$f":"F792*Reichweite!$F$7","v":0},0,{"$f":"IF(H792>Reichweite!$D$4*Reichweite!$D$8,A792,\"\")","v":""}]
[789,66,0,{"$f":"Reichweite!$D$5*(1+Reichweite!$D$6)^(B793-1)","v":18112.615540712057},0,0,{"$f":"F793*Reichweite!$F$7","v":0},0,{"$f":"IF(H793>Reichweite!$D$4*Reichweite!$D$8,A793,\"\")","v":""}]
[790,66,0,{"$f":"Reichweite!$D$5*(1+Reichweite!$D$6)^(B794-1)","v":18112.615540712057},0,0,{"$f":"F794*Reichweite!$F$7","v":0},0,{"$f":"IF(H794>Reichweite!$D$4*Reichweite!$D$8,A794,\"\")","v":""}]
[791,66,0,{"$f":"Reichweite!$D$5*(1+Reichweite!$D$6)^(B795-1)","v":18112.615540712057},0,0,{"$f":"F795*Reichweite!$F$7","v":0},0,{"$f":"IF(H795>Reichweite!$D$4*Reichweite!$D$8,A795,\"\")","v":""}]
[792,67,0,{"$f":"Reichweite!$D$5*(1+Reichweite!$D$6)^(B796-1)","v":18474.867851526295},0,0,{"$f":"F796*Reichweite!$F$7","v":0},0,{"$f":"IF(H796>Reichweite!$D$4*Reichweite!$D$8,A796,\"\")","v":""}]
[793,67,0,{"$f":"Reichweite!$D$5*(1+Reichweite!$D$6)^(B797-1)","v":18474.867851526295},0,0,{"$f":"F797*Reichweite!$F$7","v":0},0,{"$f":"IF(H797>Reichweite!$D$4*Reichweite!$D$8,A797,\"\")","v":""}]
[794,67,0,{"$f":"Reichweite!$D$5*(1+Reichweite!$D$6)^(B798-1)","v":18474.867851526295},0,0,{"$f":"F798*Reichweite!$F$7","v":0},0,{"$f":"IF(H798>Reichweite!$D$4*Reichweite!$D$8,A798,\"\")","v":""}]
[795,67,0,{"$f":"Reichweite!$D$5*(1+Reichweite!$D$6)^(B799-1)","v":18474.867851526295},0,0,{"$f":"F799*Reichweite!$F$7","v":0},0,{"$f":"IF(H799>Reichweite!$D$4*Reichweite!$D$8,A799,\"\")","v":""}]
[796,67,0,{"$f":"Reichweite!$D$5*(1+Reichweite!$D$6)^(B800-1)","v":18474.867851526295},0,0,{"$f":"F800*Reichweite!$F$7","v":0},0,{"$f":"IF(H800>Reichweite!$D$4*Reichweite!$D$8,A800,\"\")","v":""}]
[797,67,0,{"$f":"Reichweite!$D$5*(1+Reichweite!$D$6)^(B801-1)","v":18474.867851526295},0,0,{"$f":"F801*Reichweite!$F$7","v":0},0,{"$f":"IF(H801>Reichweite!$D$4*Reichweite!$D$8,A801,\"\")","v":""}]
[798,67,0,{"$f":"Reichweite!$D$5*(1+Reichweite!$D$6)^(B802-1)","v":18474.867851526295},0,0,{"$f":"F802*Reichweite!$F$7","v":0},0,{"$f":"IF(H802>Reichweite!$D$4*Reichweite!$D$8,A802,\"\")","v":""}]
[799,67,0,{"$f":"Reichweite!$D$5*(1+Reichweite!$D$6)^(B803-1)","v":18474.867851526295},0,0,{"$f":"F803*Reichweite!$F$7","v":0},0,{"$f":"IF(H803>Reichweite!$D$4*Reichweite!$D$8,A803,\"\")","v":""}]
[800,67,0,{"$f":"Reichweite!$D$5*(1+Reichweite!$D$6)^(B804-1)","v":18474.867851526295},0,0,{"$f":"F804*Reichweite!$F$7","v":0},0,{"$f":"IF(H804>Reichweite!$D$4*Reichweite!$D$8,A804,\"\")","v":""}]
[801,67,0,{"$f":"Reichweite!$D$5*(1+Reichweite!$D$6)^(B805-1)","v":18474.867851526295},0,0,{"$f":"F805*Reichweite!$F$7","v":0},0,{"$f":"IF(H805>Reichweite!$D$4*Reichweite!$D$8,A805,\"\")","v":""}]
[802,67,0,{"$f":"Reichweite!$D$5*(1+Reichweite!$D$6)^(B806-1)","v":18474.867851526295},0,0,{"$f":"F806*Reichweite!$F$7","v":0},0,{"$f":"IF(H806>Reichweite!$D$4*Reichweite!$D$8,A806,\"\")","v":""}]
[803,67,0,{"$f":"Reichweite!$D$5*(1+Reichweite!$D$6)^(B807-1)","v":18474.867851526295},0,0,{"$f":"F807*Reichweite!$F$7","v":0},0,{"$f":"IF(H807>Reichweite!$D$4*Reichweite!$D$8,A807,\"\")","v":""}]
[804,68,0,{"$f":"Reichweite!$D$5*(1+Reichweite!$D$6)^(B808-1)","v":18844.365208556821},0,0,{"$f":"F808*Reichweite!$F$7","v":0},0,{"$f":"IF(H808>Reichweite!$D$4*Reichweite!$D$8,A808,\"\")","v":""}]
[805,68,0,{"$f":"Reichweite!$D$5*(1+Reichweite!$D$6)^(B809-1)","v":18844.365208556821},0,0,{"$f":"F809*Reichweite!$F$7","v":0},0,{"$f":"IF(H809>Reichweite!$D$4*Reichweite!$D$8,A809,\"\")","v":""}]
[806,68,0,{"$f":"Reichweite!$D$5*(1+Reichweite!$D$6)^(B810-1)","v":18844.365208556821},0,0,{"$f":"F810*Reichweite!$F$7","v":0},0,{"$f":"IF(H810>Reichweite!$D$4*Reichweite!$D$8,A810,\"\")","v":""}]
[807,68,0,{"$f":"Reichweite!$D$5*(1+Reichweite!$D$6)^(B811-1)","v":18844.365208556821},0,0,{"$f":"F811*Reichweite!$F$7","v":0},0,{"$f":"IF(H811>Reichweite!$D$4*Reichweite!$D$8,A811,\"\")","v":""}]
[808,68,0,{"$f":"Reichweite!$D$5*(1+Reichweite!$D$6)^(B812-1)","v":18844.365208556821},0,0,{"$f":"F812*Reichweite!$F$7","v":0},0,{"$f":"IF(H812>Reichweite!$D$4*Reichweite!$D$8,A812,\"\")","v":""}]
[809,68,0,{"$f":"Reichweite!$D$5*(1+Reichweite!$D$6)^(B813-1)","v":18844.365208556821},0,0,{"$f":"F813*Reichweite!$F$7","v":0},0,{"$f":"IF(H813>Reichweite!$D$4*Reichweite!$D$8,A813,\"\")","v":""}]
[810,68,0,{"$f":"Reichweite!$D$5*(1+Reichweite!$D$6)^(B814-1)","v":18844.365208556821},0,0,{"$f":"F814*Reichweite!$F$7","v":0},0,{"$f":"IF(H814>Reichweite!$D$4*Reichweite!$D$8,A814,\"\")","v":""}]
[811,68,0,{"$f":"Reichweite!$D$5*(1+Reichweite!$D$6)^(B815-1)","v":18844.365208556821},0,0,{"$f":"F815*Reichweite!$F$7","v":0},0,{"$f":"IF(H815>Reichweite!$D$4*Reichweite!$D$8,A815,\"\")","v":""}]
[812,68,0,{"$f":"Reichweite!$D$5*(1+Reichweite!$D$6)^(B816-1)","v":18844.365208556821},0,0,{"$f":"F816*Reichweite!$F$7","v":0},0,{"$f":"IF(H816>Reichweite!$D$4*Reichweite!$D$8,A816,\"\")","v":""}]
[813,68,0,{"$f":"Reichweite!$D$5*(1+Reichweite!$D$6)^(B817-1)","v":18844.365208556821},0,0,{"$f":"F817*Reichweite!$F$7","v":0},0,{"$f":"IF(H817>Reichweite!$D$4*Reichweite!$D$8,A817,\"\")","v":""}]
[814,68,0,{"$f":"Reichweite!$D$5*(1+Reichweite!$D$6)^(B818-1)","v":18844.365208556821},0,0,{"$f":"F818*Reichweite!$F$7","v":0},0,{"$f":"IF(H818>Reichweite!$D$4*Reichweite!$D$8,A818,\"\")","v":""}]
[815,68,0,{"$f":"Reichweite!$D$5*(1+Reichweite!$D$6)^(B819-1)","v":18844.365208556821},0,0,{"$f":"F819*Reichweite!$F$7","v":0},0,{"$f":"IF(H819>Reichweite!$D$4*Reichweite!$D$8,A819,\"\")","v":""}]
[816,69,0,{"$f":"Reichweite!$D$5*(1+Reichweite!$D$6)^(B820-1)","v":19221.252512727959},0,0,{"$f":"F820*Reichweite!$F$7","v":0},0,{"$f":"IF(H820>Reichweite!$D$4*Reichweite!$D$8,A820,\"\")","v":""}]
[817,69,0,{"$f":"Reichweite!$D$5*(1+Reichweite!$D$6)^(B821-1)","v":19221.252512727959},0,0,{"$f":"F821*Reichweite!$F$7","v":0},0,{"$f":"IF(H821>Reichweite!$D$4*Reichweite!$D$8,A821,\"\")","v":""}]
[818,69,0,{"$f":"Reichweite!$D$5*(1+Reichweite!$D$6)^(B822-1)","v":19221.252512727959},0,0,{"$f":"F822*Reichweite!$F$7","v":0},0,{"$f":"IF(H822>Reichweite!$D$4*Reichweite!$D$8,A822,\"\")","v":""}]
[819,69,0,{"$f":"Reichweite!$D$5*(1+Reichweite!$D$6)^(B823-1)","v":19221.252512727959},0,0,{"$f":"F823*Reichweite!$F$7","v":0},0,{"$f":"IF(H823>Reichweite!$D$4*Reichweite!$D$8,A823,\"\")","v":""}]
[820,69,0,{"$f":"Reichweite!$D$5*(1+Reichweite!$D$6)^(B824-1)","v":19221.252512727959},0,0,{"$f":"F824*Reichweite!$F$7","v":0},0,{"$f":"IF(H824>Reichweite!$D$4*Reichweite!$D$8,A824,\"\")","v":""}]
[821,69,0,{"$f":"Reichweite!$D$5*(1+Reichweite!$D$6)^(B825-1)","v":19221.252512727959},0,0,{"$f":"F825*Reichweite!$F$7","v":0},0,{"$f":"IF(H825>Reichweite!$D$4*Reichweite!$D$8,A825,\"\")","v":""}]
[822,69,0,{"$f":"Reichweite!$D$5*(1+Reichweite!$D$6)^(B826-1)","v":19221.252512727959},0,0,{"$f":"F826*Reichweite!$F$7","v":0},0,{"$f":"IF(H826>Reichweite!$D$4*Reichweite!$D$8,A826,\"\")","v":""}]
[823,69,0,{"$f":"Reichweite!$D$5*(1+Reichweite!$D$6)^(B827-1)","v":19221.252512727959},0,0,{"$f":"F827*Reichweite!$F$7","v":0},0,{"$f":"IF(H827>Reichweite!$D$4*Reichweite!$D$8,A827,\"\")","v":""}]
[824,69,0,{"$f":"Reichweite!$D$5*(1+Reichweite!$D$6)^(B828-1)","v":19221.252512727959},0,0,{"$f":"F828*Reichweite!$F$7","v":0},0,{"$f":"IF(H828>Reichweite!$D$4*Reichweite!$D$8,A828,\"\")","v":""}]
[825,69,0,{"$f":"Reichweite!$D$5*(1+Reichweite!$D$6)^(B829-1)","v":19221.252512727959},0,0,{"$f":"F829*Reichweite!$F$7","v":0},0,{"$f":"IF(H829>Reichweite!$D$4*Reichweite!$D$8,A829,\"\")","v":""}]
[826,69,0,{"$f":"Reichweite!$D$5*(1+Reichweite!$D$6)^(B830-1)","v":19221.252512727959},0,0,{"$f":"F830*Reichweite!$F$7","v":0},0,{"$f":"IF(H830>Reichweite!$D$4*Reichweite!$D$8,A830,\"\")","v":""}]
[827,69,0,{"$f":"Reichweite!$D$5*(1+Reichweite!$D$6)^(B831-1)","v":19221.252512727959},0,0,{"$f":"F831*Reichweite!$F$7","v":0},0,{"$f":"IF(H831>Reichweite!$D$4*Reichweite!$D$8,A831,\"\")","v":""}]
[828,70,0,{"$f":"Reichweite!$D$5*(1+Reichweite!$D$6)^(B832-1)","v":19605.677562982517},0,0,{"$f":"F832*Reichweite!$F$7","v":0},0,{"$f":"IF(H832>Reichweite!$D$4*Reichweite!$D$8,A832,\"\")","v":""}]
[829,70,0,{"$f":"Reichweite!$D$5*(1+Reichweite!$D$6)^(B833-1)","v":19605.677562982517},0,0,{"$f":"F833*Reichweite!$F$7","v":0},0,{"$f":"IF(H833>Reichweite!$D$4*Reichweite!$D$8,A833,\"\")","v":""}]
[830,70,0,{"$f":"Reichweite!$D$5*(1+Reichweite!$D$6)^(B834-1)","v":19605.677562982517},0,0,{"$f":"F834*Reichweite!$F$7","v":0},0,{"$f":"IF(H834>Reichweite!$D$4*Reichweite!$D$8,A834,\"\")","v":""}]
[831,70,0,{"$f":"Reichweite!$D$5*(1+Reichweite!$D$6)^(B835-1)","v":19605.677562982517},0,0,{"$f":"F835*Reichweite!$F$7","v":0},0,{"$f":"IF(H835>Reichweite!$D$4*Reichweite!$D$8,A835,\"\")","v":""}]
[832,{"$f":"INT(A836/12)+1","v":70},0,{"$f":"Reichweite!$D$5*(1+Reichweite!$D$6)^(B836-1)","v":19605.677562982517},{"$f":"MIN(D836,C836)","v":0},{"$f":"C836-E836","v":0},{"$f":"F836*Reichweite!$F$7","v":0},{"$f":"MAX(0,F836+G836)","v":0},{"$f":"IF(H836>Reichweite!$D$4*Reichweite!$D$8,A836,\"\")","v":""}]
[833,70,{"$f":"H836","v":0},{"$f":"Reichweite!$D$5*(1+Reichweite!$D$6)^(B837-1)","v":19605.677562982517},0,0,{"$f":"F837*Reichweite!$F$7","v":0},0,{"$f":"IF(H837>Reichweite!$D$4*Reichweite!$D$8,A837,\"\")","v":""}]
[834,70,0,{"$f":"Reichweite!$D$5*(1+Reichweite!$D$6)^(B838-1)","v":19605.677562982517},0,0,{"$f":"F838*Reichweite!$F$7","v":0},0,{"$f":"IF(H838>Reichweite!$D$4*Reichweite!$D$8,A838,\"\")","v":""}]
[835,70,0,{"$f":"Reichweite!$D$5*(1+Reichweite!$D$6)^(B839-1)","v":19605.677562982517},0,0,{"$f":"F839*Reichweite!$F$7","v":0},0,{"$f":"IF(H839>Reichweite!$D$4*Reichweite!$D$8,A839,\"\")","v":""}]
[836,70,0,{"$f":"Reichweite!$D$5*(1+Reichweite!$D$6)^(B840-1)","v":19605.677562982517},0,0,{"$f":"F840*Reichweite!$F$7","v":0},0,{"$f":"IF(H840>Reichweite!$D$4*Reichweite!$D$8,A840,\"\")","v":""}]
[837,70,0,{"$f":"Reichweite!$D$5*(1+Reichweite!$D$6)^(B841-1)","v":19605.677562982517},0,0,{"$f":"F841*Reichweite!$F$7","v":0},0,{"$f":"IF(H841>Reichweite!$D$4*Reichweite!$D$8,A841,\"\")","v":""}]
[838,70,0,{"$f":"Reichweite!$D$5*(1+Reichweite!$D$6)^(B842-1)","v":19605.677562982517},0,0,{"$f":"F842*Reichweite!$F$7","v":0},0,{"$f":"IF(H842>Reichweite!$D$4*Reichweite!$D$8,A842,\"\")","v":""}]
[839,70,0,{"$f":"Reichweite!$D$5*(1+Reichweite!$D$6)^(B843-1)","v":19605.677562982517},0,0,{"$f":"F843*Reichweite!$F$7","v":0},0,{"$f":"IF(H843>Reichweite!$D$4*Reichweite!$D$8,A843,\"\")","v":""}]
[840,71,0,{"$f":"Reichweite!$D$5*(1+Reichweite!$D$6)^(B844-1)","v":19997.791114242169},0,0,{"$f":"F844*Reichweite!$F$7","v":0},0,{"$f":"IF(H844>Reichweite!$D$4*Reichweite!$D$8,A844,\"\")","v":""}]
[841,71,0,{"$f":"Reichweite!$D$5*(1+Reichweite!$D$6)^(B845-1)","v":19997.791114242169},0,0,{"$f":"F845*Reichweite!$F$7","v":0},0,{"$f":"IF(H845>Reichweite!$D$4*Reichweite!$D$8,A845,\"\")","v":""}]
[842,71,0,{"$f":"Reichweite!$D$5*(1+Reichweite!$D$6)^(B846-1)","v":19997.791114242169},0,0,{"$f":"F846*Reichweite!$F$7","v":0},0,{"$f":"IF(H846>Reichweite!$D$4*Reichweite!$D$8,A846,\"\")","v":""}]
[843,71,0,{"$f":"Reichweite!$D$5*(1+Reichweite!$D$6)^(B847-1)","v":19997.791114242169},0,0,{"$f":"F847*Reichweite!$F$7","v":0},0,{"$f":"IF(H847>Reichweite!$D$4*Reichweite!$D$8,A847,\"\")","v":""}]
[844,71,0,{"$f":"Reichweite!$D$5*(1+Reichweite!$D$6)^(B848-1)","v":19997.791114242169},0,0,{"$f":"F848*Reichweite!$F$7","v":0},0,{"$f":"IF(H848>Reichweite!$D$4*Reichweite!$D$8,A848,\"\")","v":""}]
[845,71,0,{"$f":"Reichweite!$D$5*(1+Reichweite!$D$6)^(B849-1)","v":19997.791114242169},0,0,{"$f":"F849*Reichweite!$F$7","v":0},0,{"$f":"IF(H849>Reichweite!$D$4*Reichweite!$D$8,A849,\"\")","v":""}]
[846,71,0,{"$f":"Reichweite!$D$5*(1+Reichweite!$D$6)^(B850-1)","v":19997.791114242169},0,0,{"$f":"F850*Reichweite!$F$7","v":0},0,{"$f":"IF(H850>Reichweite!$D$4*Reichweite!$D$8,A850,\"\")","v":""}]
[847,71,0,{"$f":"Reichweite!$D$5*(1+Reichweite!$D$6)^(B851-1)","v":19997.791114242169},0,0,{"$f":"F851*Reichweite!$F$7","v":0},0,{"$f":"IF(H851>Reichweite!$D$4*Reichweite!$D$8,A851,\"\")","v":""}]
[848,71,0,{"$f":"Reichweite!$D$5*(1+Reichweite!$D$6)^(B852-1)","v":19997.791114242169},0,0,{"$f":"F852*Reichweite!$F$7","v":0},0,{"$f":"IF(H852>Reichweite!$D$4*Reichweite!$D$8,A852,\"\")","v":""}]
[849,71,0,{"$f":"Reichweite!$D$5*(1+Reichweite!$D$6)^(B853-1)","v":19997.791114242169},0,0,{"$f":"F853*Reichweite!$F$7","v":0},0,{"$f":"IF(H853>Reichweite!$D$4*Reichweite!$D$8,A853,\"\")","v":""}]
[850,71,0,{"$f":"Reichweite!$D$5*(1+Reichweite!$D$6)^(B854-1)","v":19997.791114242169},0,0,{"$f":"F854*Reichweite!$F$7","v":0},0,{"$f":"IF(H854>Reichweite!$D$4*Reichweite!$D$8,A854,\"\")","v":""}]
[851,71,0,{"$f":"Reichweite!$D$5*(1+Reichweite!$D$6)^(B855-1)","v":19997.791114242169},0,0,{"$f":"F855*Reichweite!$F$7","v":0},0,{"$f":"IF(H855>Reichweite!$D$4*Reichweite!$D$8,A855,\"\")","v":""}]
[852,72,0,{"$f":"Reichweite!$D$5*(1+Reichweite!$D$6)^(B856-1)","v":20397.746936527012},0,0,{"$f":"F856*Reichweite!$F$7","v":0},0,{"$f":"IF(H856>Reichweite!$D$4*Reichweite!$D$8,A856,\"\")","v":""}]
[853,72,0,{"$f":"Reichweite!$D$5*(1+Reichweite!$D$6)^(B857-1)","v":20397.746936527012},0,0,{"$f":"F857*Reichweite!$F$7","v":0},0,{"$f":"IF(H857>Reichweite!$D$4*Reichweite!$D$8,A857,\"\")","v":""}]
[854,72,0,{"$f":"Reichweite!$D$5*(1+Reichweite!$D$6)^(B858-1)","v":20397.746936527012},0,0,{"$f":"F858*Reichweite!$F$7","v":0},0,{"$f":"IF(H858>Reichweite!$D$4*Reichweite!$D$8,A858,\"\")","v":""}]
[855,72,0,{"$f":"Reichweite!$D$5*(1+Reichweite!$D$6)^(B859-1)","v":20397.746936527012},0,0,{"$f":"F859*Reichweite!$F$7","v":0},0,{"$f":"IF(H859>Reichweite!$D$4*Reichweite!$D$8,A859,\"\")","v":""}]
[856,72,0,{"$f":"Reichweite!$D$5*(1+Reichweite!$D$6)^(B860-1)","v":20397.746936527012},0,0,{"$f":"F860*Reichweite!$F$7","v":0},0,{"$f":"IF(H860>Reichweite!$D$4*Reichweite!$D$8,A860,\"\")","v":""}]
[857,72,0,{"$f":"Reichweite!$D$5*(1+Reichweite!$D$6)^(B861-1)","v":20397.746936527012},0,0,{"$f":"F861*Reichweite!$F$7","v":0},0,{"$f":"IF(H861>Reichweite!$D$4*Reichweite!$D$8,A861,\"\")","v":""}]
[858,72,0,{"$f":"Reichweite!$D$5*(1+Reichweite!$D$6)^(B862-1)","v":20397.746936527012},0,0,{"$f":"F862*Reichweite!$F$7","v":0},0,{"$f":"IF(H862>Reichweite!$D$4*Reichweite!$D$8,A862,\"\")","v":""}]
[859,72,0,{"$f":"Reichweite!$D$5*(1+Reichweite!$D$6)^(B863-1)","v":20397.746936527012},0,0,{"$f":"F863*Reichweite!$F$7","v":0},0,{"$f":"IF(H863>Reichweite!$D$4*Reichweite!$D$8,A863,\"\")","v":""}]
[860,72,0,{"$f":"Reichweite!$D$5*(1+Reichweite!$D$6)^(B864-1)","v":20397.746936527012},0,0,{"$f":"F864*Reichweite!$F$7","v":0},0,{"$f":"IF(H864>Reichweite!$D$4*Reichweite!$D$8,A864,\"\")","v":""}]
[861,72,0,{"$f":"Reichweite!$D$5*(1+Reichweite!$D$6)^(B865-1)","v":20397.746936527012},0,0,{"$f":"F865*Reichweite!$F$7","v":0},0,{"$f":"IF(H865>Reichweite!$D$4*Reichweite!$D$8,A865,\"\")","v":""}]
[862,72,0,{"$f":"Reichweite!$D$5*(1+Reichweite!$D$6)^(B866-1)","v":20397.746936527012},0,0,{"$f":"F866*Reichweite!$F$7","v":0},0,{"$f":"IF(H866>Reichweite!$D$4*Reichweite!$D$8,A866,\"\")","v":""}]
[863,72,0,{"$f":"Reichweite!$D$5*(1+Reichweite!$D$6)^(B867-1)","v":20397.746936527012},0,0,{"$f":"F867*Reichweite!$F$7","v":0},0,{"$f":"IF(H867>Reichweite!$D$4*Reichweite!$D$8,A867,\"\")","v":""}]
[864,73,0,{"$f":"Reichweite!$D$5*(1+Reichweite!$D$6)^(B868-1)","v":20805.701875257553},0,0,{"$f":"F868*Reichweite!$F$7","v":0},0,{"$f":"IF(H868>Reichweite!$D$4*Reichweite!$D$8,A868,\"\")","v":""}]
[865,73,0,{"$f":"Reichweite!$D$5*(1+Reichweite!$D$6)^(B869-1)","v":20805.701875257553},0,0,{"$f":"F869*Reichweite!$F$7","v":0},0,{"$f":"IF(H869>Reichweite!$D$4*Reichweite!$D$8,A869,\"\")","v":""}]
[866,73,0,{"$f":"Reichweite!$D$5*(1+Reichweite!$D$6)^(B870-1)","v":20805.701875257553},0,0,{"$f":"F870*Reichweite!$F$7","v":0},0,{"$f":"IF(H870>Reichweite!$D$4*Reichweite!$D$8,A870,\"\")","v":""}]
[867,73,0,{"$f":"Reichweite!$D$5*(1+Reichweite!$D$6)^(B871-1)","v":20805.701875257553},0,0,{"$f":"F871*Reichweite!$F$7","v":0},0,{"$f":"IF(H871>Reichweite!$D$4*Reichweite!$D$8,A871,\"\")","v":""}]
[868,73,0,{"$f":"Reichweite!$D$5*(1+Reichweite!$D$6)^(B872-1)","v":20805.701875257553},0,0,{"$f":"F872*Reichweite!$F$7","v":0},0,{"$f":"IF(H872>Reichweite!$D$4*Reichweite!$D$8,A872,\"\")","v":""}]
[869,73,0,{"$f":"Reichweite!$D$5*(1+Reichweite!$D$6)^(B873-1)","v":20805.701875257553},0,0,{"$f":"F873*Reichweite!$F$7","v":0},0,{"$f":"IF(H873>Reichweite!$D$4*Reichweite!$D$8,A873,\"\")","v":""}]
[870,73,0,{"$f":"Reichweite!$D$5*(1+Reichweite!$D$6)^(B874-1)","v":20805.701875257553},0,0,{"$f":"F874*Reichweite!$F$7","v":0},0,{"$f":"IF(H874>Reichweite!$D$4*Reichweite!$D$8,A874,\"\")","v":""}]
[871,73,0,{"$f":"Reichweite!$D$5*(1+Reichweite!$D$6)^(B875-1)","v":20805.701875257553},0,0,{"$f":"F875*Reichweite!$F$7","v":0},0,{"$f":"IF(H875>Reichweite!$D$4*Reichweite!$D$8,A875,\"\")","v":""}]
[872,73,0,{"$f":"Reichweite!$D$5*(1+Reichweite!$D$6)^(B876-1)","v":20805.701875257553},0,0,{"$f":"F876*Reichweite!$F$7","v":0},0,{"$f":"IF(H876>Reichweite!$D$4*Reichweite!$D$8,A876,\"\")","v":""}]
[873,73,0,{"$f":"Reichweite!$D$5*(1+Reichweite!$D$6)^(B877-1)","v":20805.701875257553},0,0,{"$f":"F877*Reichweite!$F$7","v":0},0,{"$f":"IF(H877>Reichweite!$D$4*Reichweite!$D$8,A877,\"\")","v":""}]
[874,73,0,{"$f":"Reichweite!$D$5*(1+Reichweite!$D$6)^(B878-1)","v":20805.701875257553},0,0,{"$f":"F878*Reichweite!$F$7","v":0},0,{"$f":"IF(H878>Reichweite!$D$4*Reichweite!$D$8,A878,\"\")","v":""}]
[875,73,0,{"$f":"Reichweite!$D$5*(1+Reichweite!$D$6)^(B879-1)","v":20805.701875257553},0,0,{"$f":"F879*Reichweite!$F$7","v":0},0,{"$f":"IF(H879>Reichweite!$D$4*Reichweite!$D$8,A879,\"\")","v":""}]
[876,74,0,{"$f":"Reichweite!$D$5*(1+Reichweite!$D$6)^(B880-1)","v":21221.8159127627},0,0,{"$f":"F880*Reichweite!$F$7","v":0},0,{"$f":"IF(H880>Reichweite!$D$4*Reichweite!$D$8,A880,\"\")","v":""}]
[877,74,0,{"$f":"Reichweite!$D$5*(1+Reichweite!$D$6)^(B881-1)","v":21221.8159127627},0,0,{"$f":"F881*Reichweite!$F$7","v":0},0,{"$f":"IF(H881>Reichweite!$D$4*Reichweite!$D$8,A881,\"\")","v":""}]
[878,74,0,{"$f":"Reichweite!$D$5*(1+Reichweite!$D$6)^(B882-1)","v":21221.8159127627},0,0,{"$f":"F882*Reichweite!$F$7","v":0},0,{"$f":"IF(H882>Reichweite!$D$4*Reichweite!$D$8,A882,\"\")","v":""}]
[879,74,0,{"$f":"Reichweite!$D$5*(1+Reichweite!$D$6)^(B883-1)","v":21221.8159127627},0,0,{"$f":"F883*Reichweite!$F$7","v":0},0,{"$f":"IF(H883>Reichweite!$D$4*Reichweite!$D$8,A883,\"\")","v":""}]
[880,74,0,{"$f":"Reichweite!$D$5*(1+Reichweite!$D$6)^(B884-1)","v":21221.8159127627},0,0,{"$f":"F884*Reichweite!$F$7","v":0},0,{"$f":"IF(H884>Reichweite!$D$4*Reichweite!$D$8,A884,\"\")","v":""}]
[881,74,0,{"$f":"Reichweite!$D$5*(1+Reichweite!$D$6)^(B885-1)","v":21221.8159127627},0,0,{"$f":"F885*Reichweite!$F$7","v":0},0,{"$f":"IF(H885>Reichweite!$D$4*Reichweite!$D$8,A885,\"\")","v":""}]
[882,74,0,{"$f":"Reichweite!$D$5*(1+Reichweite!$D$6)^(B886-1)","v":21221.8159127627},0,0,{"$f":"F886*Reichweite!$F$7","v":0},0,{"$f":"IF(H886>Reichweite!$D$4*Reichweite!$D$8,A886,\"\")","v":""}]
[883,74,0,{"$f":"Reichweite!$D$5*(1+Reichweite!$D$6)^(B887-1)","v":21221.8159127627},0,0,{"$f":"F887*Reichweite!$F$7","v":0},0,{"$f":"IF(H887>Reichweite!$D$4*Reichweite!$D$8,A887,\"\")","v":""}]
[884,74,0,{"$f":"Reichweite!$D$5*(1+Reichweite!$D$6)^(B888-1)","v":21221.8159127627},0,0,{"$f":"F888*Reichweite!$F$7","v":0},0,{"$f":"IF(H888>Reichweite!$D$4*Reichweite!$D$8,A888,\"\")","v":""}]
[885,74,0,{"$f":"Reichweite!$D$5*(1+Reichweite!$D$6)^(B889-1)","v":21221.8159127627},0,0,{"$f":"F889*Reichweite!$F$7","v":0},0,{"$f":"IF(H889>Reichweite!$D$4*Reichweite!$D$8,A889,\"\")","v":""}]
[886,74,0,{"$f":"Reichweite!$D$5*(1+Reichweite!$D$6)^(B890-1)","v":21221.8159127627},0,0,{"$f":"F890*Reichweite!$F$7","v":0},0,{"$f":"IF(H890>Reichweite!$D$4*Reichweite!$D$8,A890,\"\")","v":""}]
[887,74,0,{"$f":"Reichweite!$D$5*(1+Reichweite!$D$6)^(B891-1)","v":21221.8159127627},0,0,{"$f":"F891*Reichweite!$F$7","v":0},0,{"$f":"IF(H891>Reichweite!$D$4*Reichweite!$D$8,A891,\"\")","v":""}]
[888,75,0,{"$f":"Reichweite!$D$5*(1+Reichweite!$D$6)^(B892-1)","v":21646.252231017956},0,0,{"$f":"F892*Reichweite!$F$7","v":0},0,{"$f":"IF(H892>Reichweite!$D$4*Reichweite!$D$8,A892,\"\")","v":""}]
[889,75,0,{"$f":"Reichweite!$D$5*(1+Reichweite!$D$6)^(B893-1)","v":21646.252231017956},0,0,{"$f":"F893*Reichweite!$F$7","v":0},0,{"$f":"IF(H893>Reichweite!$D$4*Reichweite!$D$8,A893,\"\")","v":""}]
[890,75,0,{"$f":"Reichweite!$D$5*(1+Reichweite!$D$6)^(B894-1)","v":21646.252231017956},0,0,{"$f":"F894*Reichweite!$F$7","v":0},0,{"$f":"IF(H894>Reichweite!$D$4*Reichweite!$D$8,A894,\"\")","v":""}]
[891,75,0,{"$f":"Reichweite!$D$5*(1+Reichweite!$D$6)^(B895-1)","v":21646.252231017956},0,0,{"$f":"F895*Reichweite!$F$7","v":0},0,{"$f":"IF(H895>Reichweite!$D$4*Reichweite!$D$8,A895,\"\")","v":""}]
[892,75,0,{"$f":"Reichweite!$D$5*(1+Reichweite!$D$6)^(B896-1)","v":21646.252231017956},0,0,{"$f":"F896*Reichweite!$F$7","v":0},0,{"$f":"IF(H896>Reichweite!$D$4*Reichweite!$D$8,A896,\"\")","v":""}]
[893,75,0,{"$f":"Reichweite!$D$5*(1+Reichweite!$D$6)^(B897-1)","v":21646.252231017956},0,0,{"$f":"F897*Reichweite!$F$7","v":0},0,{"$f":"IF(H897>Reichweite!$D$4*Reichweite!$D$8,A897,\"\")","v":""}]
[894,75,0,{"$f":"Reichweite!$D$5*(1+Reichweite!$D$6)^(B898-1)","v":21646.252231017956},0,0,{"$f":"F898*Reichweite!$F$7","v":0},0,{"$f":"IF(H898>Reichweite!$D$4*Reichweite!$D$8,A898,\"\")","v":""}]
[895,75,0,{"$f":"Reichweite!$D$5*(1+Reichweite!$D$6)^(B899-1)","v":21646.252231017956},0,0,{"$f":"F899*Reichweite!$F$7","v":0},0,{"$f":"IF(H899>Reichweite!$D$4*Reichweite!$D$8,A899,\"\")","v":""}]
[896,{"$f":"INT(A900/12)+1","v":75},0,{"$f":"Reichweite!$D$5*(1+Reichweite!$D$6)^(B900-1)","v":21646.252231017956},{"$f":"MIN(D900,C900)","v":0},{"$f":"C900-E900","v":0},{"$f":"F900*Reichweite!$F$7","v":0},{"$f":"MAX(0,F900+G900)","v":0},{"$f":"IF(H900>Reichweite!$D$4*Reichweite!$D$8,A900,\"\")","v":""}]
[897,75,{"$f":"H900","v":0},{"$f":"Reichweite!$D$5*(1+Reichweite!$D$6)^(B901-1)","v":21646.252231017956},0,0,{"$f":"F901*Reichweite!$F$7","v":0},0,{"$f":"IF(H901>Reichweite!$D$4*Reichweite!$D$8,A901,\"\")","v":""}]
[898,75,0,{"$f":"Reichweite!$D$5*(1+Reichweite!$D$6)^(B902-1)","v":21646.252231017956},0,0,{"$f":"F902*Reichweite!$F$7","v":0},0,{"$f":"IF(H902>Reichweite!$D$4*Reichweite!$D$8,A902,\"\")","v":""}]
[899,75,0,{"$f":"Reichweite!$D$5*(1+Reichweite!$D$6)^(B903-1)","v":21646.252231017956},0,0,{"$f":"F903*Reichweite!$F$7","v":0},0,{"$f":"IF(H903>Reichweite!$D$4*Reichweite!$D$8,A903,\"\")","v":""}]
[900,76,0,{"$f":"Reichweite!$D$5*(1+Reichweite!$D$6)^(B904-1)","v":22079.177275638311},0,0,{"$f":"F904*Reichweite!$F$7","v":0},0,{"$f":"IF(H904>Reichweite!$D$4*Reichweite!$D$8,A904,\"\")","v":""}]
[901,76,0,{"$f":"Reichweite!$D$5*(1+Reichweite!$D$6)^(B905-1)","v":22079.177275638311},0,0,{"$f":"F905*Reichweite!$F$7","v":0},0,{"$f":"IF(H905>Reichweite!$D$4*Reichweite!$D$8,A905,\"\")","v":""}]
[902,76,0,{"$f":"Reichweite!$D$5*(1+Reichweite!$D$6)^(B906-1)","v":22079.177275638311},0,0,{"$f":"F906*Reichweite!$F$7","v":0},0,{"$f":"IF(H906>Reichweite!$D$4*Reichweite!$D$8,A906,\"\")","v":""}]
[903,76,0,{"$f":"Reichweite!$D$5*(1+Reichweite!$D$6)^(B907-1)","v":22079.177275638311},0,0,{"$f":"F907*Reichweite!$F$7","v":0},0,{"$f":"IF(H907>Reichweite!$D$4*Reichweite!$D$8,A907,\"\")","v":""}]
[904,76,0,{"$f":"Reichweite!$D$5*(1+Reichweite!$D$6)^(B908-1)","v":22079.177275638311},0,0,{"$f":"F908*Reichweite!$F$7","v":0},0,{"$f":"IF(H908>Reichweite!$D$4*Reichweite!$D$8,A908,\"\")","v":""}]
[905,76,0,{"$f":"Reichweite!$D$5*(1+Reichweite!$D$6)^(B909-1)","v":22079.177275638311},0,0,{"$f":"F909*Reichweite!$F$7","v":0},0,{"$f":"IF(H909>Reichweite!$D$4*Reichweite!$D$8,A909,\"\")","v":""}]
[906,76,0,{"$f":"Reichweite!$D$5*(1+Reichweite!$D$6)^(B910-1)","v":22079.177275638311},0,0,{"$f":"F910*Reichweite!$F$7","v":0},0,{"$f":"IF(H910>Reichweite!$D$4*Reichweite!$D$8,A910,\"\")","v":""}]
[907,76,0,{"$f":"Reichweite!$D$5*(1+Reichweite!$D$6)^(B911-1)","v":22079.177275638311},0,0,{"$f":"F911*Reichweite!$F$7","v":0},0,{"$f":"IF(H911>Reichweite!$D$4*Reichweite!$D$8,A911,\"\")","v":""}]
[908,76,0,{"$f":"Reichweite!$D$5*(1+Reichweite!$D$6)^(B912-1)","v":22079.177275638311},0,0,{"$f":"F912*Reichweite!$F$7","v":0},0,{"$f":"IF(H912>Reichweite!$D$4*Reichweite!$D$8,A912,\"\")","v":""}]
[909,76,0,{"$f":"Reichweite!$D$5*(1+Reichweite!$D$6)^(B913-1)","v":22079.177275638311},0,0,{"$f":"F913*Reichweite!$F$7","v":0},0,{"$f":"IF(H913>Reichweite!$D$4*Reichweite!$D$8,A913,\"\")","v":""}]
[910,76,0,{"$f":"Reichweite!$D$5*(1+Reichweite!$D$6)^(B914-1)","v":22079.177275638311},0,0,{"$f":"F914*Reichweite!$F$7","v":0},0,{"$f":"IF(H914>Reichweite!$D$4*Reichweite!$D$8,A914,\"\")","v":""}]
[911,76,0,{"$f":"Reichweite!$D$5*(1+Reichweite!$D$6)^(B915-1)","v":22079.177275638311},0,0,{"$f":"F915*Reichweite!$F$7","v":0},0,{"$f":"IF(H915>Reichweite!$D$4*Reichweite!$D$8,A915,\"\")","v":""}]
[912,77,0,{"$f":"Reichweite!$D$5*(1+Reichweite!$D$6)^(B916-1)","v":22520.760821151081},0,0,{"$f":"F916*Reichweite!$F$7","v":0},0,{"$f":"IF(H916>Reichweite!$D$4*Reichweite!$D$8,A916,\"\")","v":""}]
[913,77,0,{"$f":"Reichweite!$D$5*(1+Reichweite!$D$6)^(B917-1)","v":22520.760821151081},0,0,{"$f":"F917*Reichweite!$F$7","v":0},0,{"$f":"IF(H917>Reichweite!$D$4*Reichweite!$D$8,A917,\"\")","v":""}]
[914,77,0,{"$f":"Reichweite!$D$5*(1+Reichweite!$D$6)^(B918-1)","v":22520.760821151081},0,0,{"$f":"F918*Reichweite!$F$7","v":0},0,{"$f":"IF(H918>Reichweite!$D$4*Reichweite!$D$8,A918,\"\")","v":""}]
[915,77,0,{"$f":"Reichweite!$D$5*(1+Reichweite!$D$6)^(B919-1)","v":22520.760821151081},0,0,{"$f":"F919*Reichweite!$F$7","v":0},0,{"$f":"IF(H919>Reichweite!$D$4*Reichweite!$D$8,A919,\"\")","v":""}]
[916,77,0,{"$f":"Reichweite!$D$5*(1+Reichweite!$D$6)^(B920-1)","v":22520.760821151081},0,0,{"$f":"F920*Reichweite!$F$7","v":0},0,{"$f":"IF(H920>Reichweite!$D$4*Reichweite!$D$8,A920,\"\")","v":""}]
[917,77,0,{"$f":"Reichweite!$D$5*(1+Reichweite!$D$6)^(B921-1)","v":22520.760821151081},0,0,{"$f":"F921*Reichweite!$F$7","v":0},0,{"$f":"IF(H921>Reichweite!$D$4*Reichweite!$D$8,A921,\"\")","v":""}]
[918,77,0,{"$f":"Reichweite!$D$5*(1+Reichweite!$D$6)^(B922-1)","v":22520.760821151081},0,0,{"$f":"F922*Reichweite!$F$7","v":0},0,{"$f":"IF(H922>Reichweite!$D$4*Reichweite!$D$8,A922,\"\")","v":""}]
[919,77,0,{"$f":"Reichweite!$D$5*(1+Reichweite!$D$6)^(B923-1)","v":22520.760821151081},0,0,{"$f":"F923*Reichweite!$F$7","v":0},0,{"$f":"IF(H923>Reichweite!$D$4*Reichweite!$D$8,A923,\"\")","v":""}]
[920,77,0,{"$f":"Reichweite!$D$5*(1+Reichweite!$D$6)^(B924-1)","v":22520.760821151081},0,0,{"$f":"F924*Reichweite!$F$7","v":0},0,{"$f":"IF(H924>Reichweite!$D$4*Reichweite!$D$8,A924,\"\")","v":""}]
[921,77,0,{"$f":"Reichweite!$D$5*(1+Reichweite!$D$6)^(B925-1)","v":22520.760821151081},0,0,{"$f":"F925*Reichweite!$F$7","v":0},0,{"$f":"IF(H925>Reichweite!$D$4*Reichweite!$D$8,A925,\"\")","v":""}]
[922,77,0,{"$f":"Reichweite!$D$5*(1+Reichweite!$D$6)^(B926-1)","v":22520.760821151081},0,0,{"$f":"F926*Reichweite!$F$7","v":0},0,{"$f":"IF(H926>Reichweite!$D$4*Reichweite!$D$8,A926,\"\")","v":""}]
[923,77,0,{"$f":"Reichweite!$D$5*(1+Reichweite!$D$6)^(B927-1)","v":22520.760821151081},0,0,{"$f":"F927*Reichweite!$F$7","v":0},0,{"$f":"IF(H927>Reichweite!$D$4*Reichweite!$D$8,A927,\"\")","v":""}]
[924,78,0,{"$f":"Reichweite!$D$5*(1+Reichweite!$D$6)^(B928-1)","v":22971.176037574103},0,0,{"$f":"F928*Reichweite!$F$7","v":0},0,{"$f":"IF(H928>Reichweite!$D$4*Reichweite!$D$8,A928,\"\")","v":""}]
[925,78,0,{"$f":"Reichweite!$D$5*(1+Reichweite!$D$6)^(B929-1)","v":22971.176037574103},0,0,{"$f":"F929*Reichweite!$F$7","v":0},0,{"$f":"IF(H929>Reichweite!$D$4*Reichweite!$D$8,A929,\"\")","v":""}]
[926,78,0,{"$f":"Reichweite!$D$5*(1+Reichweite!$D$6)^(B930-1)","v":22971.176037574103},0,0,{"$f":"F930*Reichweite!$F$7","v":0},0,{"$f":"IF(H930>Reichweite!$D$4*Reichweite!$D$8,A930,\"\")","v":""}]
[927,78,0,{"$f":"Reichweite!$D$5*(1+Reichweite!$D$6)^(B931-1)","v":22971.176037574103},0,0,{"$f":"F931*Reichweite!$F$7","v":0},0,{"$f":"IF(H931>Reichweite!$D$4*Reichweite!$D$8,A931,\"\")","v":""}]
[928,78,0,{"$f":"Reichweite!$D$5*(1+Reichweite!$D$6)^(B932-1)","v":22971.176037574103},0,0,{"$f":"F932*Reichweite!$F$7","v":0},0,{"$f":"IF(H932>Reichweite!$D$4*Reichweite!$D$8,A932,\"\")","v":""}]
[929,78,0,{"$f":"Reichweite!$D$5*(1+Reichweite!$D$6)^(B933-1)","v":22971.176037574103},0,0,{"$f":"F933*Reichweite!$F$7","v":0},0,{"$f":"IF(H933>Reichweite!$D$4*Reichweite!$D$8,A933,\"\")","v":""}]
[930,78,0,{"$f":"Reichweite!$D$5*(1+Reichweite!$D$6)^(B934-1)","v":22971.176037574103},0,0,{"$f":"F934*Reichweite!$F$7","v":0},0,{"$f":"IF(H934>Reichweite!$D$4*Reichweite!$D$8,A934,\"\")","v":""}]
[931,78,0,{"$f":"Reichweite!$D$5*(1+Reichweite!$D$6)^(B935-1)","v":22971.176037574103},0,0,{"$f":"F935*Reichweite!$F$7","v":0},0,{"$f":"IF(H935>Reichweite!$D$4*Reichweite!$D$8,A935,\"\")","v":""}]
[932,78,0,{"$f":"Reichweite!$D$5*(1+Reichweite!$D$6)^(B936-1)","v":22971.176037574103},0,0,{"$f":"F936*Reichweite!$F$7","v":0},0,{"$f":"IF(H936>Reichweite!$D$4*Reichweite!$D$8,A936,\"\")","v":""}]
[933,78,0,{"$f":"Reichweite!$D$5*(1+Reichweite!$D$6)^(B937-1)","v":22971.176037574103},0,0,{"$f":"F937*Reichweite!$F$7","v":0},0,{"$f":"IF(H937>Reichweite!$D$4*Reichweite!$D$8,A937,\"\")","v":""}]
[934,78,0,{"$f":"Reichweite!$D$5*(1+Reichweite!$D$6)^(B938-1)","v":22971.176037574103},0,0,{"$f":"F938*Reichweite!$F$7","v":0},0,{"$f":"IF(H938>Reichweite!$D$4*Reichweite!$D$8,A938,\"\")","v":""}]
[935,78,0,{"$f":"Reichweite!$D$5*(1+Reichweite!$D$6)^(B939-1)","v":22971.176037574103},0,0,{"$f":"F939*Reichweite!$F$7","v":0},0,{"$f":"IF(H939>Reichweite!$D$4*Reichweite!$D$8,A939,\"\")","v":""}]
[936,79,0,{"$f":"Reichweite!$D$5*(1+Reichweite!$D$6)^(B940-1)","v":23430.599558325586},0,0,{"$f":"F940*Reichweite!$F$7","v":0},0,{"$f":"IF(H940>Reichweite!$D$4*Reichweite!$D$8,A940,\"\")","v":""}]
[937,79,0,{"$f":"Reichweite!$D$5*(1+Reichweite!$D$6)^(B941-1)","v":23430.599558325586},0,0,{"$f":"F941*Reichweite!$F$7","v":0},0,{"$f":"IF(H941>Reichweite!$D$4*Reichweite!$D$8,A941,\"\")","v":""}]
[938,79,0,{"$f":"Reichweite!$D$5*(1+Reichweite!$D$6)^(B942-1)","v":23430.599558325586},0,0,{"$f":"F942*Reichweite!$F$7","v":0},0,{"$f":"IF(H942>Reichweite!$D$4*Reichweite!$D$8,A942,\"\")","v":""}]
[939,79,0,{"$f":"Reichweite!$D$5*(1+Reichweite!$D$6)^(B943-1)","v":23430.599558325586},0,0,{"$f":"F943*Reichweite!$F$7","v":0},0,{"$f":"IF(H943>Reichweite!$D$4*Reichweite!$D$8,A943,\"\")","v":""}]
[940,79,0,{"$f":"Reichweite!$D$5*(1+Reichweite!$D$6)^(B944-1)","v":23430.599558325586},0,0,{"$f":"F944*Reichweite!$F$7","v":0},0,{"$f":"IF(H944>Reichweite!$D$4*Reichweite!$D$8,A944,\"\")","v":""}]
[941,79,0,{"$f":"Reichweite!$D$5*(1+Reichweite!$D$6)^(B945-1)","v":23430.599558325586},0,0,{"$f":"F945*Reichweite!$F$7","v":0},0,{"$f":"IF(H945>Reichweite!$D$4*Reichweite!$D$8,A945,\"\")","v":""}]
[942,79,0,{"$f":"Reichweite!$D$5*(1+Reichweite!$D$6)^(B946-1)","v":23430.599558325586},0,0,{"$f":"F946*Reichweite!$F$7","v":0},0,{"$f":"IF(H946>Reichweite!$D$4*Reichweite!$D$8,A946,\"\")","v":""}]
[943,79,0,{"$f":"Reichweite!$D$5*(1+Reichweite!$D$6)^(B947-1)","v":23430.599558325586},0,0,{"$f":"F947*Reichweite!$F$7","v":0},0,{"$f":"IF(H947>Reichweite!$D$4*Reichweite!$D$8,A947,\"\")","v":""}]
[944,79,0,{"$f":"Reichweite!$D$5*(1+Reichweite!$D$6)^(B948-1)","v":23430.599558325586},0,0,{"$f":"F948*Reichweite!$F$7","v":0},0,{"$f":"IF(H948>Reichweite!$D$4*Reichweite!$D$8,A948,\"\")","v":""}]
[945,79,0,{"$f":"Reichweite!$D$5*(1+Reichweite!$D$6)^(B949-1)","v":23430.599558325586},0,0,{"$f":"F949*Reichweite!$F$7","v":0},0,{"$f":"IF(H949>Reichweite!$D$4*Reichweite!$D$8,A949,\"\")","v":""}]
[946,79,0,{"$f":"Reichweite!$D$5*(1+Reichweite!$D$6)^(B950-1)","v":23430.599558325586},0,0,{"$f":"F950*Reichweite!$F$7","v":0},0,{"$f":"IF(H950>Reichweite!$D$4*Reichweite!$D$8,A950,\"\")","v":""}]
[947,79,0,{"$f":"Reichweite!$D$5*(1+Reichweite!$D$6)^(B951-1)","v":23430.599558325586},0,0,{"$f":"F951*Reichweite!$F$7","v":0},0,{"$f":"IF(H951>Reichweite!$D$4*Reichweite!$D$8,A951,\"\")","v":""}]
[948,80,0,{"$f":"Reichweite!$D$5*(1+Reichweite!$D$6)^(B952-1)","v":23899.211549492091},0,0,{"$f":"F952*Reichweite!$F$7","v":0},0,{"$f":"IF(H952>Reichweite!$D$4*Reichweite!$D$8,A952,\"\")","v":""}]
[949,80,0,{"$f":"Reichweite!$D$5*(1+Reichweite!$D$6)^(B953-1)","v":23899.211549492091},0,0,{"$f":"F953*Reichweite!$F$7","v":0},0,{"$f":"IF(H953>Reichweite!$D$4*Reichweite!$D$8,A953,\"\")","v":""}]
[950,80,0,{"$f":"Reichweite!$D$5*(1+Reichweite!$D$6)^(B954-1)","v":23899.211549492091},0,0,{"$f":"F954*Reichweite!$F$7","v":0},0,{"$f":"IF(H954>Reichweite!$D$4*Reichweite!$D$8,A954,\"\")","v":""}]
[951,80,0,{"$f":"Reichweite!$D$5*(1+Reichweite!$D$6)^(B955-1)","v":23899.211549492091},0,0,{"$f":"F955*Reichweite!$F$7","v":0},0,{"$f":"IF(H955>Reichweite!$D$4*Reichweite!$D$8,A955,\"\")","v":""}]
[952,80,0,{"$f":"Reichweite!$D$5*(1+Reichweite!$D$6)^(B956-1)","v":23899.211549492091},0,0,{"$f":"F956*Reichweite!$F$7","v":0},0,{"$f":"IF(H956>Reichweite!$D$4*Reichweite!$D$8,A956,\"\")","v":""}]
[953,80,0,{"$f":"Reichweite!$D$5*(1+Reichweite!$D$6)^(B957-1)","v":23899.211549492091},0,0,{"$f":"F957*Reichweite!$F$7","v":0},0,{"$f":"IF(H957>Reichweite!$D$4*Reichweite!$D$8,A957,\"\")","v":""}]
[954,80,0,{"$f":"Reichweite!$D$5*(1+Reichweite!$D$6)^(B958-1)","v":23899.211549492091},0,0,{"$f":"F958*Reichweite!$F$7","v":0},0,{"$f":"IF(H958>Reichweite!$D$4*Reichweite!$D$8,A958,\"\")","v":""}]
[955,80,0,{"$f":"Reichweite!$D$5*(1+Reichweite!$D$6)^(B959-1)","v":23899.211549492091},0,0,{"$f":"F959*Reichweite!$F$7","v":0},0,{"$f":"IF(H959>Reichweite!$D$4*Reichweite!$D$8,A959,\"\")","v":""}]
[956,80,0,{"$f":"Reichweite!$D$5*(1+Reichweite!$D$6)^(B960-1)","v":23899.211549492091},0,0,{"$f":"F960*Reichweite!$F$7","v":0},0,{"$f":"IF(H960>Reichweite!$D$4*Reichweite!$D$8,A960,\"\")","v":""}]
[957,80,0,{"$f":"Reichweite!$D$5*(1+Reichweite!$D$6)^(B961-1)","v":23899.211549492091},0,0,{"$f":"F961*Reichweite!$F$7","v":0},0,{"$f":"IF(H961>Reichweite!$D$4*Reichweite!$D$8,A961,\"\")","v":""}]
[958,80,0,{"$f":"Reichweite!$D$5*(1+Reichweite!$D$6)^(B962-1)","v":23899.211549492091},0,0,{"$f":"F962*Reichweite!$F$7","v":0},0,{"$f":"IF(H962>Reichweite!$D$4*Reichweite!$D$8,A962,\"\")","v":""}]
[959,80,0,{"$f":"Reichweite!$D$5*(1+Reichweite!$D$6)^(B963-1)","v":23899.211549492091},0,0,{"$f":"F963*Reichweite!$F$7","v":0},0,{"$f":"IF(H963>Reichweite!$D$4*Reichweite!$D$8,A963,\"\")","v":""}]
[960,{"$f":"INT(A964/12)+1","v":81},0,{"$f":"Reichweite!$D$5*(1+Reichweite!$D$6)^(B964-1)","v":24377.195780481936},{"$f":"MIN(D964,C964)","v":0},{"$f":"C964-E964","v":0},{"$f":"F964*Reichweite!$F$7","v":0},{"$f":"MAX(0,F964+G964)","v":0},{"$f":"IF(H964>Reichweite!$D$4*Reichweite!$D$8,A964,\"\")","v":""}]
[961,81,{"$f":"H964","v":0},{"$f":"Reichweite!$D$5*(1+Reichweite!$D$6)^(B965-1)","v":24377.195780481936},0,0,{"$f":"F965*Reichweite!$F$7","v":0},0,{"$f":"IF(H965>Reichweite!$D$4*Reichweite!$D$8,A965,\"\")","v":""}]
[962,81,0,{"$f":"Reichweite!$D$5*(1+Reichweite!$D$6)^(B966-1)","v":24377.195780481936},0,0,{"$f":"F966*Reichweite!$F$7","v":0},0,{"$f":"IF(H966>Reichweite!$D$4*Reichweite!$D$8,A966,\"\")","v":""}]
[963,81,0,{"$f":"Reichweite!$D$5*(1+Reichweite!$D$6)^(B967-1)","v":24377.195780481936},0,0,{"$f":"F967*Reichweite!$F$7","v":0},0,{"$f":"IF(H967>Reichweite!$D$4*Reichweite!$D$8,A967,\"\")","v":""}]
[964,81,0,{"$f":"Reichweite!$D$5*(1+Reichweite!$D$6)^(B968-1)","v":24377.195780481936},0,0,{"$f":"F968*Reichweite!$F$7","v":0},0,{"$f":"IF(H968>Reichweite!$D$4*Reichweite!$D$8,A968,\"\")","v":""}]
[965,81,0,{"$f":"Reichweite!$D$5*(1+Reichweite!$D$6)^(B969-1)","v":24377.195780481936},0,0,{"$f":"F969*Reichweite!$F$7","v":0},0,{"$f":"IF(H969>Reichweite!$D$4*Reichweite!$D$8,A969,\"\")","v":""}]
[966,81,0,{"$f":"Reichweite!$D$5*(1+Reichweite!$D$6)^(B970-1)","v":24377.195780481936},0,0,{"$f":"F970*Reichweite!$F$7","v":0},0,{"$f":"IF(H970>Reichweite!$D$4*Reichweite!$D$8,A970,\"\")","v":""}]
[967,81,0,{"$f":"Reichweite!$D$5*(1+Reichweite!$D$6)^(B971-1)","v":24377.195780481936},0,0,{"$f":"F971*Reichweite!$F$7","v":0},0,{"$f":"IF(H971>Reichweite!$D$4*Reichweite!$D$8,A971,\"\")","v":""}]
[968,81,0,{"$f":"Reichweite!$D$5*(1+Reichweite!$D$6)^(B972-1)","v":24377.195780481936},0,0,{"$f":"F972*Reichweite!$F$7","v":0},0,{"$f":"IF(H972>Reichweite!$D$4*Reichweite!$D$8,A972,\"\")","v":""}]
[969,81,0,{"$f":"Reichweite!$D$5*(1+Reichweite!$D$6)^(B973-1)","v":24377.195780481936},0,0,{"$f":"F973*Reichweite!$F$7","v":0},0,{"$f":"IF(H973>Reichweite!$D$4*Reichweite!$D$8,A973,\"\")","v":""}]
[970,81,0,{"$f":"Reichweite!$D$5*(1+Reichweite!$D$6)^(B974-1)","v":24377.195780481936},0,0,{"$f":"F974*Reichweite!$F$7","v":0},0,{"$f":"IF(H974>Reichweite!$D$4*Reichweite!$D$8,A974,\"\")","v":""}]
[971,81,0,{"$f":"Reichweite!$D$5*(1+Reichweite!$D$6)^(B975-1)","v":24377.195780481936},0,0,{"$f":"F975*Reichweite!$F$7","v":0},0,{"$f":"IF(H975>Reichweite!$D$4*Reichweite!$D$8,A975,\"\")","v":""}]
[972,82,0,{"$f":"Reichweite!$D$5*(1+Reichweite!$D$6)^(B976-1)","v":24864.739696091576},0,0,{"$f":"F976*Reichweite!$F$7","v":0},0,{"$f":"IF(H976>Reichweite!$D$4*Reichweite!$D$8,A976,\"\")","v":""}]
[973,82,0,{"$f":"Reichweite!$D$5*(1+Reichweite!$D$6)^(B977-1)","v":24864.739696091576},0,0,{"$f":"F977*Reichweite!$F$7","v":0},0,{"$f":"IF(H977>Reichweite!$D$4*Reichweite!$D$8,A977,\"\")","v":""}]
[974,82,0,{"$f":"Reichweite!$D$5*(1+Reichweite!$D$6)^(B978-1)","v":24864.739696091576},0,0,{"$f":"F978*Reichweite!$F$7","v":0},0,{"$f":"IF(H978>Reichweite!$D$4*Reichweite!$D$8,A978,\"\")","v":""}]
[975,82,0,{"$f":"Reichweite!$D$5*(1+Reichweite!$D$6)^(B979-1)","v":24864.739696091576},0,0,{"$f":"F979*Reichweite!$F$7","v":0},0,{"$f":"IF(H979>Reichweite!$D$4*Reichweite!$D$8,A979,\"\")","v":""}]
[976,82,0,{"$f":"Reichweite!$D$5*(1+Reichweite!$D$6)^(B980-1)","v":24864.739696091576},0,0,{"$f":"F980*Reichweite!$F$7","v":0},0,{"$f":"IF(H980>Reichweite!$D$4*Reichweite!$D$8,A980,\"\")","v":""}]
[977,82,0,{"$f":"Reichweite!$D$5*(1+Reichweite!$D$6)^(B981-1)","v":24864.739696091576},0,0,{"$f":"F981*Reichweite!$F$7","v":0},0,{"$f":"IF(H981>Reichweite!$D$4*Reichweite!$D$8,A981,\"\")","v":""}]
[978,82,0,{"$f":"Reichweite!$D$5*(1+Reichweite!$D$6)^(B982-1)","v":24864.739696091576},0,0,{"$f":"F982*Reichweite!$F$7","v":0},0,{"$f":"IF(H982>Reichweite!$D$4*Reichweite!$D$8,A982,\"\")","v":""}]
[979,82,0,{"$f":"Reichweite!$D$5*(1+Reichweite!$D$6)^(B983-1)","v":24864.739696091576},0,0,{"$f":"F983*Reichweite!$F$7","v":0},0,{"$f":"IF(H983>Reichweite!$D$4*Reichweite!$D$8,A983,\"\")","v":""}]
[980,82,0,{"$f":"Reichweite!$D$5*(1+Reichweite!$D$6)^(B984-1)","v":24864.739696091576},0,0,{"$f":"F984*Reichweite!$F$7","v":0},0,{"$f":"IF(H984>Reichweite!$D$4*Reichweite!$D$8,A984,\"\")","v":""}]
[981,82,0,{"$f":"Reichweite!$D$5*(1+Reichweite!$D$6)^(B985-1)","v":24864.739696091576},0,0,{"$f":"F985*Reichweite!$F$7","v":0},0,{"$f":"IF(H985>Reichweite!$D$4*Reichweite!$D$8,A985,\"\")","v":""}]
[982,82,0,{"$f":"Reichweite!$D$5*(1+Reichweite!$D$6)^(B986-1)","v":24864.739696091576},0,0,{"$f":"F986*Reichweite!$F$7","v":0},0,{"$f":"IF(H986>Reichweite!$D$4*Reichweite!$D$8,A986,\"\")","v":""}]
[983,82,0,{"$f":"Reichweite!$D$5*(1+Reichweite!$D$6)^(B987-1)","v":24864.739696091576},0,0,{"$f":"F987*Reichweite!$F$7","v":0},0,{"$f":"IF(H987>Reichweite!$D$4*Reichweite!$D$8,A987,\"\")","v":""}]
[984,83,0,{"$f":"Reichweite!$D$5*(1+Reichweite!$D$6)^(B988-1)","v":25362.034490013404},0,0,{"$f":"F988*Reichweite!$F$7","v":0},0,{"$f":"IF(H988>Reichweite!$D$4*Reichweite!$D$8,A988,\"\")","v":""}]
[985,83,0,{"$f":"Reichweite!$D$5*(1+Reichweite!$D$6)^(B989-1)","v":25362.034490013404},0,0,{"$f":"F989*Reichweite!$F$7","v":0},0,{"$f":"IF(H989>Reichweite!$D$4*Reichweite!$D$8,A989,\"\")","v":""}]
[986,83,0,{"$f":"Reichweite!$D$5*(1+Reichweite!$D$6)^(B990-1)","v":25362.034490013404},0,0,{"$f":"F990*Reichweite!$F$7","v":0},0,{"$f":"IF(H990>Reichweite!$D$4*Reichweite!$D$8,A990,\"\")","v":""}]
[987,83,0,{"$f":"Reichweite!$D$5*(1+Reichweite!$D$6)^(B991-1)","v":25362.034490013404},0,0,{"$f":"F991*Reichweite!$F$7","v":0},0,{"$f":"IF(H991>Reichweite!$D$4*Reichweite!$D$8,A991,\"\")","v":""}]
[988,83,0,{"$f":"Reichweite!$D$5*(1+Reichweite!$D$6)^(B992-1)","v":25362.034490013404},0,0,{"$f":"F992*Reichweite!$F$7","v":0},0,{"$f":"IF(H992>Reichweite!$D$4*Reichweite!$D$8,A992,\"\")","v":""}]
[989,83,0,{"$f":"Reichweite!$D$5*(1+Reichweite!$D$6)^(B993-1)","v":25362.034490013404},0,0,{"$f":"F993*Reichweite!$F$7","v":0},0,{"$f":"IF(H993>Reichweite!$D$4*Reichweite!$D$8,A993,\"\")","v":""}]
[990,83,0,{"$f":"Reichweite!$D$5*(1+Reichweite!$D$6)^(B994-1)","v":25362.034490013404},0,0,{"$f":"F994*Reichweite!$F$7","v":0},0,{"$f":"IF(H994>Reichweite!$D$4*Reichweite!$D$8,A994,\"\")","v":""}]
[991,83,0,{"$f":"Reichweite!$D$5*(1+Reichweite!$D$6)^(B995-1)","v":25362.034490013404},0,0,{"$f":"F995*Reichweite!$F$7","v":0},0,{"$f":"IF(H995>Reichweite!$D$4*Reichweite!$D$8,A995,\"\")","v":""}]
[992,83,0,{"$f":"Reichweite!$D$5*(1+Reichweite!$D$6)^(B996-1)","v":25362.034490013404},0,0,{"$f":"F996*Reichweite!$F$7","v":0},0,{"$f":"IF(H996>Reichweite!$D$4*Reichweite!$D$8,A996,\"\")","v":""}]
[993,83,0,{"$f":"Reichweite!$D$5*(1+Reichweite!$D$6)^(B997-1)","v":25362.034490013404},0,0,{"$f":"F997*Reichweite!$F$7","v":0},0,{"$f":"IF(H997>Reichweite!$D$4*Reichweite!$D$8,A997,\"\")","v":""}]
[994,83,0,{"$f":"Reichweite!$D$5*(1+Reichweite!$D$6)^(B998-1)","v":25362.034490013404},0,0,{"$f":"F998*Reichweite!$F$7","v":0},0,{"$f":"IF(H998>Reichweite!$D$4*Reichweite!$D$8,A998,\"\")","v":""}]
[995,83,0,{"$f":"Reichweite!$D$5*(1+Reichweite!$D$6)^(B999-1)","v":25362.034490013404},0,0,{"$f":"F999*Reichweite!$F$7","v":0},0,{"$f":"IF(H999>Reichweite!$D$4*Reichweite!$D$8,A999,\"\")","v":""}]
[996,84,0,{"$f":"Reichweite!$D$5*(1+Reichweite!$D$6)^(B1000-1)","v":25869.275179813674},0,0,{"$f":"F1000*Reichweite!$F$7","v":0},0,{"$f":"IF(H1000>Reichweite!$D$4*Reichweite!$D$8,A1000,\"\")","v":""}]
[997,84,0,{"$f":"Reichweite!$D$5*(1+Reichweite!$D$6)^(B1001-1)","v":25869.275179813674},0,0,{"$f":"F1001*Reichweite!$F$7","v":0},0,{"$f":"IF(H1001>Reichweite!$D$4*Reichweite!$D$8,A1001,\"\")","v":""}]
[998,84,0,{"$f":"Reichweite!$D$5*(1+Reichweite!$D$6)^(B1002-1)","v":25869.275179813674},0,0,{"$f":"F1002*Reichweite!$F$7","v":0},0,{"$f":"IF(H1002>Reichweite!$D$4*Reichweite!$D$8,A1002,\"\")","v":""}]
[999,84,0,{"$f":"Reichweite!$D$5*(1+Reichweite!$D$6)^(B1003-1)","v":25869.275179813674},0,0,{"$f":"F1003*Reichweite!$F$7","v":0},0,{"$f":"IF(H1003>Reichweite!$D$4*Reichweite!$D$8,A1003,\"\")","v":""}]
[1000,84,0,{"$f":"Reichweite!$D$5*(1+Reichweite!$D$6)^(B1004-1)","v":25869.275179813674},0,0,{"$f":"F1004*Reichweite!$F$7","v":0},0,{"$f":"IF(H1004>Reichweite!$D$4*Reichweite!$D$8,A1004,\"\")","v":""}]
[1001,84,0,{"$f":"Reichweite!$D$5*(1+Reichweite!$D$6)^(B1005-1)","v":25869.275179813674},0,0,{"$f":"F1005*Reichweite!$F$7","v":0},0,{"$f":"IF(H1005>Reichweite!$D$4*Reichweite!$D$8,A1005,\"\")","v":""}]
[1002,84,0,{"$f":"Reichweite!$D$5*(1+Reichweite!$D$6)^(B1006-1)","v":25869.275179813674},0,0,{"$f":"F1006*Reichweite!$F$7","v":0},0,{"$f":"IF(H1006>Reichweite!$D$4*Reichweite!$D$8,A1006,\"\")","v":""}]
[1003,84,0,{"$f":"Reichweite!$D$5*(1+Reichweite!$D$6)^(B1007-1)","v":25869.275179813674},0,0,{"$f":"F1007*Reichweite!$F$7","v":0},0,{"$f":"IF(H1007>Reichweite!$D$4*Reichweite!$D$8,A1007,\"\")","v":""}]
[1004,84,0,{"$f":"Reichweite!$D$5*(1+Reichweite!$D$6)^(B1008-1)","v":25869.275179813674},0,0,{"$f":"F1008*Reichweite!$F$7","v":0},0,{"$f":"IF(H1008>Reichweite!$D$4*Reichweite!$D$8,A1008,\"\")","v":""}]
[1005,84,0,{"$f":"Reichweite!$D$5*(1+Reichweite!$D$6)^(B1009-1)","v":25869.275179813674},0,0,{"$f":"F1009*Reichweite!$F$7","v":0},0,{"$f":"IF(H1009>Reichweite!$D$4*Reichweite!$D$8,A1009,\"\")","v":""}]
[1006,84,0,{"$f":"Reichweite!$D$5*(1+Reichweite!$D$6)^(B1010-1)","v":25869.275179813674},0,0,{"$f":"F1010*Reichweite!$F$7","v":0},0,{"$f":"IF(H1010>Reichweite!$D$4*Reichweite!$D$8,A1010,\"\")","v":""}]
[1007,84,0,{"$f":"Reichweite!$D$5*(1+Reichweite!$D$6)^(B1011-1)","v":25869.275179813674},0,0,{"$f":"F1011*Reichweite!$F$7","v":0},0,{"$f":"IF(H1011>Reichweite!$D$4*Reichweite!$D$8,A1011,\"\")","v":""}]
[1008,85,0,{"$f":"Reichweite!$D$5*(1+Reichweite!$D$6)^(B1012-1)","v":26386.660683409948},0,0,{"$f":"F1012*Reichweite!$F$7","v":0},0,{"$f":"IF(H1012>Reichweite!$D$4*Reichweite!$D$8,A1012,\"\")","v":""}]
[1009,85,0,{"$f":"Reichweite!$D$5*(1+Reichweite!$D$6)^(B1013-1)","v":26386.660683409948},0,0,{"$f":"F1013*Reichweite!$F$7","v":0},0,{"$f":"IF(H1013>Reichweite!$D$4*Reichweite!$D$8,A1013,\"\")","v":""}]
[1010,85,0,{"$f":"Reichweite!$D$5*(1+Reichweite!$D$6)^(B1014-1)","v":26386.660683409948},0,0,{"$f":"F1014*Reichweite!$F$7","v":0},0,{"$f":"IF(H1014>Reichweite!$D$4*Reichweite!$D$8,A1014,\"\")","v":""}]
[1011,85,0,{"$f":"Reichweite!$D$5*(1+Reichweite!$D$6)^(B1015-1)","v":26386.660683409948},0,0,{"$f":"F1015*Reichweite!$F$7","v":0},0,{"$f":"IF(H1015>Reichweite!$D$4*Reichweite!$D$8,A1015,\"\")","v":""}]
[1012,85,0,{"$f":"Reichweite!$D$5*(1+Reichweite!$D$6)^(B1016-1)","v":26386.660683409948},0,0,{"$f":"F1016*Reichweite!$F$7","v":0},0,{"$f":"IF(H1016>Reichweite!$D$4*Reichweite!$D$8,A1016,\"\")","v":""}]
[1013,85,0,{"$f":"Reichweite!$D$5*(1+Reichweite!$D$6)^(B1017-1)","v":26386.660683409948},0,0,{"$f":"F1017*Reichweite!$F$7","v":0},0,{"$f":"IF(H1017>Reichweite!$D$4*Reichweite!$D$8,A1017,\"\")","v":""}]
[1014,85,0,{"$f":"Reichweite!$D$5*(1+Reichweite!$D$6)^(B1018-1)","v":26386.660683409948},0,0,{"$f":"F1018*Reichweite!$F$7","v":0},0,{"$f":"IF(H1018>Reichweite!$D$4*Reichweite!$D$8,A1018,\"\")","v":""}]
[1015,85,0,{"$f":"Reichweite!$D$5*(1+Reichweite!$D$6)^(B1019-1)","v":26386.660683409948},0,0,{"$f":"F1019*Reichweite!$F$7","v":0},0,{"$f":"IF(H1019>Reichweite!$D$4*Reichweite!$D$8,A1019,\"\")","v":""}]
[1016,85,0,{"$f":"Reichweite!$D$5*(1+Reichweite!$D$6)^(B1020-1)","v":26386.660683409948},0,0,{"$f":"F1020*Reichweite!$F$7","v":0},0,{"$f":"IF(H1020>Reichweite!$D$4*Reichweite!$D$8,A1020,\"\")","v":""}]
[1017,85,0,{"$f":"Reichweite!$D$5*(1+Reichweite!$D$6)^(B1021-1)","v":26386.660683409948},0,0,{"$f":"F1021*Reichweite!$F$7","v":0},0,{"$f":"IF(H1021>Reichweite!$D$4*Reichweite!$D$8,A1021,\"\")","v":""}]
[1018,85,0,{"$f":"Reichweite!$D$5*(1+Reichweite!$D$6)^(B1022-1)","v":26386.660683409948},0,0,{"$f":"F1022*Reichweite!$F$7","v":0},0,{"$f":"IF(H1022>Reichweite!$D$4*Reichweite!$D$8,A1022,\"\")","v":""}]
[1019,85,0,{"$f":"Reichweite!$D$5*(1+Reichweite!$D$6)^(B1023-1)","v":26386.660683409948},0,0,{"$f":"F1023*Reichweite!$F$7","v":0},0,{"$f":"IF(H1023>Reichweite!$D$4*Reichweite!$D$8,A1023,\"\")","v":""}]
[1020,86,0,{"$f":"Reichweite!$D$5*(1+Reichweite!$D$6)^(B1024-1)","v":26914.393897078149},0,0,{"$f":"F1024*Reichweite!$F$7","v":0},0,{"$f":"IF(H1024>Reichweite!$D$4*Reichweite!$D$8,A1024,\"\")","v":""}]
[1021,86,0,{"$f":"Reichweite!$D$5*(1+Reichweite!$D$6)^(B1025-1)","v":26914.393897078149},0,0,{"$f":"F1025*Reichweite!$F$7","v":0},0,{"$f":"IF(H1025>Reichweite!$D$4*Reichweite!$D$8,A1025,\"\")","v":""}]
[1022,86,0,{"$f":"Reichweite!$D$5*(1+Reichweite!$D$6)^(B1026-1)","v":26914.393897078149},0,0,{"$f":"F1026*Reichweite!$F$7","v":0},0,{"$f":"IF(H1026>Reichweite!$D$4*Reichweite!$D$8,A1026,\"\")","v":""}]
[1023,86,0,{"$f":"Reichweite!$D$5*(1+Reichweite!$D$6)^(B1027-1)","v":26914.393897078149},0,0,{"$f":"F1027*Reichweite!$F$7","v":0},0,{"$f":"IF(H1027>Reichweite!$D$4*Reichweite!$D$8,A1027,\"\")","v":""}]
[1024,{"$f":"INT(A1028/12)+1","v":86},0,{"$f":"Reichweite!$D$5*(1+Reichweite!$D$6)^(B1028-1)","v":26914.393897078149},{"$f":"MIN(D1028,C1028)","v":0},{"$f":"C1028-E1028","v":0},{"$f":"F1028*Reichweite!$F$7","v":0},{"$f":"MAX(0,F1028+G1028)","v":0},{"$f":"IF(H1028>Reichweite!$D$4*Reichweite!$D$8,A1028,\"\")","v":""}]
[1025,86,{"$f":"H1028","v":0},{"$f":"Reichweite!$D$5*(1+Reichweite!$D$6)^(B1029-1)","v":26914.393897078149},0,0,{"$f":"F1029*Reichweite!$F$7","v":0},0,{"$f":"IF(H1029>Reichweite!$D$4*Reichweite!$D$8,A1029,\"\")","v":""}]
[1026,86,0,{"$f":"Reichweite!$D$5*(1+Reichweite!$D$6)^(B1030-1)","v":26914.393897078149},0,0,{"$f":"F1030*Reichweite!$F$7","v":0},0,{"$f":"IF(H1030>Reichweite!$D$4*Reichweite!$D$8,A1030,\"\")","v":""}]
[1027,86,0,{"$f":"Reichweite!$D$5*(1+Reichweite!$D$6)^(B1031-1)","v":26914.393897078149},0,0,{"$f":"F1031*Reichweite!$F$7","v":0},0,{"$f":"IF(H1031>Reichweite!$D$4*Reichweite!$D$8,A1031,\"\")","v":""}]
[1028,86,0,{"$f":"Reichweite!$D$5*(1+Reichweite!$D$6)^(B1032-1)","v":26914.393897078149},0,0,{"$f":"F1032*Reichweite!$F$7","v":0},0,{"$f":"IF(H1032>Reichweite!$D$4*Reichweite!$D$8,A1032,\"\")","v":""}]
[1029,86,0,{"$f":"Reichweite!$D$5*(1+Reichweite!$D$6)^(B1033-1)","v":26914.393897078149},0,0,{"$f":"F1033*Reichweite!$F$7","v":0},0,{"$f":"IF(H1033>Reichweite!$D$4*Reichweite!$D$8,A1033,\"\")","v":""}]
[1030,86,0,{"$f":"Reichweite!$D$5*(1+Reichweite!$D$6)^(B1034-1)","v":26914.393897078149},0,0,{"$f":"F1034*Reichweite!$F$7","v":0},0,{"$f":"IF(H1034>Reichweite!$D$4*Reichweite!$D$8,A1034,\"\")","v":""}]
[1031,86,0,{"$f":"Reichweite!$D$5*(1+Reichweite!$D$6)^(B1035-1)","v":26914.393897078149},0,0,{"$f":"F1035*Reichweite!$F$7","v":0},0,{"$f":"IF(H1035>Reichweite!$D$4*Reichweite!$D$8,A1035,\"\")","v":""}]
[1032,87,0,{"$f":"Reichweite!$D$5*(1+Reichweite!$D$6)^(B1036-1)","v":27452.681775019711},0,0,{"$f":"F1036*Reichweite!$F$7","v":0},0,{"$f":"IF(H1036>Reichweite!$D$4*Reichweite!$D$8,A1036,\"\")","v":""}]
[1033,87,0,{"$f":"Reichweite!$D$5*(1+Reichweite!$D$6)^(B1037-1)","v":27452.681775019711},0,0,{"$f":"F1037*Reichweite!$F$7","v":0},0,{"$f":"IF(H1037>Reichweite!$D$4*Reichweite!$D$8,A1037,\"\")","v":""}]
[1034,87,0,{"$f":"Reichweite!$D$5*(1+Reichweite!$D$6)^(B1038-1)","v":27452.681775019711},0,0,{"$f":"F1038*Reichweite!$F$7","v":0},0,{"$f":"IF(H1038>Reichweite!$D$4*Reichweite!$D$8,A1038,\"\")","v":""}]
[1035,87,0,{"$f":"Reichweite!$D$5*(1+Reichweite!$D$6)^(B1039-1)","v":27452.681775019711},0,0,{"$f":"F1039*Reichweite!$F$7","v":0},0,{"$f":"IF(H1039>Reichweite!$D$4*Reichweite!$D$8,A1039,\"\")","v":""}]
[1036,87,0,{"$f":"Reichweite!$D$5*(1+Reichweite!$D$6)^(B1040-1)","v":27452.681775019711},0,0,{"$f":"F1040*Reichweite!$F$7","v":0},0,{"$f":"IF(H1040>Reichweite!$D$4*Reichweite!$D$8,A1040,\"\")","v":""}]
[1037,87,0,{"$f":"Reichweite!$D$5*(1+Reichweite!$D$6)^(B1041-1)","v":27452.681775019711},0,0,{"$f":"F1041*Reichweite!$F$7","v":0},0,{"$f":"IF(H1041>Reichweite!$D$4*Reichweite!$D$8,A1041,\"\")","v":""}]
[1038,87,0,{"$f":"Reichweite!$D$5*(1+Reichweite!$D$6)^(B1042-1)","v":27452.681775019711},0,0,{"$f":"F1042*Reichweite!$F$7","v":0},0,{"$f":"IF(H1042>Reichweite!$D$4*Reichweite!$D$8,A1042,\"\")","v":""}]
[1039,87,0,{"$f":"Reichweite!$D$5*(1+Reichweite!$D$6)^(B1043-1)","v":27452.681775019711},0,0,{"$f":"F1043*Reichweite!$F$7","v":0},0,{"$f":"IF(H1043>Reichweite!$D$4*Reichweite!$D$8,A1043,\"\")","v":""}]
[1040,87,0,{"$f":"Reichweite!$D$5*(1+Reichweite!$D$6)^(B1044-1)","v":27452.681775019711},0,0,{"$f":"F1044*Reichweite!$F$7","v":0},0,{"$f":"IF(H1044>Reichweite!$D$4*Reichweite!$D$8,A1044,\"\")","v":""}]
[1041,87,0,{"$f":"Reichweite!$D$5*(1+Reichweite!$D$6)^(B1045-1)","v":27452.681775019711},0,0,{"$f":"F1045*Reichweite!$F$7","v":0},0,{"$f":"IF(H1045>Reichweite!$D$4*Reichweite!$D$8,A1045,\"\")","v":""}]
[1042,87,0,{"$f":"Reichweite!$D$5*(1+Reichweite!$D$6)^(B1046-1)","v":27452.681775019711},0,0,{"$f":"F1046*Reichweite!$F$7","v":0},0,{"$f":"IF(H1046>Reichweite!$D$4*Reichweite!$D$8,A1046,\"\")","v":""}]
[1043,87,0,{"$f":"Reichweite!$D$5*(1+Reichweite!$D$6)^(B1047-1)","v":27452.681775019711},0,0,{"$f":"F1047*Reichweite!$F$7","v":0},0,{"$f":"IF(H1047>Reichweite!$D$4*Reichweite!$D$8,A1047,\"\")","v":""}]
[1044,88,0,{"$f":"Reichweite!$D$5*(1+Reichweite!$D$6)^(B1048-1)","v":28001.735410520098},0,0,{"$f":"F1048*Reichweite!$F$7","v":0},0,{"$f":"IF(H1048>Reichweite!$D$4*Reichweite!$D$8,A1048,\"\")","v":""}]
[1045,88,0,{"$f":"Reichweite!$D$5*(1+Reichweite!$D$6)^(B1049-1)","v":28001.735410520098},0,0,{"$f":"F1049*Reichweite!$F$7","v":0},0,{"$f":"IF(H1049>Reichweite!$D$4*Reichweite!$D$8,A1049,\"\")","v":""}]
[1046,88,0,{"$f":"Reichweite!$D$5*(1+Reichweite!$D$6)^(B1050-1)","v":28001.735410520098},0,0,{"$f":"F1050*Reichweite!$F$7","v":0},0,{"$f":"IF(H1050>Reichweite!$D$4*Reichweite!$D$8,A1050,\"\")","v":""}]
[1047,88,0,{"$f":"Reichweite!$D$5*(1+Reichweite!$D$6)^(B1051-1)","v":28001.735410520098},0,0,{"$f":"F1051*Reichweite!$F$7","v":0},0,{"$f":"IF(H1051>Reichweite!$D$4*Reichweite!$D$8,A1051,\"\")","v":""}]
[1048,88,0,{"$f":"Reichweite!$D$5*(1+Reichweite!$D$6)^(B1052-1)","v":28001.735410520098},0,0,{"$f":"F1052*Reichweite!$F$7","v":0},0,{"$f":"IF(H1052>Reichweite!$D$4*Reichweite!$D$8,A1052,\"\")","v":""}]
[1049,88,0,{"$f":"Reichweite!$D$5*(1+Reichweite!$D$6)^(B1053-1)","v":28001.735410520098},0,0,{"$f":"F1053*Reichweite!$F$7","v":0},0,{"$f":"IF(H1053>Reichweite!$D$4*Reichweite!$D$8,A1053,\"\")","v":""}]
[1050,88,0,{"$f":"Reichweite!$D$5*(1+Reichweite!$D$6)^(B1054-1)","v":28001.735410520098},0,0,{"$f":"F1054*Reichweite!$F$7","v":0},0,{"$f":"IF(H1054>Reichweite!$D$4*Reichweite!$D$8,A1054,\"\")","v":""}]
[1051,88,0,{"$f":"Reichweite!$D$5*(1+Reichweite!$D$6)^(B1055-1)","v":28001.735410520098},0,0,{"$f":"F1055*Reichweite!$F$7","v":0},0,{"$f":"IF(H1055>Reichweite!$D$4*Reichweite!$D$8,A1055,\"\")","v":""}]
[1052,88,0,{"$f":"Reichweite!$D$5*(1+Reichweite!$D$6)^(B1056-1)","v":28001.735410520098},0,0,{"$f":"F1056*Reichweite!$F$7","v":0},0,{"$f":"IF(H1056>Reichweite!$D$4*Reichweite!$D$8,A1056,\"\")","v":""}]
[1053,88,0,{"$f":"Reichweite!$D$5*(1+Reichweite!$D$6)^(B1057-1)","v":28001.735410520098},0,0,{"$f":"F1057*Reichweite!$F$7","v":0},0,{"$f":"IF(H1057>Reichweite!$D$4*Reichweite!$D$8,A1057,\"\")","v":""}]
[1054,88,0,{"$f":"Reichweite!$D$5*(1+Reichweite!$D$6)^(B1058-1)","v":28001.735410520098},0,0,{"$f":"F1058*Reichweite!$F$7","v":0},0,{"$f":"IF(H1058>Reichweite!$D$4*Reichweite!$D$8,A1058,\"\")","v":""}]
[1055,88,0,{"$f":"Reichweite!$D$5*(1+Reichweite!$D$6)^(B1059-1)","v":28001.735410520098},0,0,{"$f":"F1059*Reichweite!$F$7","v":0},0,{"$f":"IF(H1059>Reichweite!$D$4*Reichweite!$D$8,A1059,\"\")","v":""}]
[1056,89,0,{"$f":"Reichweite!$D$5*(1+Reichweite!$D$6)^(B1060-1)","v":28561.770118730503},0,0,{"$f":"F1060*Reichweite!$F$7","v":0},0,{"$f":"IF(H1060>Reichweite!$D$4*Reichweite!$D$8,A1060,\"\")","v":""}]
[1057,89,0,{"$f":"Reichweite!$D$5*(1+Reichweite!$D$6)^(B1061-1)","v":28561.770118730503},0,0,{"$f":"F1061*Reichweite!$F$7","v":0},0,{"$f":"IF(H1061>Reichweite!$D$4*Reichweite!$D$8,A1061,\"\")","v":""}]
[1058,89,0,{"$f":"Reichweite!$D$5*(1+Reichweite!$D$6)^(B1062-1)","v":28561.770118730503},0,0,{"$f":"F1062*Reichweite!$F$7","v":0},0,{"$f":"IF(H1062>Reichweite!$D$4*Reichweite!$D$8,A1062,\"\")","v":""}]
[1059,89,0,{"$f":"Reichweite!$D$5*(1+Reichweite!$D$6)^(B1063-1)","v":28561.770118730503},0,0,{"$f":"F1063*Reichweite!$F$7","v":0},0,{"$f":"IF(H1063>Reichweite!$D$4*Reichweite!$D$8,A1063,\"\")","v":""}]
[1060,89,0,{"$f":"Reichweite!$D$5*(1+Reichweite!$D$6)^(B1064-1)","v":28561.770118730503},0,0,{"$f":"F1064*Reichweite!$F$7","v":0},0,{"$f":"IF(H1064>Reichweite!$D$4*Reichweite!$D$8,A1064,\"\")","v":""}]
[1061,89,0,{"$f":"Reichweite!$D$5*(1+Reichweite!$D$6)^(B1065-1)","v":28561.770118730503},0,0,{"$f":"F1065*Reichweite!$F$7","v":0},0,{"$f":"IF(H1065>Reichweite!$D$4*Reichweite!$D$8,A1065,\"\")","v":""}]
[1062,89,0,{"$f":"Reichweite!$D$5*(1+Reichweite!$D$6)^(B1066-1)","v":28561.770118730503},0,0,{"$f":"F1066*Reichweite!$F$7","v":0},0,{"$f":"IF(H1066>Reichweite!$D$4*Reichweite!$D$8,A1066,\"\")","v":""}]
[1063,89,0,{"$f":"Reichweite!$D$5*(1+Reichweite!$D$6)^(B1067-1)","v":28561.770118730503},0,0,{"$f":"F1067*Reichweite!$F$7","v":0},0,{"$f":"IF(H1067>Reichweite!$D$4*Reichweite!$D$8,A1067,\"\")","v":""}]
[1064,89,0,{"$f":"Reichweite!$D$5*(1+Reichweite!$D$6)^(B1068-1)","v":28561.770118730503},0,0,{"$f":"F1068*Reichweite!$F$7","v":0},0,{"$f":"IF(H1068>Reichweite!$D$4*Reichweite!$D$8,A1068,\"\")","v":""}]
[1065,89,0,{"$f":"Reichweite!$D$5*(1+Reichweite!$D$6)^(B1069-1)","v":28561.770118730503},0,0,{"$f":"F1069*Reichweite!$F$7","v":0},0,{"$f":"IF(H1069>Reichweite!$D$4*Reichweite!$D$8,A1069,\"\")","v":""}]
[1066,89,0,{"$f":"Reichweite!$D$5*(1+Reichweite!$D$6)^(B1070-1)","v":28561.770118730503},0,0,{"$f":"F1070*Reichweite!$F$7","v":0},0,{"$f":"IF(H1070>Reichweite!$D$4*Reichweite!$D$8,A1070,\"\")","v":""}]
[1067,89,0,{"$f":"Reichweite!$D$5*(1+Reichweite!$D$6)^(B1071-1)","v":28561.770118730503},0,0,{"$f":"F1071*Reichweite!$F$7","v":0},0,{"$f":"IF(H1071>Reichweite!$D$4*Reichweite!$D$8,A1071,\"\")","v":""}]
[1068,90,0,{"$f":"Reichweite!$D$5*(1+Reichweite!$D$6)^(B1072-1)","v":29133.005521105115},0,0,{"$f":"F1072*Reichweite!$F$7","v":0},0,{"$f":"IF(H1072>Reichweite!$D$4*Reichweite!$D$8,A1072,\"\")","v":""}]
[1069,90,0,{"$f":"Reichweite!$D$5*(1+Reichweite!$D$6)^(B1073-1)","v":29133.005521105115},0,0,{"$f":"F1073*Reichweite!$F$7","v":0},0,{"$f":"IF(H1073>Reichweite!$D$4*Reichweite!$D$8,A1073,\"\")","v":""}]
[1070,90,0,{"$f":"Reichweite!$D$5*(1+Reichweite!$D$6)^(B1074-1)","v":29133.005521105115},0,0,{"$f":"F1074*Reichweite!$F$7","v":0},0,{"$f":"IF(H1074>Reichweite!$D$4*Reichweite!$D$8,A1074,\"\")","v":""}]
[1071,90,0,{"$f":"Reichweite!$D$5*(1+Reichweite!$D$6)^(B1075-1)","v":29133.005521105115},0,0,{"$f":"F1075*Reichweite!$F$7","v":0},0,{"$f":"IF(H1075>Reichweite!$D$4*Reichweite!$D$8,A1075,\"\")","v":""}]
[1072,90,0,{"$f":"Reichweite!$D$5*(1+Reichweite!$D$6)^(B1076-1)","v":29133.005521105115},0,0,{"$f":"F1076*Reichweite!$F$7","v":0},0,{"$f":"IF(H1076>Reichweite!$D$4*Reichweite!$D$8,A1076,\"\")","v":""}]
[1073,90,0,{"$f":"Reichweite!$D$5*(1+Reichweite!$D$6)^(B1077-1)","v":29133.005521105115},0,0,{"$f":"F1077*Reichweite!$F$7","v":0},0,{"$f":"IF(H1077>Reichweite!$D$4*Reichweite!$D$8,A1077,\"\")","v":""}]
[1074,90,0,{"$f":"Reichweite!$D$5*(1+Reichweite!$D$6)^(B1078-1)","v":29133.005521105115},0,0,{"$f":"F1078*Reichweite!$F$7","v":0},0,{"$f":"IF(H1078>Reichweite!$D$4*Reichweite!$D$8,A1078,\"\")","v":""}]
[1075,90,0,{"$f":"Reichweite!$D$5*(1+Reichweite!$D$6)^(B1079-1)","v":29133.005521105115},0,0,{"$f":"F1079*Reichweite!$F$7","v":0},0,{"$f":"IF(H1079>Reichweite!$D$4*Reichweite!$D$8,A1079,\"\")","v":""}]
[1076,90,0,{"$f":"Reichweite!$D$5*(1+Reichweite!$D$6)^(B1080-1)","v":29133.005521105115},0,0,{"$f":"F1080*Reichweite!$F$7","v":0},0,{"$f":"IF(H1080>Reichweite!$D$4*Reichweite!$D$8,A1080,\"\")","v":""}]
[1077,90,0,{"$f":"Reichweite!$D$5*(1+Reichweite!$D$6)^(B1081-1)","v":29133.005521105115},0,0,{"$f":"F1081*Reichweite!$F$7","v":0},0,{"$f":"IF(H1081>Reichweite!$D$4*Reichweite!$D$8,A1081,\"\")","v":""}]
[1078,90,0,{"$f":"Reichweite!$D$5*(1+Reichweite!$D$6)^(B1082-1)","v":29133.005521105115},0,0,{"$f":"F1082*Reichweite!$F$7","v":0},0,{"$f":"IF(H1082>Reichweite!$D$4*Reichweite!$D$8,A1082,\"\")","v":""}]
[1079,90,0,{"$f":"Reichweite!$D$5*(1+Reichweite!$D$6)^(B1083-1)","v":29133.005521105115},0,0,{"$f":"F1083*Reichweite!$F$7","v":0},0,{"$f":"IF(H1083>Reichweite!$D$4*Reichweite!$D$8,A1083,\"\")","v":""}]
[1080,91,0,{"$f":"Reichweite!$D$5*(1+Reichweite!$D$6)^(B1084-1)","v":29715.665631527219},0,0,{"$f":"F1084*Reichweite!$F$7","v":0},0,{"$f":"IF(H1084>Reichweite!$D$4*Reichweite!$D$8,A1084,\"\")","v":""}]
[1081,91,0,{"$f":"Reichweite!$D$5*(1+Reichweite!$D$6)^(B1085-1)","v":29715.665631527219},0,0,{"$f":"F1085*Reichweite!$F$7","v":0},0,{"$f":"IF(H1085>Reichweite!$D$4*Reichweite!$D$8,A1085,\"\")","v":""}]
[1082,91,0,{"$f":"Reichweite!$D$5*(1+Reichweite!$D$6)^(B1086-1)","v":29715.665631527219},0,0,{"$f":"F1086*Reichweite!$F$7","v":0},0,{"$f":"IF(H1086>Reichweite!$D$4*Reichweite!$D$8,A1086,\"\")","v":""}]
[1083,91,0,{"$f":"Reichweite!$D$5*(1+Reichweite!$D$6)^(B1087-1)","v":29715.665631527219},0,0,{"$f":"F1087*Reichweite!$F$7","v":0},0,{"$f":"IF(H1087>Reichweite!$D$4*Reichweite!$D$8,A1087,\"\")","v":""}]
[1084,91,0,{"$f":"Reichweite!$D$5*(1+Reichweite!$D$6)^(B1088-1)","v":29715.665631527219},0,0,{"$f":"F1088*Reichweite!$F$7","v":0},0,{"$f":"IF(H1088>Reichweite!$D$4*Reichweite!$D$8,A1088,\"\")","v":""}]
[1085,91,0,{"$f":"Reichweite!$D$5*(1+Reichweite!$D$6)^(B1089-1)","v":29715.665631527219},0,0,{"$f":"F1089*Reichweite!$F$7","v":0},0,{"$f":"IF(H1089>Reichweite!$D$4*Reichweite!$D$8,A1089,\"\")","v":""}]
[1086,91,0,{"$f":"Reichweite!$D$5*(1+Reichweite!$D$6)^(B1090-1)","v":29715.665631527219},0,0,{"$f":"F1090*Reichweite!$F$7","v":0},0,{"$f":"IF(H1090>Reichweite!$D$4*Reichweite!$D$8,A1090,\"\")","v":""}]
[1087,91,0,{"$f":"Reichweite!$D$5*(1+Reichweite!$D$6)^(B1091-1)","v":29715.665631527219},0,0,{"$f":"F1091*Reichweite!$F$7","v":0},0,{"$f":"IF(H1091>Reichweite!$D$4*Reichweite!$D$8,A1091,\"\")","v":""}]
[1088,{"$f":"INT(A1092/12)+1","v":91},0,{"$f":"Reichweite!$D$5*(1+Reichweite!$D$6)^(B1092-1)","v":29715.665631527219},{"$f":"MIN(D1092,C1092)","v":0},{"$f":"C1092-E1092","v":0},{"$f":"F1092*Reichweite!$F$7","v":0},{"$f":"MAX(0,F1092+G1092)","v":0},{"$f":"IF(H1092>Reichweite!$D$4*Reichweite!$D$8,A1092,\"\")","v":""}]
[1089,91,{"$f":"H1092","v":0},{"$f":"Reichweite!$D$5*(1+Reichweite!$D$6)^(B1093-1)","v":29715.665631527219},0,0,{"$f":"F1093*Reichweite!$F$7","v":0},0,{"$f":"IF(H1093>Reichweite!$D$4*Reichweite!$D$8,A1093,\"\")","v":""}]
[1090,91,0,{"$f":"Reichweite!$D$5*(1+Reichweite!$D$6)^(B1094-1)","v":29715.665631527219},0,0,{"$f":"F1094*Reichweite!$F$7","v":0},0,{"$f":"IF(H1094>Reichweite!$D$4*Reichweite!$D$8,A1094,\"\")","v":""}]
[1091,91,0,{"$f":"Reichweite!$D$5*(1+Reichweite!$D$6)^(B1095-1)","v":29715.665631527219},0,0,{"$f":"F1095*Reichweite!$F$7","v":0},0,{"$f":"IF(H1095>Reichweite!$D$4*Reichweite!$D$8,A1095,\"\")","v":""}]
[1092,92,0,{"$f":"Reichweite!$D$5*(1+Reichweite!$D$6)^(B1096-1)","v":30309.97894415776},0,0,{"$f":"F1096*Reichweite!$F$7","v":0},0,{"$f":"IF(H1096>Reichweite!$D$4*Reichweite!$D$8,A1096,\"\")","v":""}]
[1093,92,0,{"$f":"Reichweite!$D$5*(1+Reichweite!$D$6)^(B1097-1)","v":30309.97894415776},0,0,{"$f":"F1097*Reichweite!$F$7","v":0},0,{"$f":"IF(H1097>Reichweite!$D$4*Reichweite!$D$8,A1097,\"\")","v":""}]
[1094,92,0,{"$f":"Reichweite!$D$5*(1+Reichweite!$D$6)^(B1098-1)","v":30309.97894415776},0,0,{"$f":"F1098*Reichweite!$F$7","v":0},0,{"$f":"IF(H1098>Reichweite!$D$4*Reichweite!$D$8,A1098,\"\")","v":""}]
[1095,92,0,{"$f":"Reichweite!$D$5*(1+Reichweite!$D$6)^(B1099-1)","v":30309.97894415776},0,0,{"$f":"F1099*Reichweite!$F$7","v":0},0,{"$f":"IF(H1099>Reichweite!$D$4*Reichweite!$D$8,A1099,\"\")","v":""}]
[1096,92,0,{"$f":"Reichweite!$D$5*(1+Reichweite!$D$6)^(B1100-1)","v":30309.97894415776},0,0,{"$f":"F1100*Reichweite!$F$7","v":0},0,{"$f":"IF(H1100>Reichweite!$D$4*Reichweite!$D$8,A1100,\"\")","v":""}]
[1097,92,0,{"$f":"Reichweite!$D$5*(1+Reichweite!$D$6)^(B1101-1)","v":30309.97894415776},0,0,{"$f":"F1101*Reichweite!$F$7","v":0},0,{"$f":"IF(H1101>Reichweite!$D$4*Reichweite!$D$8,A1101,\"\")","v":""}]
[1098,92,0,{"$f":"Reichweite!$D$5*(1+Reichweite!$D$6)^(B1102-1)","v":30309.97894415776},0,0,{"$f":"F1102*Reichweite!$F$7","v":0},0,{"$f":"IF(H1102>Reichweite!$D$4*Reichweite!$D$8,A1102,\"\")","v":""}]
[1099,92,0,{"$f":"Reichweite!$D$5*(1+Reichweite!$D$6)^(B1103-1)","v":30309.97894415776},0,0,{"$f":"F1103*Reichweite!$F$7","v":0},0,{"$f":"IF(H1103>Reichweite!$D$4*Reichweite!$D$8,A1103,\"\")","v":""}]
[1100,92,0,{"$f":"Reichweite!$D$5*(1+Reichweite!$D$6)^(B1104-1)","v":30309.97894415776},0,0,{"$f":"F1104*Reichweite!$F$7","v":0},0,{"$f":"IF(H1104>Reichweite!$D$4*Reichweite!$D$8,A1104,\"\")","v":""}]
[1101,92,0,{"$f":"Reichweite!$D$5*(1+Reichweite!$D$6)^(B1105-1)","v":30309.97894415776},0,0,{"$f":"F1105*Reichweite!$F$7","v":0},0,{"$f":"IF(H1105>Reichweite!$D$4*Reichweite!$D$8,A1105,\"\")","v":""}]
[1102,92,0,{"$f":"Reichweite!$D$5*(1+Reichweite!$D$6)^(B1106-1)","v":30309.97894415776},0,0,{"$f":"F1106*Reichweite!$F$7","v":0},0,{"$f":"IF(H1106>Reichweite!$D$4*Reichweite!$D$8,A1106,\"\")","v":""}]
[1103,92,0,{"$f":"Reichweite!$D$5*(1+Reichweite!$D$6)^(B1107-1)","v":30309.97894415776},0,0,{"$f":"F1107*Reichweite!$F$7","v":0},0,{"$f":"IF(H1107>Reichweite!$D$4*Reichweite!$D$8,A1107,\"\")","v":""}]
[1104,93,0,{"$f":"Reichweite!$D$5*(1+Reichweite!$D$6)^(B1108-1)","v":30916.178523040919},0,0,{"$f":"F1108*Reichweite!$F$7","v":0},0,{"$f":"IF(H1108>Reichweite!$D$4*Reichweite!$D$8,A1108,\"\")","v":""}]
[1105,93,0,{"$f":"Reichweite!$D$5*(1+Reichweite!$D$6)^(B1109-1)","v":30916.178523040919},0,0,{"$f":"F1109*Reichweite!$F$7","v":0},0,{"$f":"IF(H1109>Reichweite!$D$4*Reichweite!$D$8,A1109,\"\")","v":""}]
[1106,93,0,{"$f":"Reichweite!$D$5*(1+Reichweite!$D$6)^(B1110-1)","v":30916.178523040919},0,0,{"$f":"F1110*Reichweite!$F$7","v":0},0,{"$f":"IF(H1110>Reichweite!$D$4*Reichweite!$D$8,A1110,\"\")","v":""}]
[1107,93,0,{"$f":"Reichweite!$D$5*(1+Reichweite!$D$6)^(B1111-1)","v":30916.178523040919},0,0,{"$f":"F1111*Reichweite!$F$7","v":0},0,{"$f":"IF(H1111>Reichweite!$D$4*Reichweite!$D$8,A1111,\"\")","v":""}]
[1108,93,0,{"$f":"Reichweite!$D$5*(1+Reichweite!$D$6)^(B1112-1)","v":30916.178523040919},0,0,{"$f":"F1112*Reichweite!$F$7","v":0},0,{"$f":"IF(H1112>Reichweite!$D$4*Reichweite!$D$8,A1112,\"\")","v":""}]
[1109,93,0,{"$f":"Reichweite!$D$5*(1+Reichweite!$D$6)^(B1113-1)","v":30916.178523040919},0,0,{"$f":"F1113*Reichweite!$F$7","v":0},0,{"$f":"IF(H1113>Reichweite!$D$4*Reichweite!$D$8,A1113,\"\")","v":""}]
[1110,93,0,{"$f":"Reichweite!$D$5*(1+Reichweite!$D$6)^(B1114-1)","v":30916.178523040919},0,0,{"$f":"F1114*Reichweite!$F$7","v":0},0,{"$f":"IF(H1114>Reichweite!$D$4*Reichweite!$D$8,A1114,\"\")","v":""}]
[1111,93,0,{"$f":"Reichweite!$D$5*(1+Reichweite!$D$6)^(B1115-1)","v":30916.178523040919},0,0,{"$f":"F1115*Reichweite!$F$7","v":0},0,{"$f":"IF(H1115>Reichweite!$D$4*Reichweite!$D$8,A1115,\"\")","v":""}]
[1112,93,0,{"$f":"Reichweite!$D$5*(1+Reichweite!$D$6)^(B1116-1)","v":30916.178523040919},0,0,{"$f":"F1116*Reichweite!$F$7","v":0},0,{"$f":"IF(H1116>Reichweite!$D$4*Reichweite!$D$8,A1116,\"\")","v":""}]
[1113,93,0,{"$f":"Reichweite!$D$5*(1+Reichweite!$D$6)^(B1117-1)","v":30916.178523040919},0,0,{"$f":"F1117*Reichweite!$F$7","v":0},0,{"$f":"IF(H1117>Reichweite!$D$4*Reichweite!$D$8,A1117,\"\")","v":""}]
[1114,93,0,{"$f":"Reichweite!$D$5*(1+Reichweite!$D$6)^(B1118-1)","v":30916.178523040919},0,0,{"$f":"F1118*Reichweite!$F$7","v":0},0,{"$f":"IF(H1118>Reichweite!$D$4*Reichweite!$D$8,A1118,\"\")","v":""}]
[1115,93,0,{"$f":"Reichweite!$D$5*(1+Reichweite!$D$6)^(B1119-1)","v":30916.178523040919},0,0,{"$f":"F1119*Reichweite!$F$7","v":0},0,{"$f":"IF(H1119>Reichweite!$D$4*Reichweite!$D$8,A1119,\"\")","v":""}]
[1116,94,0,{"$f":"Reichweite!$D$5*(1+Reichweite!$D$6)^(B1120-1)","v":31534.502093501735},0,0,{"$f":"F1120*Reichweite!$F$7","v":0},0,{"$f":"IF(H1120>Reichweite!$D$4*Reichweite!$D$8,A1120,\"\")","v":""}]
[1117,94,0,{"$f":"Reichweite!$D$5*(1+Reichweite!$D$6)^(B1121-1)","v":31534.502093501735},0,0,{"$f":"F1121*Reichweite!$F$7","v":0},0,{"$f":"IF(H1121>Reichweite!$D$4*Reichweite!$D$8,A1121,\"\")","v":""}]
[1118,94,0,{"$f":"Reichweite!$D$5*(1+Reichweite!$D$6)^(B1122-1)","v":31534.502093501735},0,0,{"$f":"F1122*Reichweite!$F$7","v":0},0,{"$f":"IF(H1122>Reichweite!$D$4*Reichweite!$D$8,A1122,\"\")","v":""}]
[1119,94,0,{"$f":"Reichweite!$D$5*(1+Reichweite!$D$6)^(B1123-1)","v":31534.502093501735},0,0,{"$f":"F1123*Reichweite!$F$7","v":0},0,{"$f":"IF(H1123>Reichweite!$D$4*Reichweite!$D$8,A1123,\"\")","v":""}]
[1120,94,0,{"$f":"Reichweite!$D$5*(1+Reichweite!$D$6)^(B1124-1)","v":31534.502093501735},0,0,{"$f":"F1124*Reichweite!$F$7","v":0},0,{"$f":"IF(H1124>Reichweite!$D$4*Reichweite!$D$8,A1124,\"\")","v":""}]
[1121,94,0,{"$f":"Reichweite!$D$5*(1+Reichweite!$D$6)^(B1125-1)","v":31534.502093501735},0,0,{"$f":"F1125*Reichweite!$F$7","v":0},0,{"$f":"IF(H1125>Reichweite!$D$4*Reichweite!$D$8,A1125,\"\")","v":""}]
[1122,94,0,{"$f":"Reichweite!$D$5*(1+Reichweite!$D$6)^(B1126-1)","v":31534.502093501735},0,0,{"$f":"F1126*Reichweite!$F$7","v":0},0,{"$f":"IF(H1126>Reichweite!$D$4*Reichweite!$D$8,A1126,\"\")","v":""}]
[1123,94,0,{"$f":"Reichweite!$D$5*(1+Reichweite!$D$6)^(B1127-1)","v":31534.502093501735},0,0,{"$f":"F1127*Reichweite!$F$7","v":0},0,{"$f":"IF(H1127>Reichweite!$D$4*Reichweite!$D$8,A1127,\"\")","v":""}]
[1124,94,0,{"$f":"Reichweite!$D$5*(1+Reichweite!$D$6)^(B1128-1)","v":31534.502093501735},0,0,{"$f":"F1128*Reichweite!$F$7","v":0},0,{"$f":"IF(H1128>Reichweite!$D$4*Reichweite!$D$8,A1128,\"\")","v":""}]
[1125,94,0,{"$f":"Reichweite!$D$5*(1+Reichweite!$D$6)^(B1129-1)","v":31534.502093501735},0,0,{"$f":"F1129*Reichweite!$F$7","v":0},0,{"$f":"IF(H1129>Reichweite!$D$4*Reichweite!$D$8,A1129,\"\")","v":""}]
[1126,94,0,{"$f":"Reichweite!$D$5*(1+Reichweite!$D$6)^(B1130-1)","v":31534.502093501735},0,0,{"$f":"F1130*Reichweite!$F$7","v":0},0,{"$f":"IF(H1130>Reichweite!$D$4*Reichweite!$D$8,A1130,\"\")","v":""}]
[1127,94,0,{"$f":"Reichweite!$D$5*(1+Reichweite!$D$6)^(B1131-1)","v":31534.502093501735},0,0,{"$f":"F1131*Reichweite!$F$7","v":0},0,{"$f":"IF(H1131>Reichweite!$D$4*Reichweite!$D$8,A1131,\"\")","v":""}]
[1128,95,0,{"$f":"Reichweite!$D$5*(1+Reichweite!$D$6)^(B1132-1)","v":32165.192135371773},0,0,{"$f":"F1132*Reichweite!$F$7","v":0},0,{"$f":"IF(H1132>Reichweite!$D$4*Reichweite!$D$8,A1132,\"\")","v":""}]
[1129,95,0,{"$f":"Reichweite!$D$5*(1+Reichweite!$D$6)^(B1133-1)","v":32165.192135371773},0,0,{"$f":"F1133*Reichweite!$F$7","v":0},0,{"$f":"IF(H1133>Reichweite!$D$4*Reichweite!$D$8,A1133,\"\")","v":""}]
[1130,95,0,{"$f":"Reichweite!$D$5*(1+Reichweite!$D$6)^(B1134-1)","v":32165.192135371773},0,0,{"$f":"F1134*Reichweite!$F$7","v":0},0,{"$f":"IF(H1134>Reichweite!$D$4*Reichweite!$D$8,A1134,\"\")","v":""}]
[1131,95,0,{"$f":"Reichweite!$D$5*(1+Reichweite!$D$6)^(B1135-1)","v":32165.192135371773},0,0,{"$f":"F1135*Reichweite!$F$7","v":0},0,{"$f":"IF(H1135>Reichweite!$D$4*Reichweite!$D$8,A1135,\"\")","v":""}]
[1132,95,0,{"$f":"Reichweite!$D$5*(1+Reichweite!$D$6)^(B1136-1)","v":32165.192135371773},0,0,{"$f":"F1136*Reichweite!$F$7","v":0},0,{"$f":"IF(H1136>Reichweite!$D$4*Reichweite!$D$8,A1136,\"\")","v":""}]
[1133,95,0,{"$f":"Reichweite!$D$5*(1+Reichweite!$D$6)^(B1137-1)","v":32165.192135371773},0,0,{"$f":"F1137*Reichweite!$F$7","v":0},0,{"$f":"IF(H1137>Reichweite!$D$4*Reichweite!$D$8,A1137,\"\")","v":""}]
[1134,95,0,{"$f":"Reichweite!$D$5*(1+Reichweite!$D$6)^(B1138-1)","v":32165.192135371773},0,0,{"$f":"F1138*Reichweite!$F$7","v":0},0,{"$f":"IF(H1138>Reichweite!$D$4*Reichweite!$D$8,A1138,\"\")","v":""}]
[1135,95,0,{"$f":"Reichweite!$D$5*(1+Reichweite!$D$6)^(B1139-1)","v":32165.192135371773},0,0,{"$f":"F1139*Reichweite!$F$7","v":0},0,{"$f":"IF(H1139>Reichweite!$D$4*Reichweite!$D$8,A1139,\"\")","v":""}]
[1136,95,0,{"$f":"Reichweite!$D$5*(1+Reichweite!$D$6)^(B1140-1)","v":32165.192135371773},0,0,{"$f":"F1140*Reichweite!$F$7","v":0},0,{"$f":"IF(H1140>Reichweite!$D$4*Reichweite!$D$8,A1140,\"\")","v":""}]
[1137,95,0,{"$f":"Reichweite!$D$5*(1+Reichweite!$D$6)^(B1141-1)","v":32165.192135371773},0,0,{"$f":"F1141*Reichweite!$F$7","v":0},0,{"$f":"IF(H1141>Reichweite!$D$4*Reichweite!$D$8,A1141,\"\")","v":""}]
[1138,95,0,{"$f":"Reichweite!$D$5*(1+Reichweite!$D$6)^(B1142-1)","v":32165.192135371773},0,0,{"$f":"F1142*Reichweite!$F$7","v":0},0,{"$f":"IF(H1142>Reichweite!$D$4*Reichweite!$D$8,A1142,\"\")","v":""}]
[1139,95,0,{"$f":"Reichweite!$D$5*(1+Reichweite!$D$6)^(B1143-1)","v":32165.192135371773},0,0,{"$f":"F1143*Reichweite!$F$7","v":0},0,{"$f":"IF(H1143>Reichweite!$D$4*Reichweite!$D$8,A1143,\"\")","v":""}]
[1140,96,0,{"$f":"Reichweite!$D$5*(1+Reichweite!$D$6)^(B1144-1)","v":32808.495978079198},0,0,{"$f":"F1144*Reichweite!$F$7","v":0},0,{"$f":"IF(H1144>Reichweite!$D$4*Reichweite!$D$8,A1144,\"\")","v":""}]
[1141,96,0,{"$f":"Reichweite!$D$5*(1+Reichweite!$D$6)^(B1145-1)","v":32808.495978079198},0,0,{"$f":"F1145*Reichweite!$F$7","v":0},0,{"$f":"IF(H1145>Reichweite!$D$4*Reichweite!$D$8,A1145,\"\")","v":""}]
[1142,96,0,{"$f":"Reichweite!$D$5*(1+Reichweite!$D$6)^(B1146-1)","v":32808.495978079198},0,0,{"$f":"F1146*Reichweite!$F$7","v":0},0,{"$f":"IF(H1146>Reichweite!$D$4*Reichweite!$D$8,A1146,\"\")","v":""}]
[1143,96,0,{"$f":"Reichweite!$D$5*(1+Reichweite!$D$6)^(B1147-1)","v":32808.495978079198},0,0,{"$f":"F1147*Reichweite!$F$7","v":0},0,{"$f":"IF(H1147>Reichweite!$D$4*Reichweite!$D$8,A1147,\"\")","v":""}]
[1144,96,0,{"$f":"Reichweite!$D$5*(1+Reichweite!$D$6)^(B1148-1)","v":32808.495978079198},0,0,{"$f":"F1148*Reichweite!$F$7","v":0},0,{"$f":"IF(H1148>Reichweite!$D$4*Reichweite!$D$8,A1148,\"\")","v":""}]
[1145,96,0,{"$f":"Reichweite!$D$5*(1+Reichweite!$D$6)^(B1149-1)","v":32808.495978079198},0,0,{"$f":"F1149*Reichweite!$F$7","v":0},0,{"$f":"IF(H1149>Reichweite!$D$4*Reichweite!$D$8,A1149,\"\")","v":""}]
[1146,96,0,{"$f":"Reichweite!$D$5*(1+Reichweite!$D$6)^(B1150-1)","v":32808.495978079198},0,0,{"$f":"F1150*Reichweite!$F$7","v":0},0,{"$f":"IF(H1150>Reichweite!$D$4*Reichweite!$D$8,A1150,\"\")","v":""}]
[1147,96,0,{"$f":"Reichweite!$D$5*(1+Reichweite!$D$6)^(B1151-1)","v":32808.495978079198},0,0,{"$f":"F1151*Reichweite!$F$7","v":0},0,{"$f":"IF(H1151>Reichweite!$D$4*Reichweite!$D$8,A1151,\"\")","v":""}]
[1148,96,0,{"$f":"Reichweite!$D$5*(1+Reichweite!$D$6)^(B1152-1)","v":32808.495978079198},0,0,{"$f":"F1152*Reichweite!$F$7","v":0},0,{"$f":"IF(H1152>Reichweite!$D$4*Reichweite!$D$8,A1152,\"\")","v":""}]
[1149,96,0,{"$f":"Reichweite!$D$5*(1+Reichweite!$D$6)^(B1153-1)","v":32808.495978079198},0,0,{"$f":"F1153*Reichweite!$F$7","v":0},0,{"$f":"IF(H1153>Reichweite!$D$4*Reichweite!$D$8,A1153,\"\")","v":""}]
[1150,96,0,{"$f":"Reichweite!$D$5*(1+Reichweite!$D$6)^(B1154-1)","v":32808.495978079198},0,0,{"$f":"F1154*Reichweite!$F$7","v":0},0,{"$f":"IF(H1154>Reichweite!$D$4*Reichweite!$D$8,A1154,\"\")","v":""}]
[1151,96,0,{"$f":"Reichweite!$D$5*(1+Reichweite!$D$6)^(B1155-1)","v":32808.495978079198},0,0,{"$f":"F1155*Reichweite!$F$7","v":0},0,{"$f":"IF(H1155>Reichweite!$D$4*Reichweite!$D$8,A1155,\"\")","v":""}]
[1152,{"$f":"INT(A1156/12)+1","v":97},0,{"$f":"Reichweite!$D$5*(1+Reichweite!$D$6)^(B1156-1)","v":33464.665897640785},{"$f":"MIN(D1156,C1156)","v":0},{"$f":"C1156-E1156","v":0},{"$f":"F1156*Reichweite!$F$7","v":0},{"$f":"MAX(0,F1156+G1156)","v":0},{"$f":"IF(H1156>Reichweite!$D$4*Reichweite!$D$8,A1156,\"\")","v":""}]
[1153,97,{"$f":"H1156","v":0},{"$f":"Reichweite!$D$5*(1+Reichweite!$D$6)^(B1157-1)","v":33464.665897640785},0,0,{"$f":"F1157*Reichweite!$F$7","v":0},0,{"$f":"IF(H1157>Reichweite!$D$4*Reichweite!$D$8,A1157,\"\")","v":""}]
[1154,97,0,{"$f":"Reichweite!$D$5*(1+Reichweite!$D$6)^(B1158-1)","v":33464.665897640785},0,0,{"$f":"F1158*Reichweite!$F$7","v":0},0,{"$f":"IF(H1158>Reichweite!$D$4*Reichweite!$D$8,A1158,\"\")","v":""}]
[1155,97,0,{"$f":"Reichweite!$D$5*(1+Reichweite!$D$6)^(B1159-1)","v":33464.665897640785},0,0,{"$f":"F1159*Reichweite!$F$7","v":0},0,{"$f":"IF(H1159>Reichweite!$D$4*Reichweite!$D$8,A1159,\"\")","v":""}]
[1156,97,0,{"$f":"Reichweite!$D$5*(1+Reichweite!$D$6)^(B1160-1)","v":33464.665897640785},0,0,{"$f":"F1160*Reichweite!$F$7","v":0},0,{"$f":"IF(H1160>Reichweite!$D$4*Reichweite!$D$8,A1160,\"\")","v":""}]
[1157,97,0,{"$f":"Reichweite!$D$5*(1+Reichweite!$D$6)^(B1161-1)","v":33464.665897640785},0,0,{"$f":"F1161*Reichweite!$F$7","v":0},0,{"$f":"IF(H1161>Reichweite!$D$4*Reichweite!$D$8,A1161,\"\")","v":""}]
[1158,97,0,{"$f":"Reichweite!$D$5*(1+Reichweite!$D$6)^(B1162-1)","v":33464.665897640785},0,0,{"$f":"F1162*Reichweite!$F$7","v":0},0,{"$f":"IF(H1162>Reichweite!$D$4*Reichweite!$D$8,A1162,\"\")","v":""}]
[1159,97,0,{"$f":"Reichweite!$D$5*(1+Reichweite!$D$6)^(B1163-1)","v":33464.665897640785},0,0,{"$f":"F1163*Reichweite!$F$7","v":0},0,{"$f":"IF(H1163>Reichweite!$D$4*Reichweite!$D$8,A1163,\"\")","v":""}]
[1160,97,0,{"$f":"Reichweite!$D$5*(1+Reichweite!$D$6)^(B1164-1)","v":33464.665897640785},0,0,{"$f":"F1164*Reichweite!$F$7","v":0},0,{"$f":"IF(H1164>Reichweite!$D$4*Reichweite!$D$8,A1164,\"\")","v":""}]
[1161,97,0,{"$f":"Reichweite!$D$5*(1+Reichweite!$D$6)^(B1165-1)","v":33464.665897640785},0,0,{"$f":"F1165*Reichweite!$F$7","v":0},0,{"$f":"IF(H1165>Reichweite!$D$4*Reichweite!$D$8,A1165,\"\")","v":""}]
[1162,97,0,{"$f":"Reichweite!$D$5*(1+Reichweite!$D$6)^(B1166-1)","v":33464.665897640785},0,0,{"$f":"F1166*Reichweite!$F$7","v":0},0,{"$f":"IF(H1166>Reichweite!$D$4*Reichweite!$D$8,A1166,\"\")","v":""}]
[1163,97,0,{"$f":"Reichweite!$D$5*(1+Reichweite!$D$6)^(B1167-1)","v":33464.665897640785},0,0,{"$f":"F1167*Reichweite!$F$7","v":0},0,{"$f":"IF(H1167>Reichweite!$D$4*Reichweite!$D$8,A1167,\"\")","v":""}]
[1164,98,0,{"$f":"Reichweite!$D$5*(1+Reichweite!$D$6)^(B1168-1)","v":34133.959215593604},0,0,{"$f":"F1168*Reichweite!$F$7","v":0},0,{"$f":"IF(H1168>Reichweite!$D$4*Reichweite!$D$8,A1168,\"\")","v":""}]
[1165,98,0,{"$f":"Reichweite!$D$5*(1+Reichweite!$D$6)^(B1169-1)","v":34133.959215593604},0,0,{"$f":"F1169*Reichweite!$F$7","v":0},0,{"$f":"IF(H1169>Reichweite!$D$4*Reichweite!$D$8,A1169,\"\")","v":""}]
[1166,98,0,{"$f":"Reichweite!$D$5*(1+Reichweite!$D$6)^(B1170-1)","v":34133.959215593604},0,0,{"$f":"F1170*Reichweite!$F$7","v":0},0,{"$f":"IF(H1170>Reichweite!$D$4*Reichweite!$D$8,A1170,\"\")","v":""}]
[1167,98,0,{"$f":"Reichweite!$D$5*(1+Reichweite!$D$6)^(B1171-1)","v":34133.959215593604},0,0,{"$f":"F1171*Reichweite!$F$7","v":0},0,{"$f":"IF(H1171>Reichweite!$D$4*Reichweite!$D$8,A1171,\"\")","v":""}]
[1168,98,0,{"$f":"Reichweite!$D$5*(1+Reichweite!$D$6)^(B1172-1)","v":34133.959215593604},0,0,{"$f":"F1172*Reichweite!$F$7","v":0},0,{"$f":"IF(H1172>Reichweite!$D$4*Reichweite!$D$8,A1172,\"\")","v":""}]
[1169,98,0,{"$f":"Reichweite!$D$5*(1+Reichweite!$D$6)^(B1173-1)","v":34133.959215593604},0,0,{"$f":"F1173*Reichweite!$F$7","v":0},0,{"$f":"IF(H1173>Reichweite!$D$4*Reichweite!$D$8,A1173,\"\")","v":""}]
[1170,98,0,{"$f":"Reichweite!$D$5*(1+Reichweite!$D$6)^(B1174-1)","v":34133.959215593604},0,0,{"$f":"F1174*Reichweite!$F$7","v":0},0,{"$f":"IF(H1174>Reichweite!$D$4*Reichweite!$D$8,A1174,\"\")","v":""}]
[1171,98,0,{"$f":"Reichweite!$D$5*(1+Reichweite!$D$6)^(B1175-1)","v":34133.959215593604},0,0,{"$f":"F1175*Reichweite!$F$7","v":0},0,{"$f":"IF(H1175>Reichweite!$D$4*Reichweite!$D$8,A1175,\"\")","v":""}]
[1172,98,0,{"$f":"Reichweite!$D$5*(1+Reichweite!$D$6)^(B1176-1)","v":34133.959215593604},0,0,{"$f":"F1176*Reichweite!$F$7","v":0},0,{"$f":"IF(H1176>Reichweite!$D$4*Reichweite!$D$8,A1176,\"\")","v":""}]
[1173,98,0,{"$f":"Reichweite!$D$5*(1+Reichweite!$D$6)^(B1177-1)","v":34133.959215593604},0,0,{"$f":"F1177*Reichweite!$F$7","v":0},0,{"$f":"IF(H1177>Reichweite!$D$4*Reichweite!$D$8,A1177,\"\")","v":""}]
[1174,98,0,{"$f":"Reichweite!$D$5*(1+Reichweite!$D$6)^(B1178-1)","v":34133.959215593604},0,0,{"$f":"F1178*Reichweite!$F$7","v":0},0,{"$f":"IF(H1178>Reichweite!$D$4*Reichweite!$D$8,A1178,\"\")","v":""}]
[1175,98,0,{"$f":"Reichweite!$D$5*(1+Reichweite!$D$6)^(B1179-1)","v":34133.959215593604},0,0,{"$f":"F1179*Reichweite!$F$7","v":0},0,{"$f":"IF(H1179>Reichweite!$D$4*Reichweite!$D$8,A1179,\"\")","v":""}]
[1176,99,0,{"$f":"Reichweite!$D$5*(1+Reichweite!$D$6)^(B1180-1)","v":34816.638399905474},0,0,{"$f":"F1180*Reichweite!$F$7","v":0},0,{"$f":"IF(H1180>Reichweite!$D$4*Reichweite!$D$8,A1180,\"\")","v":""}]
[1177,99,0,{"$f":"Reichweite!$D$5*(1+Reichweite!$D$6)^(B1181-1)","v":34816.638399905474},0,0,{"$f":"F1181*Reichweite!$F$7","v":0},0,{"$f":"IF(H1181>Reichweite!$D$4*Reichweite!$D$8,A1181,\"\")","v":""}]
[1178,99,0,{"$f":"Reichweite!$D$5*(1+Reichweite!$D$6)^(B1182-1)","v":34816.638399905474},0,0,{"$f":"F1182*Reichweite!$F$7","v":0},0,{"$f":"IF(H1182>Reichweite!$D$4*Reichweite!$D$8,A1182,\"\")","v":""}]
[1179,99,0,{"$f":"Reichweite!$D$5*(1+Reichweite!$D$6)^(B1183-1)","v":34816.638399905474},0,0,{"$f":"F1183*Reichweite!$F$7","v":0},0,{"$f":"IF(H1183>Reichweite!$D$4*Reichweite!$D$8,A1183,\"\")","v":""}]
[1180,99,0,{"$f":"Reichweite!$D$5*(1+Reichweite!$D$6)^(B1184-1)","v":34816.638399905474},0,0,{"$f":"F1184*Reichweite!$F$7","v":0},0,{"$f":"IF(H1184>Reichweite!$D$4*Reichweite!$D$8,A1184,\"\")","v":""}]
[1181,99,0,{"$f":"Reichweite!$D$5*(1+Reichweite!$D$6)^(B1185-1)","v":34816.638399905474},0,0,{"$f":"F1185*Reichweite!$F$7","v":0},0,{"$f":"IF(H1185>Reichweite!$D$4*Reichweite!$D$8,A1185,\"\")","v":""}]
[1182,99,0,{"$f":"Reichweite!$D$5*(1+Reichweite!$D$6)^(B1186-1)","v":34816.638399905474},0,0,{"$f":"F1186*Reichweite!$F$7","v":0},0,{"$f":"IF(H1186>Reichweite!$D$4*Reichweite!$D$8,A1186,\"\")","v":""}]
[1183,99,0,{"$f":"Reichweite!$D$5*(1+Reichweite!$D$6)^(B1187-1)","v":34816.638399905474},0,0,{"$f":"F1187*Reichweite!$F$7","v":0},0,{"$f":"IF(H1187>Reichweite!$D$4*Reichweite!$D$8,A1187,\"\")","v":""}]
[1184,99,0,{"$f":"Reichweite!$D$5*(1+Reichweite!$D$6)^(B1188-1)","v":34816.638399905474},0,0,{"$f":"F1188*Reichweite!$F$7","v":0},0,{"$f":"IF(H1188>Reichweite!$D$4*Reichweite!$D$8,A1188,\"\")","v":""}]
[1185,99,0,{"$f":"Reichweite!$D$5*(1+Reichweite!$D$6)^(B1189-1)","v":34816.638399905474},0,0,{"$f":"F1189*Reichweite!$F$7","v":0},0,{"$f":"IF(H1189>Reichweite!$D$4*Reichweite!$D$8,A1189,\"\")","v":""}]
[1186,99,0,{"$f":"Reichweite!$D$5*(1+Reichweite!$D$6)^(B1190-1)","v":34816.638399905474},0,0,{"$f":"F1190*Reichweite!$F$7","v":0},0,{"$f":"IF(H1190>Reichweite!$D$4*Reichweite!$D$8,A1190,\"\")","v":""}]
[1187,99,0,{"$f":"Reichweite!$D$5*(1+Reichweite!$D$6)^(B1191-1)","v":34816.638399905474},0,0,{"$f":"F1191*Reichweite!$F$7","v":0},0,{"$f":"IF(H1191>Reichweite!$D$4*Reichweite!$D$8,A1191,\"\")","v":""}]
[1188,100,0,{"$f":"Reichweite!$D$5*(1+Reichweite!$D$6)^(B1192-1)","v":35512.97116790359},0,0,{"$f":"F1192*Reichweite!$F$7","v":0},0,{"$f":"IF(H1192>Reichweite!$D$4*Reichweite!$D$8,A1192,\"\")","v":""}]
[1189,100,0,{"$f":"Reichweite!$D$5*(1+Reichweite!$D$6)^(B1193-1)","v":35512.97116790359},0,0,{"$f":"F1193*Reichweite!$F$7","v":0},0,{"$f":"IF(H1193>Reichweite!$D$4*Reichweite!$D$8,A1193,\"\")","v":""}]
[1190,100,0,{"$f":"Reichweite!$D$5*(1+Reichweite!$D$6)^(B1194-1)","v":35512.97116790359},0,0,{"$f":"F1194*Reichweite!$F$7","v":0},0,{"$f":"IF(H1194>Reichweite!$D$4*Reichweite!$D$8,A1194,\"\")","v":""}]
[1191,100,0,{"$f":"Reichweite!$D$5*(1+Reichweite!$D$6)^(B1195-1)","v":35512.97116790359},0,0,{"$f":"F1195*Reichweite!$F$7","v":0},0,{"$f":"IF(H1195>Reichweite!$D$4*Reichweite!$D$8,A1195,\"\")","v":""}]
[1192,100,0,{"$f":"Reichweite!$D$5*(1+Reichweite!$D$6)^(B1196-1)","v":35512.97116790359},0,0,{"$f":"F1196*Reichweite!$F$7","v":0},0,{"$f":"IF(H1196>Reichweite!$D$4*Reichweite!$D$8,A1196,\"\")","v":""}]
[1193,100,0,{"$f":"Reichweite!$D$5*(1+Reichweite!$D$6)^(B1197-1)","v":35512.97116790359},0,0,{"$f":"F1197*Reichweite!$F$7","v":0},0,{"$f":"IF(H1197>Reichweite!$D$4*Reichweite!$D$8,A1197,\"\")","v":""}]
[1194,100,0,{"$f":"Reichweite!$D$5*(1+Reichweite!$D$6)^(B1198-1)","v":35512.97116790359},0,0,{"$f":"F1198*Reichweite!$F$7","v":0},0,{"$f":"IF(H1198>Reichweite!$D$4*Reichweite!$D$8,A1198,\"\")","v":""}]
[1195,100,0,{"$f":"Reichweite!$D$5*(1+Reichweite!$D$6)^(B1199-1)","v":35512.97116790359},0,0,{"$f":"F1199*Reichweite!$F$7","v":0},0,{"$f":"IF(H1199>Reichweite!$D$4*Reichweite!$D$8,A1199,\"\")","v":""}]
[1196,100,0,{"$f":"Reichweite!$D$5*(1+Reichweite!$D$6)^(B1200-1)","v":35512.97116790359},0,0,{"$f":"F1200*Reichweite!$F$7","v":0},0,{"$f":"IF(H1200>Reichweite!$D$4*Reichweite!$D$8,A1200,\"\")","v":""}]
[1197,100,0,{"$f":"Reichweite!$D$5*(1+Reichweite!$D$6)^(B1201-1)","v":35512.97116790359},0,0,{"$f":"F1201*Reichweite!$F$7","v":0},0,{"$f":"IF(H1201>Reichweite!$D$4*Reichweite!$D$8,A1201,\"\")","v":""}]
[1198,100,0,{"$f":"Reichweite!$D$5*(1+Reichweite!$D$6)^(B1202-1)","v":35512.97116790359},0,0,{"$f":"F1202*Reichweite!$F$7","v":0},0,{"$f":"IF(H1202>Reichweite!$D$4*Reichweite!$D$8,A1202,\"\")","v":""}]
[1199,100,0,{"$f":"Reichweite!$D$5*(1+Reichweite!$D$6)^(B1203-1)","v":35512.97116790359},0,0,{"$f":"F1203*Reichweite!$F$7","v":0},0,{"$f":"IF(H1203>Reichweite!$D$4*Reichweite!$D$8,A1203,\"\")","v":""}]
["Formelende",null,null,"Formelende"]

{"sheet":"RW-Jahre","index":3,"n_rows":105,"n_cols":14,"rows_kept":105,"cut":false,"hidden":true,"merged":[]}
["Reichweite: Jahreswerte (aus Monatssimulation abgeleitet)",null,null,null,null,null,null,null,null,null,null,"Dynamische Rohdaten für Grafik"]
[]
[{"$f":"\"Das Ausgangskapital reicht \" &TEXT(RW_RW_yrs,\"0,0\") &\" Jahre bis zum Zielwert i.H.v. \" &TEXT(RW_E_Kap,\"#.##0\") &\" EUR\"","v":"Das Ausgangskapital reicht 23,1 Jahre bis zum Zielwert i.H.v. 150.000 EUR"},null,null,null,null,null,null,null,null,null,null,"Jahr","Kap. rel.","Endwert"]
["Jahr","Kapital Jahresende","Kapital relativ (Start=1)","Jahresentnahme (nominal, infl.)","Beschr.",null,null,null,null,null,"Namen =>","RW_Jahre","RW_Kap_rel","RW_Wert"]
[0,{"$f":"Reichweite!$D$4","v":1000000},{"$f":"IF(Reichweite!$D$4=0,0,B5/Reichweite!$D$4)","v":1},{"$f":"12*Reichweite!$D$5","v":60000},{"$f":"IF(A5=1,$B$5,IF(A5=ROUNDUP(RW_RW_yrs,0),RW_E_Kap,0))","v":0},null,null,null,null,null,null,{"$f":"_xlfn.SEQUENCE(RW_RW_yrs+1)","v":1},{"$f":"_xlfn._xlws.FILTER($C$6:$C$105,NOT(ISERROR($C$6:$C$105)))","v":0.99322712075954167},{"$f":"_xlfn._xlws.FILTER($E$6:$E$105,NOT(ISERROR($B$6:$B$105)))","v":1000000}]
[1,{"$f":"IF(A6>RW_RW_yrs+1,NA(),IFERROR(INDEX('RW-Monate'!$H$4:$H$1203, A6*12),0))","v":993227.12075954163},{"$f":"IF(Reichweite!$D$4=0,0,B6/Reichweite!$D$4)","v":0.99322712075954167},{"$f":"IF(ISERROR(B6),0,12*Reichweite!$D$5*(1+Reichweite!$D$6)^(A6-1))","v":60000},1000000,null,null,null,null,null,null,2,0.98484627557604876,0]
[2,{"$f":"IF(A7>RW_RW_yrs+1,NA(),IFERROR(INDEX('RW-Monate'!$H$4:$H$1203, A7*12),0))","v":984846.27557604876},{"$f":"IF(Reichweite!$D$4=0,0,B7/Reichweite!$D$4)","v":0.98484627557604876},{"$f":"IF(ISERROR(B7),0,12*Reichweite!$D$5*(1+Reichweite!$D$6)^(A7-1))","v":61200},0,null,null,null,null,null,null,3,0.97474431717095855,0]
[3,{"$f":"IF(A8>RW_RW_yrs+1,NA(),IFERROR(INDEX('RW-Monate'!$H$4:$H$1203, A8*12),0))","v":974744.3171709585},{"$f":"IF(Reichweite!$D$4=0,0,B8/Reichweite!$D$4)","v":0.97474431717095855},{"$f":"IF(ISERROR(B8),0,12*Reichweite!$D$5*(1+Reichweite!$D$6)^(A8-1))","v":62424},0,null,null,null,null,null,null,4,0.96280138098235246,0]
[4,{"$f":"IF(A9>RW_RW_yrs+1,NA(),IFERROR(INDEX('RW-Monate'!$H$4:$H$1203, A9*12),0))","v":962801.38098235242},{"$f":"IF(Reichweite!$D$4=0,0,B9/Reichweite!$D$4)","v":0.96280138098235246},{"$f":"IF(ISERROR(B9),0,12*Reichweite!$D$5*(1+Reichweite!$D$6)^(A9-1))","v":63672.479999999996},0,null,null,null,null,null,null,5,0.94889050583071399,0]
[5,{"$f":"IF(A10>RW_RW_yrs+1,NA(),IFERROR(INDEX('RW-Monate'!$H$4:$H$1203, A10*12),0))","v":948890.50583071401},{"$f":"IF(Reichweite!$D$4=0,0,B10/Reichweite!$D$4)","v":0.94889050583071399},{"$f":"IF(ISERROR(B10),0,12*Reichweite!$D$5*(1+Reichweite!$D$6)^(A10-1))","v":64945.929599999996},0,null,null,null,null,null,null,6,0.93287723352362173,0]
[6,{"$f":"IF(A11>RW_RW_yrs+1,NA(),IFERROR(INDEX('RW-Monate'!$H$4:$H$1203, A11*12),0))","v":932877.23352362169},{"$f":"IF(Reichweite!$D$4=0,0,B11/Reichweite!$D$4)","v":0.93287723352362173},{"$f":"IF(ISERROR(B11),0,12*Reichweite!$D$5*(1+Reichweite!$D$6)^(A11-1))","v":66244.848192000005},0,null,null,null,null,null,null,7,0.91461918623708349,0]
[7,{"$f":"IF(A12>RW_RW_yrs+1,NA(),IFERROR(INDEX('RW-Monate'!$H$4:$H$1203, A12*12),0))","v":914619.18623708352},{"$f":"IF(Reichweite!$D$4=0,0,B12/Reichweite!$D$4)","v":0.91461918623708349},{"$f":"IF(ISERROR(B12),0,12*Reichweite!$D$5*(1+Reichweite!$D$6)^(A12-1))","v":67569.745155840006},0,null,null,null,null,null,null,8,0.89396562044717864,0]
[8,{"$f":"IF(A13>RW_RW_yrs+1,NA(),IFERROR(INDEX('RW-Monate'!$H$4:$H$1203, A13*12),0))","v":893965.6204471786},{"$f":"IF(Reichweite!$D$4=0,0,B13/Reichweite!$D$4)","v":0.89396562044717864},{"$f":"IF(ISERROR(B13),0,12*Reichweite!$D$5*(1+Reichweite!$D$6)^(A13-1))","v":68921.140058956793},0,null,null,null,null,null,null,9,0.87075695611817072,0]
[9,{"$f":"IF(A14>RW_RW_yrs+1,NA(),IFERROR(INDEX('RW-Monate'!$H$4:$H$1203, A14*12),0))","v":870756.95611817075},{"$f":"IF(Reichweite!$D$4=0,0,B14/Reichweite!$D$4)","v":0.87075695611817072},{"$f":"IF(ISERROR(B14),0,12*Reichweite!$D$5*(1+Reichweite!$D$6)^(A14-1))","v":70299.562860135935},0,null,null,null,null,null,null,10,0.84482427978199437,0]
[10,{"$f":"IF(A15>RW_RW_yrs+1,NA(),IFERROR(INDEX('RW-Monate'!$H$4:$H$1203, A15*12),0))","v":844824.27978199441},{"$f":"IF(Reichweite!$D$4=0,0,B15/Reichweite!$D$4)","v":0.84482427978199437},{"$f":"IF(ISERROR(B15),0,12*Reichweite!$D$5*(1+Reichweite!$D$6)^(A15-1))","v":71705.554117338645},0,null,null,null,null,null,null,11,0.81598882006887496,0]
[11,{"$f":"IF(A16>RW_RW_yrs+1,NA(),IFERROR(INDEX('RW-Monate'!$H$4:$H$1203, A16*12),0))","v":815988.82006887498},{"$f":"IF(Reichweite!$D$4=0,0,B16/Reichweite!$D$4)","v":0.81598882006887496},{"$f":"IF(ISERROR(B16),0,12*Reichweite!$D$5*(1+Reichweite!$D$6)^(A16-1))","v":73139.66519968542},0,null,null,null,null,null,null,12,0.78406139416951259,0]
[12,{"$f":"IF(A17>RW_RW_yrs+1,NA(),IFERROR(INDEX('RW-Monate'!$H$4:$H$1203, A17*12),0))","v":784061.39416951255},{"$f":"IF(Reichweite!$D$4=0,0,B17/Reichweite!$D$4)","v":0.78406139416951259},{"$f":"IF(ISERROR(B17),0,12*Reichweite!$D$5*(1+Reichweite!$D$6)^(A17-1))","v":74602.458503679125},0,null,null,null,null,null,null,13,0.74884182362562102,0]
[13,{"$f":"IF(A18>RW_RW_yrs+1,NA(),IFERROR(INDEX('RW-Monate'!$H$4:$H$1203, A18*12),0))","v":748841.82362562104},{"$f":"IF(Reichweite!$D$4=0,0,B18/Reichweite!$D$4)","v":0.74884182362562102},{"$f":"IF(ISERROR(B18),0,12*Reichweite!$D$5*(1+Reichweite!$D$6)^(A18-1))","v":76094.507673752712},0,null,null,null,null,null,null,14,0.71011831775735179,0]
[14,{"$f":"IF(A19>RW_RW_yrs+1,NA(),IFERROR(INDEX('RW-Monate'!$H$4:$H$1203, A19*12),0))","v":710118.31775735179},{"$f":"IF(Reichweite!$D$4=0,0,B19/Reichweite!$D$4)","v":0.71011831775735179},{"$f":"IF(ISERROR(B19),0,12*Reichweite!$D$5*(1+Reichweite!$D$6)^(A19-1))","v":77616.39782722776},0,null,null,null,null,null,null,15,0.66766682294297341,0]
[15,{"$f":"IF(A20>RW_RW_yrs+1,NA(),IFERROR(INDEX('RW-Monate'!$H$4:$H$1203, A20*12),0))","v":667666.82294297346},{"$f":"IF(Reichweite!$D$4=0,0,B20/Reichweite!$D$4)","v":0.66766682294297341},{"$f":"IF(ISERROR(B20),0,12*Reichweite!$D$5*(1+Reichweite!$D$6)^(A20-1))","v":79168.72578377233},0,null,null,null,null,null,null,16,0.62125033586798406,0]
[16,{"$f":"IF(A21>RW_RW_yrs+1,NA(),IFERROR(INDEX('RW-Monate'!$H$4:$H$1203, A21*12),0))","v":621250.3358679841},{"$f":"IF(Reichweite!$D$4=0,0,B21/Reichweite!$D$4)","v":0.62125033586798406},{"$f":"IF(ISERROR(B21),0,12*Reichweite!$D$5*(1+Reichweite!$D$6)^(A21-1))","v":80752.10029944776},0,null,null,null,null,null,null,17,0.57061817875713283,0]
[17,{"$f":"IF(A22>RW_RW_yrs+1,NA(),IFERROR(INDEX('RW-Monate'!$H$4:$H$1203, A22*12),0))","v":570618.17875713285},{"$f":"IF(Reichweite!$D$4=0,0,B22/Reichweite!$D$4)","v":0.57061817875713283},{"$f":"IF(ISERROR(B22),0,12*Reichweite!$D$5*(1+Reichweite!$D$6)^(A22-1))","v":82367.142305436719},0,null,null,null,null,null,null,18,0.51550523449351315,0]
[18,{"$f":"IF(A23>RW_RW_yrs+1,NA(),IFERROR(INDEX('RW-Monate'!$H$4:$H$1203, A23*12),0))","v":515505.23449351318},{"$f":"IF(Reichweite!$D$4=0,0,B23/Reichweite!$D$4)","v":0.51550523449351315},{"$f":"IF(ISERROR(B23),0,12*Reichweite!$D$5*(1+Reichweite!$D$6)^(A23-1))","v":84014.485151545465},0,null,null,null,null,null,null,19,0.45563113941348954,0]
[19,{"$f":"IF(A24>RW_RW_yrs+1,NA(),IFERROR(INDEX('RW-Monate'!$H$4:$H$1203, A24*12),0))","v":455631.13941348955},{"$f":"IF(Reichweite!$D$4=0,0,B24/Reichweite!$D$4)","v":0.45563113941348954},{"$f":"IF(ISERROR(B24),0,12*Reichweite!$D$5*(1+Reichweite!$D$6)^(A24-1))","v":85694.774854576361},0,null,null,null,null,null,null,20,0.39069943144452118,0]
[20,{"$f":"IF(A25>RW_RW_yrs+1,NA(),IFERROR(INDEX('RW-Monate'!$H$4:$H$1203, A25*12),0))","v":390699.43144452118},{"$f":"IF(Reichweite!$D$4=0,0,B25/Reichweite!$D$4)","v":0.39069943144452118},{"$f":"IF(ISERROR(B25),0,12*Reichweite!$D$5*(1+Reichweite!$D$6)^(A25-1))","v":87408.670351667883},0,null,null,null,null,null,null,21,0.32039665112452526,0]
[21,{"$f":"IF(A26>RW_RW_yrs+1,NA(),IFERROR(INDEX('RW-Monate'!$H$4:$H$1203, A26*12),0))","v":320396.65112452523},{"$f":"IF(Reichweite!$D$4=0,0,B26/Reichweite!$D$4)","v":0.32039665112452526},{"$f":"IF(ISERROR(B26),0,12*Reichweite!$D$5*(1+Reichweite!$D$6)^(A26-1))","v":89156.84375870126},0,null,null,null,null,null,null,22,0.24439139290594084,0]
[22,{"$f":"IF(A27>RW_RW_yrs+1,NA(),IFERROR(INDEX('RW-Monate'!$H$4:$H$1203, A27*12),0))","v":244391.39290594083},{"$f":"IF(Reichweite!$D$4=0,0,B27/Reichweite!$D$4)","v":0.24439139290594084},{"$f":"IF(ISERROR(B27),0,12*Reichweite!$D$5*(1+Reichweite!$D$6)^(A27-1))","v":90939.980633875268},0,null,null,null,null,null,null,23,0.16233330400472548,0]
[23,{"$f":"IF(A28>RW_RW_yrs+1,NA(),IFERROR(INDEX('RW-Monate'!$H$4:$H$1203, A28*12),0))","v":162333.30400472548},{"$f":"IF(Reichweite!$D$4=0,0,B28/Reichweite!$D$4)","v":0.16233330400472548},{"$f":"IF(ISERROR(B28),0,12*Reichweite!$D$5*(1+Reichweite!$D$6)^(A28-1))","v":92758.780246552778},0,null,null,null,null,null,null,24,7.3852027903722375E-2,150000]
[24,{"$f":"IF(A29>RW_RW_yrs+1,NA(),IFERROR(INDEX('RW-Monate'!$H$4:$H$1203, A29*12),0))","v":73852.027903722381},{"$f":"IF(Reichweite!$D$4=0,0,B29/Reichweite!$D$4)","v":7.3852027903722375E-2},{"$f":"IF(ISERROR(B29),0,12*Reichweite!$D$5*(1+Reichweite!$D$6)^(A29-1))","v":94613.955851483828},150000]
[25,{"$f":"IF(A30>RW_RW_yrs+1,NA(),IFERROR(INDEX('RW-Monate'!$H$4:$H$1203, A30*12),0))","v":{"$error":"#N/A"}},{"$f":"IF(Reichweite!$D$4=0,0,B30/Reichweite!$D$4)","v":{"$error":"#N/A"}},{"$f":"IF(ISERROR(B30),0,12*Reichweite!$D$5*(1+Reichweite!$D$6)^(A30-1))","v":0},0]
[26,{"$f":"IF(A31>RW_RW_yrs+1,NA(),IFERROR(INDEX('RW-Monate'!$H$4:$H$1203, A31*12),0))","v":{"$error":"#N/A"}},{"$f":"IF(Reichweite!$D$4=0,0,B31/Reichweite!$D$4)","v":{"$error":"#N/A"}},{"$f":"IF(ISERROR(B31),0,12*Reichweite!$D$5*(1+Reichweite!$D$6)^(A31-1))","v":0},0]
[27,{"$f":"IF(A32>RW_RW_yrs+1,NA(),IFERROR(INDEX('RW-Monate'!$H$4:$H$1203, A32*12),0))","v":{"$error":"#N/A"}},{"$f":"IF(Reichweite!$D$4=0,0,B32/Reichweite!$D$4)","v":{"$error":"#N/A"}},{"$f":"IF(ISERROR(B32),0,12*Reichweite!$D$5*(1+Reichweite!$D$6)^(A32-1))","v":0},0]
[28,{"$f":"IF(A33>RW_RW_yrs+1,NA(),IFERROR(INDEX('RW-Monate'!$H$4:$H$1203, A33*12),0))","v":{"$error":"#N/A"}},{"$f":"IF(Reichweite!$D$4=0,0,B33/Reichweite!$D$4)","v":{"$error":"#N/A"}},{"$f":"IF(ISERROR(B33),0,12*Reichweite!$D$5*(1+Reichweite!$D$6)^(A33-1))","v":0},0]
[29,{"$f":"IF(A34>RW_RW_yrs+1,NA(),IFERROR(INDEX('RW-Monate'!$H$4:$H$1203, A34*12),0))","v":{"$error":"#N/A"}},{"$f":"IF(Reichweite!$D$4=0,0,B34/Reichweite!$D$4)","v":{"$error":"#N/A"}},{"$f":"IF(ISERROR(B34),0,12*Reichweite!$D$5*(1+Reichweite!$D$6)^(A34-1))","v":0},0]
[30,{"$f":"IF(A35>RW_RW_yrs+1,NA(),IFERROR(INDEX('RW-Monate'!$H$4:$H$1203, A35*12),0))","v":{"$error":"#N/A"}},{"$f":"IF(Reichweite!$D$4=0,0,B35/Reichweite!$D$4)","v":{"$error":"#N/A"}},{"$f":"IF(ISERROR(B35),0,12*Reichweite!$D$5*(1+Reichweite!$D$6)^(A35-1))","v":0},0]
[31,{"$f":"IF(A36>RW_RW_yrs+1,NA(),IFERROR(INDEX('RW-Monate'!$H$4:$H$1203, A36*12),0))","v":{"$error":"#N/A"}},{"$f":"IF(Reichweite!$D$4=0,0,B36/Reichweite!$D$4)","v":{"$error":"#N/A"}},{"$f":"IF(ISERROR(B36),0,12*Reichweite!$D$5*(1+Reichweite!$D$6)^(A36-1))","v":0},0]
[32,{"$f":"IF(A37>RW_RW_yrs+1,NA(),IFERROR(INDEX('RW-Monate'!$H$4:$H$1203, A37*12),0))","v":{"$error":"#N/A"}},{"$f":"IF(Reichweite!$D$4=0,0,B37/Reichweite!$D$4)","v":{"$error":"#N/A"}},{"$f":"IF(ISERROR(B37),0,12*Reichweite!$D$5*(1+Reichweite!$D$6)^(A37-1))","v":0},{"$f":"IF(A37=1,$B$5,IF(A37=ROUNDUP(RW_RW_yrs,0),RW_E_Kap,0))","v":0}]
[33,{"$f":"IF(A38>RW_RW_yrs+1,NA(),IFERROR(INDEX('RW-Monate'!$H$4:$H$1203, A38*12),0))","v":{"$error":"#N/A"}},{"$f":"IF(Reichweite!$D$4=0,0,B38/Reichweite!$D$4)","v":{"$error":"#N/A"}},{"$f":"IF(ISERROR(B38),0,12*Reichweite!$D$5*(1+Reichweite!$D$6)^(A38-1))","v":0},0]
[34,{"$f":"IF(A39>RW_RW_yrs+1,NA(),IFERROR(INDEX('RW-Monate'!$H$4:$H$1203, A39*12),0))","v":{"$error":"#N/A"}},{"$f":"IF(Reichweite!$D$4=0,0,B39/Reichweite!$D$4)","v":{"$error":"#N/A"}},{"$f":"IF(ISERROR(B39),0,12*Reichweite!$D$5*(1+Reichweite!$D$6)^(A39-1))","v":0},0]
[35,{"$f":"IF(A40>RW_RW_yrs+1,NA(),IFERROR(INDEX('RW-Monate'!$H$4:$H$1203, A40*12),0))","v":{"$error":"#N/A"}},{"$f":"IF(Reichweite!$D$4=0,0,B40/Reichweite!$D$4)","v":{"$error":"#N/A"}},{"$f":"IF(ISERROR(B40),0,12*Reichweite!$D$5*(1+Reichweite!$D$6)^(A40-1))","v":0},0]
[36,{"$f":"IF(A41>RW_RW_yrs+1,NA(),IFERROR(INDEX('RW-Monate'!$H$4:$H$1203, A41*12),0))","v":{"$error":"#N/A"}},{"$f":"IF(Reichweite!$D$4=0,0,B41/Reichweite!$D$4)","v":{"$error":"#N/A"}},{"$f":"IF(ISERROR(B41),0,12*Reichweite!$D$5*(1+Reichweite!$D$6)^(A41-1))","v":0},0]
[37,{"$f":"IF(A42>RW_RW_yrs+1,NA(),IFERROR(INDEX('RW-Monate'!$H$4:$H$1203, A42*12),0))","v":{"$error":"#N/A"}},{"$f":"IF(Reichweite!$D$4=0,0,B42/Reichweite!$D$4)","v":{"$error":"#N/A"}},{"$f":"IF(ISERROR(B42),0,12*Reichweite!$D$5*(1+Reichweite!$D$6)^(A42-1))","v":0},0]
[38,{"$f":"IF(A43>RW_RW_yrs+1,NA(),IFERROR(INDEX('RW-Monate'!$H$4:$H$1203, A43*12),0))","v":{"$error":"#N/A"}},{"$f":"IF(Reichweite!$D$4=0,0,B43/Reichweite!$D$4)","v":{"$error":"#N/A"}},{"$f":"IF(ISERROR(B43),0,12*Reichweite!$D$5*(1+Reichweite!$D$6)^(A43-1))","v":0},0]
[39,{"$f":"IF(A44>RW_RW_yrs+1,NA(),IFERROR(INDEX('RW-Monate'!$H$4:$H$1203, A44*12),0))","v":{"$error":"#N/A"}},{"$f":"IF(Reichweite!$D$4=0,0,B44/Reichweite!$D$4)","v":{"$error":"#N/A"}},{"$f":"IF(ISERROR(B44),0,12*Reichweite!$D$5*(1+Reichweite!$D$6)^(A44-1))","v":0},0]
[40,{"$f":"IF(A45>RW_RW_yrs+1,NA(),IFERROR(INDEX('RW-Monate'!$H$4:$H$1203, A45*12),0))","v":{"$error":"#N/A"}},{"$f":"IF(Reichweite!$D$4=0,0,B45/Reichweite!$D$4)","v":{"$error":"#N/A"}},{"$f":"IF(ISERROR(B45),0,12*Reichweite!$D$5*(1+Reichweite!$D$6)^(A45-1))","v":0},0]
[41,{"$f":"IF(A46>RW_RW_yrs+1,NA(),IFERROR(INDEX('RW-Monate'!$H$4:$H$1203, A46*12),0))","v":{"$error":"#N/A"}},{"$f":"IF(Reichweite!$D$4=0,0,B46/Reichweite!$D$4)","v":{"$error":"#N/A"}},{"$f":"IF(ISERROR(B46),0,12*Reichweite!$D$5*(1+Reichweite!$D$6)^(A46-1))","v":0},0]
[42,{"$f":"IF(A47>RW_RW_yrs+1,NA(),IFERROR(INDEX('RW-Monate'!$H$4:$H$1203, A47*12),0))","v":{"$error":"#N/A"}},{"$f":"IF(Reichweite!$D$4=0,0,B47/Reichweite!$D$4)","v":{"$error":"#N/A"}},{"$f":"IF(ISERROR(B47),0,12*Reichweite!$D$5*(1+Reichweite!$D$6)^(A47-1))","v":0},0]
[43,{"$f":"IF(A48>RW_RW_yrs+1,NA(),IFERROR(INDEX('RW-Monate'!$H$4:$H$1203, A48*12),0))","v":{"$error":"#N/A"}},{"$f":"IF(Reichweite!$D$4=0,0,B48/Reichweite!$D$4)","v":{"$error":"#N/A"}},{"$f":"IF(ISERROR(B48),0,12*Reichweite!$D$5*(1+Reichweite!$D$6)^(A48-1))","v":0},0]
[44,{"$f":"IF(A49>RW_RW_yrs+1,NA(),IFERROR(INDEX('RW-Monate'!$H$4:$H$1203, A49*12),0))","v":{"$error":"#N/A"}},{"$f":"IF(Reichweite!$D$4=0,0,B49/Reichweite!$D$4)","v":{"$error":"#N/A"}},{"$f":"IF(ISERROR(B49),0,12*Reichweite!$D$5*(1+Reichweite!$D$6)^(A49-1))","v":0},0]
[45,{"$f":"IF(A50>RW_RW_yrs+1,NA(),IFERROR(INDEX('RW-Monate'!$H$4:$H$1203, A50*12),0))","v":{"$error":"#N/A"}},{"$f":"IF(Reichweite!$D$4=0,0,B50/Reichweite!$D$4)","v":{"$error":"#N/A"}},{"$f":"IF(ISERROR(B50),0,12*Reichweite!$D$5*(1+Reichweite!$D$6)^(A50-1))","v":0},0]
[46,{"$f":"IF(A51>RW_RW_yrs+1,NA(),IFERROR(INDEX('RW-Monate'!$H$4:$H$1203, A51*12),0))","v":{"$error":"#N/A"}},{"$f":"IF(Reichweite!$D$4=0,0,B51/Reichweite!$D$4)","v":{"$error":"#N/A"}},{"$f":"IF(ISERROR(B51),0,12*Reichweite!$D$5*(1+Reichweite!$D$6)^(A51-1))","v":0},0]
[47,{"$f":"IF(A52>RW_RW_yrs+1,NA(),IFERROR(INDEX('RW-Monate'!$H$4:$H$1203, A52*12),0))","v":{"$error":"#N/A"}},{"$f":"IF(Reichweite!$D$4=0,0,B52/Reichweite!$D$4)","v":{"$error":"#N/A"}},{"$f":"IF(ISERROR(B52),0,12*Reichweite!$D$5*(1+Reichweite!$D$6)^(A52-1))","v":0},0]
[48,{"$f":"IF(A53>RW_RW_yrs+1,NA(),IFERROR(INDEX('RW-Monate'!$H$4:$H$1203, A53*12),0))","v":{"$error":"#N/A"}},{"$f":"IF(Reichweite!$D$4=0,0,B53/Reichweite!$D$4)","v":{"$error":"#N/A"}},{"$f":"IF(ISERROR(B53),0,12*Reichweite!$D$5*(1+Reichweite!$D$6)^(A53-1))","v":0},0]
[49,{"$f":"IF(A54>RW_RW_yrs+1,NA(),IFERROR(INDEX('RW-Monate'!$H$4:$H$1203, A54*12),0))","v":{"$error":"#N/A"}},{"$f":"IF(Reichweite!$D$4=0,0,B54/Reichweite!$D$4)","v":{"$error":"#N/A"}},{"$f":"IF(ISERROR(B54),0,12*Reichweite!$D$5*(1+Reichweite!$D$6)^(A54-1))","v":0},0]
[50,{"$f":"IF(A55>RW_RW_yrs+1,NA(),IFERROR(INDEX('RW-Monate'!$H$4:$H$1203, A55*12),0))","v":{"$error":"#N/A"}},{"$f":"IF(Reichweite!$D$4=0,0,B55/Reichweite!$D$4)","v":{"$error":"#N/A"}},{"$f":"IF(ISERROR(B55),0,12*Reichweite!$D$5*(1+Reichweite!$D$6)^(A55-1))","v":0},0]
[51,{"$f":"IF(A56>RW_RW_yrs+1,NA(),IFERROR(INDEX('RW-Monate'!$H$4:$H$1203, A56*12),0))","v":{"$error":"#N/A"}},{"$f":"IF(Reichweite!$D$4=0,0,B56/Reichweite!$D$4)","v":{"$error":"#N/A"}},{"$f":"IF(ISERROR(B56),0,12*Reichweite!$D$5*(1+Reichweite!$D$6)^(A56-1))","v":0},0]
[52,{"$f":"IF(A57>RW_RW_yrs+1,NA(),IFERROR(INDEX('RW-Monate'!$H$4:$H$1203, A57*12),0))","v":{"$error":"#N/A"}},{"$f":"IF(Reichweite!$D$4=0,0,B57/Reichweite!$D$4)","v":{"$error":"#N/A"}},{"$f":"IF(ISERROR(B57),0,12*Reichweite!$D$5*(1+Reichweite!$D$6)^(A57-1))","v":0},0]
[53,{"$f":"IF(A58>RW_RW_yrs+1,NA(),IFERROR(INDEX('RW-Monate'!$H$4:$H$1203, A58*12),0))","v":{"$error":"#N/A"}},{"$f":"IF(Reichweite!$D$4=0,0,B58/Reichweite!$D$4)","v":{"$error":"#N/A"}},{"$f":"IF(ISERROR(B58),0,12*Reichweite!$D$5*(1+Reichweite!$D$6)^(A58-1))","v":0},0]
[54,{"$f":"IF(A59>RW_RW_yrs+1,NA(),IFERROR(INDEX('RW-Monate'!$H$4:$H$1203, A59*12),0))","v":{"$error":"#N/A"}},{"$f":"IF(Reichweite!$D$4=0,0,B59/Reichweite!$D$4)","v":{"$error":"#N/A"}},{"$f":"IF(ISERROR(B59),0,12*Reichweite!$D$5*(1+Reichweite!$D$6)^(A59-1))","v":0},0]
[55,{"$f":"IF(A60>RW_RW_yrs+1,NA(),IFERROR(INDEX('RW-Monate'!$H$4:$H$1203, A60*12),0))","v":{"$error":"#N/A"}},{"$f":"IF(Reichweite!$D$4=0,0,B60/Reichweite!$D$4)","v":{"$error":"#N/A"}},{"$f":"IF(ISERROR(B60),0,12*Reichweite!$D$5*(1+Reichweite!$D$6)^(A60-1))","v":0},0]
[56,{"$f":"IF(A61>RW_RW_yrs+1,NA(),IFERROR(INDEX('RW-Monate'!$H$4:$H$1203, A61*12),0))","v":{"$error":"#N/A"}},{"$f":"IF(Reichweite!$D$4=0,0,B61/Reichweite!$D$4)","v":{"$error":"#N/A"}},{"$f":"IF(ISERROR(B61),0,12*Reichweite!$D$5*(1+Reichweite!$D$6)^(A61-1))","v":0},0]
[57,{"$f":"IF(A62>RW_RW_yrs+1,NA(),IFERROR(INDEX('RW-Monate'!$H$4:$H$1203, A62*12),0))","v":{"$error":"#N/A"}},{"$f":"IF(Reichweite!$D$4=0,0,B62/Reichweite!$D$4)","v":{"$error":"#N/A"}},{"$f":"IF(ISERROR(B62),0,12*Reichweite!$D$5*(1+Reichweite!$D$6)^(A62-1))","v":0},0]
[58,{"$f":"IF(A63>RW_RW_yrs+1,NA(),IFERROR(INDEX('RW-Monate'!$H$4:$H$1203, A63*12),0))","v":{"$error":"#N/A"}},{"$f":"IF(Reichweite!$D$4=0,0,B63/Reichweite!$D$4)","v":{"$error":"#N/A"}},{"$f":"IF(ISERROR(B63),0,12*Reichweite!$D$5*(1+Reichweite!$D$6)^(A63-1))","v":0},0]
[59,{"$f":"IF(A64>RW_RW_yrs+1,NA(),IFERROR(INDEX('RW-Monate'!$H$4:$H$1203, A64*12),0))","v":{"$error":"#N/A"}},{"$f":"IF(Reichweite!$D$4=0,0,B64/Reichweite!$D$4)","v":{"$error":"#N/A"}},{"$f":"IF(ISERROR(B64),0,12*Reichweite!$D$5*(1+Reichweite!$D$6)^(A64-1))","v":0},0]
[60,{"$f":"IF(A65>RW_RW_yrs+1,NA(),IFERROR(INDEX('RW-Monate'!$H$4:$H$1203, A65*12),0))","v":{"$error":"#N/A"}},{"$f":"IF(Reichweite!$D$4=0,0,B65/Reichweite!$D$4)","v":{"$error":"#N/A"}},{"$f":"IF(ISERROR(B65),0,12*Reichweite!$D$5*(1+Reichweite!$D$6)^(A65-1))","v":0},0]
[61,{"$f":"IF(A66>RW_RW_yrs+1,NA(),IFERROR(INDEX('RW-Monate'!$H$4:$H$1203, A66*12),0))","v":{"$error":"#N/A"}},{"$f":"IF(Reichweite!$D$4=0,0,B66/Reichweite!$D$4)","v":{"$error":"#N/A"}},{"$f":"IF(ISERROR(B66),0,12*Reichweite!$D$5*(1+Reichweite!$D$6)^(A66-1))","v":0},0]
[62,{"$f":"IF(A67>RW_RW_yrs+1,NA(),IFERROR(INDEX('RW-Monate'!$H$4:$H$1203, A67*12),0))","v":{"$error":"#N/A"}},{"$f":"IF(Reichweite!$D$4=0,0,B67/Reichweite!$D$4)","v":{"$error":"#N/A"}},{"$f":"IF(ISERROR(B67),0,12*Reichweite!$D$5*(1+Reichweite!$D$6)^(A67-1))","v":0},0]
[63,{"$f":"IF(A68>RW_RW_yrs+1,NA(),IFERROR(INDEX('RW-Monate'!$H$4:$H$1203, A68*12),0))","v":{"$error":"#N/A"}},{"$f":"IF(Reichweite!$D$4=0,0,B68/Reichweite!$D$4)","v":{"$error":"#N/A"}},{"$f":"IF(ISERROR(B68),0,12*Reichweite!$D$5*(1+Reichweite!$D$6)^(A68-1))","v":0},0]
[64,{"$f":"IF(A69>RW_RW_yrs+1,NA(),IFERROR(INDEX('RW-Monate'!$H$4:$H$1203, A69*12),0))","v":{"$error":"#N/A"}},{"$f":"IF(Reichweite!$D$4=0,0,B69/Reichweite!$D$4)","v":{"$error":"#N/A"}},{"$f":"IF(ISERROR(B69),0,12*Reichweite!$D$5*(1+Reichweite!$D$6)^(A69-1))","v":0},{"$f":"IF(A69=1,$B$5,IF(A69=ROUNDUP(RW_RW_yrs,0),RW_E_Kap,0))","v":0}]
[65,{"$f":"IF(A70>RW_RW_yrs+1,NA(),IFERROR(INDEX('RW-Monate'!$H$4:$H$1203, A70*12),0))","v":{"$error":"#N/A"}},{"$f":"IF(Reichweite!$D$4=0,0,B70/Reichweite!$D$4)","v":{"$error":"#N/A"}},{"$f":"IF(ISERROR(B70),0,12*Reichweite!$D$5*(1+Reichweite!$D$6)^(A70-1))","v":0},0]
[66,{"$f":"IF(A71>RW_RW_yrs+1,NA(),IFERROR(INDEX('RW-Monate'!$H$4:$H$1203, A71*12),0))","v":{"$error":"#N/A"}},{"$f":"IF(Reichweite!$D$4=0,0,B71/Reichweite!$D$4)","v":{"$error":"#N/A"}},{"$f":"IF(ISERROR(B71),0,12*Reichweite!$D$5*(1+Reichweite!$D$6)^(A71-1))","v":0},0]
[67,{"$f":"IF(A72>RW_RW_yrs+1,NA(),IFERROR(INDEX('RW-Monate'!$H$4:$H$1203, A72*12),0))","v":{"$error":"#N/A"}},{"$f":"IF(Reichweite!$D$4=0,0,B72/Reichweite!$D$4)","v":{"$error":"#N/A"}},{"$f":"IF(ISERROR(B72),0,12*Reichweite!$D$5*(1+Reichweite!$D$6)^(A72-1))","v":0},0]
[68,{"$f":"IF(A73>RW_RW_yrs+1,NA(),IFERROR(INDEX('RW-Monate'!$H$4:$H$1203, A73*12),0))","v":{"$error":"#N/A"}},{"$f":"IF(Reichweite!$D$4=0,0,B73/Reichweite!$D$4)","v":{"$error":"#N/A"}},{"$f":"IF(ISERROR(B73),0,12*Reichweite!$D$5*(1+Reichweite!$D$6)^(A73-1))","v":0},0]
[69,{"$f":"IF(A74>RW_RW_yrs+1,NA(),IFERROR(INDEX('RW-Monate'!$H$4:$H$1203, A74*12),0))","v":{"$error":"#N/A"}},{"$f":"IF(Reichweite!$D$4=0,0,B74/Reichweite!$D$4)","v":{"$error":"#N/A"}},{"$f":"IF(ISERROR(B74),0,12*Reichweite!$D$5*(1+Reichweite!$D$6)^(A74-1))","v":0},0]
[70,{"$f":"IF(A75>RW_RW_yrs+1,NA(),IFERROR(INDEX('RW-Monate'!$H$4:$H$1203, A75*12),0))","v":{"$error":"#N/A"}},{"$f":"IF(Reichweite!$D$4=0,0,B75/Reichweite!$D$4)","v":{"$error":"#N/A"}},{"$f":"IF(ISERROR(B75),0,12*Reichweite!$D$5*(1+Reichweite!$D$6)^(A75-1))","v":0},0]
[71,{"$f":"IF(A76>RW_RW_yrs+1,NA(),IFERROR(INDEX('RW-Monate'!$H$4:$H$1203, A76*12),0))","v":{"$error":"#N/A"}},{"$f":"IF(Reichweite!$D$4=0,0,B76/Reichweite!$D$4)","v":{"$error":"#N/A"}},{"$f":"IF(ISERROR(B76),0,12*Reichweite!$D$5*(1+Reichweite!$D$6)^(A76-1))","v":0},0]
[72,{"$f":"IF(A77>RW_RW_yrs+1,NA(),IFERROR(INDEX('RW-Monate'!$H$4:$H$1203, A77*12),0))","v":{"$error":"#N/A"}},{"$f":"IF(Reichweite!$D$4=0,0,B77/Reichweite!$D$4)","v":{"$error":"#N/A"}},{"$f":"IF(ISERROR(B77),0,12*Reichweite!$D$5*(1+Reichweite!$D$6)^(A77-1))","v":0},0]
[73,{"$f":"IF(A78>RW_RW_yrs+1,NA(),IFERROR(INDEX('RW-Monate'!$H$4:$H$1203, A78*12),0))","v":{"$error":"#N/A"}},{"$f":"IF(Reichweite!$D$4=0,0,B78/Reichweite!$D$4)","v":{"$error":"#N/A"}},{"$f":"IF(ISERROR(B78),0,12*Reichweite!$D$5*(1+Reichweite!$D$6)^(A78-1))","v":0},0]
[74,{"$f":"IF(A79>RW_RW_yrs+1,NA(),IFERROR(INDEX('RW-Monate'!$H$4:$H$1203, A79*12),0))","v":{"$error":"#N/A"}},{"$f":"IF(Reichweite!$D$4=0,0,B79/Reichweite!$D$4)","v":{"$error":"#N/A"}},{"$f":"IF(ISERROR(B79),0,12*Reichweite!$D$5*(1+Reichweite!$D$6)^(A79-1))","v":0},0]
[75,{"$f":"IF(A80>RW_RW_yrs+1,NA(),IFERROR(INDEX('RW-Monate'!$H$4:$H$1203, A80*12),0))","v":{"$error":"#N/A"}},{"$f":"IF(Reichweite!$D$4=0,0,B80/Reichweite!$D$4)","v":{"$error":"#N/A"}},{"$f":"IF(ISERROR(B80),0,12*Reichweite!$D$5*(1+Reichweite!$D$6)^(A80-1))","v":0},0]
[76,{"$f":"IF(A81>RW_RW_yrs+1,NA(),IFERROR(INDEX('RW-Monate'!$H$4:$H$1203, A81*12),0))","v":{"$error":"#N/A"}},{"$f":"IF(Reichweite!$D$4=0,0,B81/Reichweite!$D$4)","v":{"$error":"#N/A"}},{"$f":"IF(ISERROR(B81),0,12*Reichweite!$D$5*(1+Reichweite!$D$6)^(A81-1))","v":0},0]
[77,{"$f":"IF(A82>RW_RW_yrs+1,NA(),IFERROR(INDEX('RW-Monate'!$H$4:$H$1203, A82*12),0))","v":{"$error":"#N/A"}},{"$f":"IF(Reichweite!$D$4=0,0,B82/Reichweite!$D$4)","v":{"$error":"#N/A"}},{"$f":"IF(ISERROR(B82),0,12*Reichweite!$D$5*(1+Reichweite!$D$6)^(A82-1))","v":0},0]
[78,{"$f":"IF(A83>RW_RW_yrs+1,NA(),IFERROR(INDEX('RW-Monate'!$H$4:$H$1203, A83*12),0))","v":{"$error":"#N/A"}},{"$f":"IF(Reichweite!$D$4=0,0,B83/Reichweite!$D$4)","v":{"$error":"#N/A"}},{"$f":"IF(ISERROR(B83),0,12*Reichweite!$D$5*(1+Reichweite!$D$6)^(A83-1))","v":0},0]
[79,{"$f":"IF(A84>RW_RW_yrs+1,NA(),IFERROR(INDEX('RW-Monate'!$H$4:$H$1203, A84*12),0))","v":{"$error":"#N/A"}},{"$f":"IF(Reichweite!$D$4=0,0,B84/Reichweite!$D$4)","v":{"$error":"#N/A"}},{"$f":"IF(ISERROR(B84),0,12*Reichweite!$D$5*(1+Reichweite!$D$6)^(A84-1))","v":0},0]
[80,{"$f":"IF(A85>RW_RW_yrs+1,NA(),IFERROR(INDEX('RW-Monate'!$H$4:$H$1203, A85*12),0))","v":{"$error":"#N/A"}},{"$f":"IF(Reichweite!$D$4=0,0,B85/Reichweite!$D$4)","v":{"$error":"#N/A"}},{"$f":"IF(ISERROR(B85),0,12*Reichweite!$D$5*(1+Reichweite!$D$6)^(A85-1))","v":0},0]
[81,{"$f":"IF(A86>RW_RW_yrs+1,NA(),IFERROR(INDEX('RW-Monate'!$H$4:$H$1203, A86*12),0))","v":{"$error":"#N/A"}},{"$f":"IF(Reichweite!$D$4=0,0,B86/Reichweite!$D$4)","v":{"$error":"#N/A"}},{"$f":"IF(ISERROR(B86),0,12*Reichweite!$D$5*(1+Reichweite!$D$6)^(A86-1))","v":0},0]
[82,{"$f":"IF(A87>RW_RW_yrs+1,NA(),IFERROR(INDEX('RW-Monate'!$H$4:$H$1203, A87*12),0))","v":{"$error":"#N/A"}},{"$f":"IF(Reichweite!$D$4=0,0,B87/Reichweite!$D$4)","v":{"$error":"#N/A"}},{"$f":"IF(ISERROR(B87),0,12*Reichweite!$D$5*(1+Reichweite!$D$6)^(A87-1))","v":0},0]
[83,{"$f":"IF(A88>RW_RW_yrs+1,NA(),IFERROR(INDEX('RW-Monate'!$H$4:$H$1203, A88*12),0))","v":{"$error":"#N/A"}},{"$f":"IF(Reichweite!$D$4=0,0,B88/Reichweite!$D$4)","v":{"$error":"#N/A"}},{"$f":"IF(ISERROR(B88),0,12*Reichweite!$D$5*(1+Reichweite!$D$6)^(A88-1))","v":0},0]
[84,{"$f":"IF(A89>RW_RW_yrs+1,NA(),IFERROR(INDEX('RW-Monate'!$H$4:$H$1203, A89*12),0))","v":{"$error":"#N/A"}},{"$f":"IF(Reichweite!$D$4=0,0,B89/Reichweite!$D$4)","v":{"$error":"#N/A"}},{"$f":"IF(ISERROR(B89),0,12*Reichweite!$D$5*(1+Reichweite!$D$6)^(A89-1))","v":0},0]
[85,{"$f":"IF(A90>RW_RW_yrs+1,NA(),IFERROR(INDEX('RW-Monate'!$H$4:$H$1203, A90*12),0))","v":{"$error":"#N/A"}},{"$f":"IF(Reichweite!$D$4=0,0,B90/Reichweite!$D$4)","v":{"$error":"#N/A"}},{"$f":"IF(ISERROR(B90),0,12*Reichweite!$D$5*(1+Reichweite!$D$6)^(A90-1))","v":0},0]
[86,{"$f":"IF(A91>RW_RW_yrs+1,NA(),IFERROR(INDEX('RW-Monate'!$H$4:$H$1203, A91*12),0))","v":{"$error":"#N/A"}},{"$f":"IF(Reichweite!$D$4=0,0,B91/Reichweite!$D$4)","v":{"$error":"#N/A"}},{"$f":"IF(ISERROR(B91),0,12*Reichweite!$D$5*(1+Reichweite!$D$6)^(A91-1))","v":0},0]
[87,{"$f":"IF(A92>RW_RW_yrs+1,NA(),IFERROR(INDEX('RW-Monate'!$H$4:$H$1203, A92*12),0))","v":{"$error":"#N/A"}},{"$f":"IF(Reichweite!$D$4=0,0,B92/Reichweite!$D$4)","v":{"$error":"#N/A"}},{"$f":"IF(ISERROR(B92),0,12*Reichweite!$D$5*(1+Reichweite!$D$6)^(A92-1))","v":0},0]
[88,{"$f":"IF(A93>RW_RW_yrs+1,NA(),IFERROR(INDEX('RW-Monate'!$H$4:$H$1203, A93*12),0))","v":{"$error":"#N/A"}},{"$f":"IF(Reichweite!$D$4=0,0,B93/Reichweite!$D$4)","v":{"$error":"#N/A"}},{"$f":"IF(ISERROR(B93),0,12*Reichweite!$D$5*(1+Reichweite!$D$6)^(A93-1))","v":0},0]
[89,{"$f":"IF(A94>RW_RW_yrs+1,NA(),IFERROR(INDEX('RW-Monate'!$H$4:$H$1203, A94*12),0))","v":{"$error":"#N/A"}},{"$f":"IF(Reichweite!$D$4=0,0,B94/Reichweite!$D$4)","v":{"$error":"#N/A"}},{"$f":"IF(ISERROR(B94),0,12*Reichweite!$D$5*(1+Reichweite!$D$6)^(A94-1))","v":0},0]
[90,{"$f":"IF(A95>RW_RW_yrs+1,NA(),IFERROR(INDEX('RW-Monate'!$H$4:$H$1203, A95*12),0))","v":{"$error":"#N/A"}},{"$f":"IF(Reichweite!$D$4=0,0,B95/Reichweite!$D$4)","v":{"$error":"#N/A"}},{"$f":"IF(ISERROR(B95),0,12*Reichweite!$D$5*(1+Reichweite!$D$6)^(A95-1))","v":0},0]
[91,{"$f":"IF(A96>RW_RW_yrs+1,NA(),IFERROR(INDEX('RW-Monate'!$H$4:$H$1203, A96*12),0))","v":{"$error":"#N/A"}},{"$f":"IF(Reichweite!$D$4=0,0,B96/Reichweite!$D$4)","v":{"$error":"#N/A"}},{"$f":"IF(ISERROR(B96),0,12*Reichweite!$D$5*(1+Reichweite!$D$6)^(A96-1))","v":0},0]
[92,{"$f":"IF(A97>RW_RW_yrs+1,NA(),IFERROR(INDEX('RW-Monate'!$H$4:$H$1203, A97*12),0))","v":{"$error":"#N/A"}},{"$f":"IF(Reichweite!$D$4=0,0,B97/Reichweite!$D$4)","v":{"$error":"#N/A"}},{"$f":"IF(ISERROR(B97),0,12*Reichweite!$D$5*(1+Reichweite!$D$6)^(A97-1))","v":0},0]
[93,{"$f":"IF(A98>RW_RW_yrs+1,NA(),IFERROR(INDEX('RW-Monate'!$H$4:$H$1203, A98*12),0))","v":{"$error":"#N/A"}},{"$f":"IF(Reichweite!$D$4=0,0,B98/Reichweite!$D$4)","v":{"$error":"#N/A"}},{"$f":"IF(ISERROR(B98),0,12*Reichweite!$D$5*(1+Reichweite!$D$6)^(A98-1))","v":0},0]
[94,{"$f":"IF(A99>RW_RW_yrs+1,NA(),IFERROR(INDEX('RW-Monate'!$H$4:$H$1203, A99*12),0))","v":{"$error":"#N/A"}},{"$f":"IF(Reichweite!$D$4=0,0,B99/Reichweite!$D$4)","v":{"$error":"#N/A"}},{"$f":"IF(ISERROR(B99),0,12*Reichweite!$D$5*(1+Reichweite!$D$6)^(A99-1))","v":0},0]
[95,{"$f":"IF(A100>RW_RW_yrs+1,NA(),IFERROR(INDEX('RW-Monate'!$H$4:$H$1203, A100*12),0))","v":{"$error":"#N/A"}},{"$f":"IF(Reichweite!$D$4=0,0,B100/Reichweite!$D$4)","v":{"$error":"#N/A"}},{"$f":"IF(ISERROR(B100),0,12*Reichweite!$D$5*(1+Reichweite!$D$6)^(A100-1))","v":0},0]
[96,{"$f":"IF(A101>RW_RW_yrs+1,NA(),IFERROR(INDEX('RW-Monate'!$H$4:$H$1203, A101*12),0))","v":{"$error":"#N/A"}},{"$f":"IF(Reichweite!$D$4=0,0,B101/Reichweite!$D$4)","v":{"$error":"#N/A"}},{"$f":"IF(ISERROR(B101),0,12*Reichweite!$D$5*(1+Reichweite!$D$6)^(A101-1))","v":0},0]
[97,{"$f":"IF(A102>RW_RW_yrs+1,NA(),IFERROR(INDEX('RW-Monate'!$H$4:$H$1203, A102*12),0))","v":{"$error":"#N/A"}},{"$f":"IF(Reichweite!$D$4=0,0,B102/Reichweite!$D$4)","v":{"$error":"#N/A"}},{"$f":"IF(ISERROR(B102),0,12*Reichweite!$D$5*(1+Reichweite!$D$6)^(A102-1))","v":0},0]
[98,{"$f":"IF(A103>RW_RW_yrs+1,NA(),IFERROR(INDEX('RW-Monate'!$H$4:$H$1203, A103*12),0))","v":{"$error":"#N/A"}},{"$f":"IF(Reichweite!$D$4=0,0,B103/Reichweite!$D$4)","v":{"$error":"#N/A"}},{"$f":"IF(ISERROR(B103),0,12*Reichweite!$D$5*(1+Reichweite!$D$6)^(A103-1))","v":0},0]
[99,{"$f":"IF(A104>RW_RW_yrs+1,NA(),IFERROR(INDEX('RW-Monate'!$H$4:$H$1203, A104*12),0))","v":{"$error":"#N/A"}},{"$f":"IF(Reichweite!$D$4=0,0,B104/Reichweite!$D$4)","v":{"$error":"#N/A"}},{"$f":"IF(ISERROR(B104),0,12*Reichweite!$D$5*(1+Reichweite!$D$6)^(A104-1))","v":0},0]
[100,{"$f":"IF(A105>RW_RW_yrs+1,NA(),IFERROR(INDEX('RW-Monate'!$H$4:$H$1203, A105*12),0))","v":{"$error":"#N/A"}},{"$f":"IF(Reichweite!$D$4=0,0,B105/Reichweite!$D$4)","v":{"$error":"#N/A"}},{"$f":"IF(ISERROR(B105),0,12*Reichweite!$D$5*(1+Reichweite!$D$6)^(A105-1))","v":0},0]

{"sheet":"Endbetrag","index":4,"n_rows":23,"n_cols":8,"rows_kept":23,"cut":false,"hidden":false,"merged":[]}
[null,"Endbetrag: Entnahme- & Vermögensmodell (monatliche Entnahme, monatliche Verzinsung)"]
[]
["1.","Annahmen",null,null,null,null,"4.","Zielwert-Analysen"]
[null,"Startkapital","EUR",750000,null,null,null,"1. Wieviel kann ich maximal monatlich entnehmen?"]
[null,"Monatliche Entnahme (Jahr 1)","EUR",4000]
[null,"Inflationsrate","% p.a.",0.02]
[null,"Rendite","% p.a.",3.5000000000000003E-2,"bzw. % p.m.",{"$f":"(1+$D$7)^(30/360)-1","v":2.8708987190766422E-3},null,"Du kannst 20 Jahre lang monatlich 2.665 EUR entnehmen, ausgehend von einem Startkapital i.H.v. 550.000 EUR, einer IR von 2,00% und einer jährlichen Rendite von 3,50%."]
[null,"Auszahlungszeitraum","Jahre",15]
[null,null,null,null,null,null,null,"2. Wie hoch muss die jährliche Rendite sein?"]
["2.","Ergebnisse"]
[null,"Bezogen auf Ende Auszahlungszeitraum"]
[null,{"$f":"\"Kapital nach \" &EB_Zeitr &\" Jahren mit monatl. Auszahlungen\"","v":"Kapital nach 15 Jahren mit monatl. Auszahlungen"},"EUR",{"$f":"IF($D$8<=0,$D$4,IFERROR(INDEX('EB-Monate'!$H$4:$H$1203,$D$8*12),0))","v":182290.61694152595},null,null,null,"Die jährliche Rendite muss 10,11% betragen, damit du 20 Jahre lang monatlich 4.500 EUR entnehmen kannst bis das Kapital i.H.v. 550.000 EUR aufgebraucht ist."]
[]
[null,"Bezogen auf vollständigen Kapitalverzehr",null,null,null,null,null,"3. Wie hoch muss das Startkapital sein?"]
[null,"Letzter Monat mit Endkapital > 0","#",{"$f":"IF(COUNT('EB-Monate'!$I$4:$I$1203)=0,-1,MAX('EB-Monate'!$I$4:$I$1203))","v":213}]
[null,"Erschöpfungsmonat","#",{"$f":"IF(D15>=1199,\"> 100 Jahre\",D15+1)","v":214}]
[null,"Kapital Monatsanfang im Erschöpfungsmonat","EUR",{"$f":"IFERROR(INDEX('EB-Monate'!$C$4:$C$1203,D16+1),0)","v":4857.8698864873077},null,null,null,"Du benötigst 887.664 EUR Kapital, damit du 20 Jahre lang bei einer IR von 2,00% und jährlichen Rendite von 4,00% monatlich 4.500 EUR entnehmen kannst."]
[null,"Jahr im Erschöpfungsmonat","#",{"$f":"IFERROR(INT(D16/12)+1,0)","v":18}]
[null,"Monatsanteil","%",{"$f":"IF(D20=0,0,MIN(1,D17/D20))","v":0.86732720156375542}]
[null,"Geplante Monatsentnahme im Erschöpfungsmonat","EUR",{"$f":"IF(D15>=1199,0,$D$5*(1+$D$6)^(D18-1))","v":5600.9656767696979}]
[null,"Laufzeit","Jahre",{"$f":"IF(D15>=1199,\"> 100 Jahre\",(D15+1+D19)/12)","v":17.905610600130313}]
[]
["3.","Grafik"]

{"sheet":"EB-Monate","index":5,"n_rows":1204,"n_cols":9,"rows_kept":1204,"cut":false,"hidden":false,"merged":[]}
["Endwert: Monatliche Simulation (Entnahme zuerst, dann Verzinsung auf Rest)"]
[]
["Monat","Jahr","Kapital\nMonatsanfang","Geplante\nEntnahme (infl.)","Tatsächliche\nEntnahme","Kapital\nnach Entnahme","Zins/Rendite\n(auf Rest)","Kapital\nMonatsende","Hilfswert"]
[0,{"$f":"INT(A4/12)+1","v":1},{"$f":"Endbetrag!$D$4","v":750000},{"$f":"Endbetrag!$D$5*(1+Endbetrag!$D$6)^(B4-1)","v":4000},{"$f":"MIN(D4,C4)","v":4000},{"$f":"C4-E4","v":746000},{"$f":"F4*Endbetrag!$F$7","v":2141.6904444311749},{"$f":"MAX(0,F4+G4)","v":748141.69044443115},{"$f":"IF(H4>0,A4,\"\")","v":0}]
[1,1,{"$f":"H4","v":748141.69044443115},{"$f":"Endbetrag!$D$5*(1+Endbetrag!$D$6)^(B5-1)","v":4000},4000,744141.69044443115,{"$f":"F5*Endbetrag!$F$7","v":2136.3554259084444},746278.04587033961,1]
[2,1,746278.04587033961,{"$f":"Endbetrag!$D$5*(1+Endbetrag!$D$6)^(B6-1)","v":4000},4000,742278.04587033961,{"$f":"F6*Endbetrag!$F$7","v":2131.0050910878708},744409.05096142751,2]
[3,1,744409.05096142751,{"$f":"Endbetrag!$D$5*(1+Endbetrag!$D$6)^(B7-1)","v":4000},4000,740409.05096142751,{"$f":"F7*Endbetrag!$F$7","v":2125.6393959979146},742534.69035742537,3]
[4,1,742534.69035742537,{"$f":"Endbetrag!$D$5*(1+Endbetrag!$D$6)^(B8-1)","v":4000},4000,738534.69035742537,{"$f":"F8*Endbetrag!$F$7","v":2120.2582965407969},740654.94865396619,4]
[5,1,740654.94865396619,{"$f":"Endbetrag!$D$5*(1+Endbetrag!$D$6)^(B9-1)","v":4000},4000,736654.94865396619,{"$f":"F9*Endbetrag!$F$7","v":2114.861748492141},738769.8104024583,5]
[6,1,738769.8104024583,{"$f":"Endbetrag!$D$5*(1+Endbetrag!$D$6)^(B10-1)","v":4000},4000,734769.8104024583,{"$f":"F10*Endbetrag!$F$7","v":2109.4497075006047},736879.26010995894,6]
[7,1,736879.26010995894,{"$f":"Endbetrag!$D$5*(1+Endbetrag!$D$6)^(B11-1)","v":4000},4000,732879.26010995894,{"$f":"F11*Endbetrag!$F$7","v":2104.0221290875184},734983.28223904641,7]
[8,1,734983.28223904641,{"$f":"Endbetrag!$D$5*(1+Endbetrag!$D$6)^(B12-1)","v":4000},4000,730983.28223904641,{"$f":"F12*Endbetrag!$F$7","v":2098.5789686465178},733081.86120769288,8]
[9,1,733081.86120769288,{"$f":"Endbetrag!$D$5*(1+Endbetrag!$D$6)^(B13-1)","v":4000},4000,729081.86120769288,{"$f":"F13*Endbetrag!$F$7","v":2093.1201814431797},731174.98138913605,9]
[10,1,731174.98138913605,{"$f":"Endbetrag!$D$5*(1+Endbetrag!$D$6)^(B14-1)","v":4000},4000,727174.98138913605,{"$f":"F14*Endbetrag!$F$7","v":2087.6457226146517},729262.62711175065,10]
[11,1,729262.62711175065,{"$f":"Endbetrag!$D$5*(1+Endbetrag!$D$6)^(B15-1)","v":4000},4000,725262.62711175065,{"$f":"F15*Endbetrag!$F$7","v":2082.1555471692855},727344.78265891992,11]
[12,2,727344.78265891992,{"$f":"Endbetrag!$D$5*(1+Endbetrag!$D$6)^(B16-1)","v":4080},4080,723264.78265891992,{"$f":"F16*Endbetrag!$F$7","v":2076.4199380887394},725341.20259700867,12]
[13,2,725341.20259700867,{"$f":"Endbetrag!$D$5*(1+Endbetrag!$D$6)^(B17-1)","v":4080},4080,721261.20259700867,{"$f":"F17*Endbetrag!$F$7","v":2070.6678626554308},723331.87045966415,13]
[14,2,723331.87045966415,{"$f":"Endbetrag!$D$5*(1+Endbetrag!$D$6)^(B18-1)","v":4080},4080,719251.87045966415,{"$f":"F18*Endbetrag!$F$7","v":2064.8992735961288},721316.76973326027,14]
[15,2,721316.76973326027,{"$f":"Endbetrag!$D$5*(1+Endbetrag!$D$6)^(B19-1)","v":4080},4080,717236.76973326027,{"$f":"F19*Endbetrag!$F$7","v":2059.1141235018854},719295.8838567622,15]
[16,2,719295.8838567622,{"$f":"Endbetrag!$D$5*(1+Endbetrag!$D$6)^(B20-1)","v":4080},4080,715215.8838567622,{"$f":"F20*Endbetrag!$F$7","v":2053.3123648276469},717269.19622158981,16]
[17,2,717269.19622158981,{"$f":"Endbetrag!$D$5*(1+Endbetrag!$D$6)^(B21-1)","v":4080},4080,713189.19622158981,{"$f":"F21*Endbetrag!$F$7","v":2047.4939498918623},715236.69017148169,17]
[18,2,715236.69017148169,{"$f":"Endbetrag!$D$5*(1+Endbetrag!$D$6)^(B22-1)","v":4080},4080,711156.69017148169,{"$f":"F22*Endbetrag!$F$7","v":2041.6588308760913},713198.34900235781,18]
[19,2,713198.34900235781,{"$f":"Endbetrag!$D$5*(1+Endbetrag!$D$6)^(B23-1)","v":4080},4080,709118.34900235781,{"$f":"F23*Endbetrag!$F$7","v":2035.8069598246122},711154.15596218244,19]
[20,2,711154.15596218244,{"$f":"Endbetrag!$D$5*(1+Endbetrag!$D$6)^(B24-1)","v":4080},4080,707074.15596218244,{"$f":"F24*Endbetrag!$F$7","v":2029.9382886440276},709104.09425082651,20]
[21,2,709104.09425082651,{"$f":"Endbetrag!$D$5*(1+Endbetrag!$D$6)^(B25-1)","v":4080},4080,705024.09425082651,{"$f":"F25*Endbetrag!$F$7","v":2024.0527691028676},707048.14701992937,21]
[22,2,707048.14701992937,{"$f":"Endbetrag!$D$5*(1+Endbetrag!$D$6)^(B26-1)","v":4080},4080,702968.14701992937,{"$f":"F26*Endbetrag!$F$7","v":2018.150352831196},704986.2973727606,22]
[23,2,704986.2973727606,{"$f":"Endbetrag!$D$5*(1+Endbetrag!$D$6)^(B27-1)","v":4080},4080,700906.2973727606,{"$f":"F27*Endbetrag!$F$7","v":2012.2309913202105},702918.52836408082,23]
[24,3,702918.52836408082,{"$f":"Endbetrag!$D$5*(1+Endbetrag!$D$6)^(B28-1)","v":4161.6000000000004},4161.6000000000004,698756.92836408084,{"$f":"F28*Endbetrag!$F$7","v":2006.0603705863687},700762.98873466719,24]
[25,3,700762.98873466719,{"$f":"Endbetrag!$D$5*(1+Endbetrag!$D$6)^(B29-1)","v":4161.6000000000004},4161.6000000000004,696601.38873466721,{"$f":"F29*Endbetrag!$F$7","v":1999.8720346253663},698601.2607692926,25]
[26,3,698601.2607692926,{"$f":"Endbetrag!$D$5*(1+Endbetrag!$D$6)^(B30-1)","v":4161.6000000000004},4161.6000000000004,694439.66076929262,{"$f":"F30*Endbetrag!$F$7","v":1993.6659325785802},696433.32670187124,26]
[27,3,696433.32670187124,{"$f":"Endbetrag!$D$5*(1+Endbetrag!$D$6)^(B31-1)","v":4161.6000000000004},4161.6000000000004,692271.72670187126,{"$f":"F31*Endbetrag!$F$7","v":1987.4420134413774},694259.16871531261,27]
[28,3,694259.16871531261,{"$f":"Endbetrag!$D$5*(1+Endbetrag!$D$6)^(B32-1)","v":4161.6000000000004},4161.6000000000004,690097.56871531263,{"$f":"F32*Endbetrag!$F$7","v":1981.2002260626962},692078.76894137531,28]
[29,3,692078.76894137531,{"$f":"Endbetrag!$D$5*(1+Endbetrag!$D$6)^(B33-1)","v":4161.6000000000004},4161.6000000000004,687917.16894137533,{"$f":"F33*Endbetrag!$F$7","v":1974.9405191446244},689892.10946051998,29]
[30,3,689892.10946051998,{"$f":"Endbetrag!$D$5*(1+Endbetrag!$D$6)^(B34-1)","v":4161.6000000000004},4161.6000000000004,685730.50946052,{"$f":"F34*Endbetrag!$F$7","v":1968.6628412419802},687699.17230176192,30]
[31,3,687699.17230176192,{"$f":"Endbetrag!$D$5*(1+Endbetrag!$D$6)^(B35-1)","v":4161.6000000000004},4161.6000000000004,683537.57230176195,{"$f":"F35*Endbetrag!$F$7","v":1962.367140761886},685499.93944252387,31]
[32,3,685499.93944252387,{"$f":"Endbetrag!$D$5*(1+Endbetrag!$D$6)^(B36-1)","v":4161.6000000000004},4161.6000000000004,681338.33944252389,{"$f":"F36*Endbetrag!$F$7","v":1956.0533659633484},683294.39280848729,32]
[33,3,683294.39280848729,{"$f":"Endbetrag!$D$5*(1+Endbetrag!$D$6)^(B37-1)","v":4161.6000000000004},4161.6000000000004,679132.79280848731,{"$f":"F37*Endbetrag!$F$7","v":1949.7214649568289},681082.51427344419,33]
[34,3,681082.51427344419,{"$f":"Endbetrag!$D$5*(1+Endbetrag!$D$6)^(B38-1)","v":4161.6000000000004},4161.6000000000004,676920.91427344421,{"$f":"F38*Endbetrag!$F$7","v":1943.3713857038206},678864.28565914801,34]
[35,3,678864.28565914801,{"$f":"Endbetrag!$D$5*(1+Endbetrag!$D$6)^(B39-1)","v":4161.6000000000004},4161.6000000000004,674702.68565914803,{"$f":"F39*Endbetrag!$F$7","v":1937.0030760164184},676639.68873516447,35]
[36,4,676639.68873516447,{"$f":"Endbetrag!$D$5*(1+Endbetrag!$D$6)^(B40-1)","v":4244.8319999999994},4244.8319999999994,672394.85673516442,{"$f":"F40*Endbetrag!$F$7","v":1930.3775329147059},674325.23426807916,36]
[37,4,674325.23426807916,{"$f":"Endbetrag!$D$5*(1+Endbetrag!$D$6)^(B41-1)","v":4244.8319999999994},4244.8319999999994,670080.40226807911,{"$f":"F41*Endbetrag!$F$7","v":1923.7329685497893},672004.13523662894,37]
[38,4,672004.13523662894,{"$f":"Endbetrag!$D$5*(1+Endbetrag!$D$6)^(B42-1)","v":4244.8319999999994},4244.8319999999994,667759.30323662888,{"$f":"F42*Endbetrag!$F$7","v":1917.069328313549},669676.37256494246,38]
[39,4,669676.37256494246,{"$f":"Endbetrag!$D$5*(1+Endbetrag!$D$6)^(B43-1)","v":4244.8319999999994},4244.8319999999994,665431.54056494241,{"$f":"F43*Endbetrag!$F$7","v":1910.3865574410897},667341.92712238349,39]
[40,4,667341.92712238349,{"$f":"Endbetrag!$D$5*(1+Endbetrag!$D$6)^(B44-1)","v":4244.8319999999994},4244.8319999999994,663097.09512238344,{"$f":"F44*Endbetrag!$F$7","v":1903.6846010102929},665000.77972339373,40]
[41,4,665000.77972339373,{"$f":"Endbetrag!$D$5*(1+Endbetrag!$D$6)^(B45-1)","v":4244.8319999999994},4244.8319999999994,660755.94772339368,{"$f":"F45*Endbetrag!$F$7","v":1896.9634039413636},662652.91112733504,41]
[42,4,662652.91112733504,{"$f":"Endbetrag!$D$5*(1+Endbetrag!$D$6)^(B46-1)","v":4244.8319999999994},4244.8319999999994,658408.07912733499,{"$f":"F46*Endbetrag!$F$7","v":1890.2229109963785},660298.3020383314,42]
[43,4,660298.3020383314,{"$f":"Endbetrag!$D$5*(1+Endbetrag!$D$6)^(B47-1)","v":4244.8319999999994},4244.8319999999994,656053.47003833135,{"$f":"F47*Endbetrag!$F$7","v":1883.4630667788317},657936.93310511019,43]
[44,4,657936.93310511019,{"$f":"Endbetrag!$D$5*(1+Endbetrag!$D$6)^(B48-1)","v":4244.8319999999994},4244.8319999999994,653692.10110511014,{"$f":"F48*Endbetrag!$F$7","v":1876.6838157331795},655568.78492084332,44]
[45,4,655568.78492084332,{"$f":"Endbetrag!$D$5*(1+Endbetrag!$D$6)^(B49-1)","v":4244.8319999999994},4244.8319999999994,651323.95292084327,{"$f":"F49*Endbetrag!$F$7","v":1869.8851021443841},653193.83802298759,45]
[46,4,653193.83802298759,{"$f":"Endbetrag!$D$5*(1+Endbetrag!$D$6)^(B50-1)","v":4244.8319999999994},4244.8319999999994,648949.00602298754,{"$f":"F50*Endbetrag!$F$7","v":1863.066870137455},650812.07289312501,46]
[47,4,650812.07289312501,{"$f":"Endbetrag!$D$5*(1+Endbetrag!$D$6)^(B51-1)","v":4244.8319999999994},4244.8319999999994,646567.24089312495,{"$f":"F51*Endbetrag!$F$7","v":1856.2290636769912},648423.46995680197,47]
[48,5,648423.46995680197,{"$f":"Endbetrag!$D$5*(1+Endbetrag!$D$6)^(B52-1)","v":4329.7286400000003},4329.7286400000003,644093.74131680198,{"$f":"F52*Endbetrag!$F$7","v":1849.127896911689},645942.86921371368,48]
[49,5,645942.86921371368,{"$f":"Endbetrag!$D$5*(1+Endbetrag!$D$6)^(B53-1)","v":4329.7286400000003},4329.7286400000003,641613.1405737137,{"$f":"F53*Endbetrag!$F$7","v":1842.0063434158162},643455.14691712952,49]
[50,5,643455.14691712952,{"$f":"Endbetrag!$D$5*(1+Endbetrag!$D$6)^(B54-1)","v":4329.7286400000003},4329.7286400000003,639125.41827712953,{"$f":"F54*Endbetrag!$F$7","v":1834.8643446611343},640960.28262179065,50]
[51,5,640960.28262179065,{"$f":"Endbetrag!$D$5*(1+Endbetrag!$D$6)^(B55-1)","v":4329.7286400000003},4329.7286400000003,636630.55398179067,{"$f":"F55*Endbetrag!$F$7","v":1827.7018419513759},638458.25582374202,51]
[52,5,638458.25582374202,{"$f":"Endbetrag!$D$5*(1+Endbetrag!$D$6)^(B56-1)","v":4329.7286400000003},4329.7286400000003,634128.52718374203,{"$f":"F56*Endbetrag!$F$7","v":1820.5187764217626},635949.04596016381,52]
[53,5,635949.04596016381,{"$f":"Endbetrag!$D$5*(1+Endbetrag!$D$6)^(B57-1)","v":4329.7286400000003},4329.7286400000003,631619.31732016383,{"$f":"F57*Endbetrag!$F$7","v":1813.3150890385216},633432.6324092024,53]
[54,5,633432.6324092024,{"$f":"Endbetrag!$D$5*(1+Endbetrag!$D$6)^(B58-1)","v":4329.7286400000003},4329.7286400000003,629102.90376920241,{"$f":"F58*Endbetrag!$F$7","v":1806.0907205983992},630908.99448980077,54]
[55,5,630908.99448980077,{"$f":"Endbetrag!$D$5*(1+Endbetrag!$D$6)^(B59-1)","v":4329.7286400000003},4329.7286400000003,626579.26584980078,{"$f":"F59*Endbetrag!$F$7","v":1798.845611728176},628378.11146152893,55]
[56,5,628378.11146152893,{"$f":"Endbetrag!$D$5*(1+Endbetrag!$D$6)^(B60-1)","v":4329.7286400000003},4329.7286400000003,624048.38282152894,{"$f":"F60*Endbetrag!$F$7","v":1791.5797028841776},625839.96252441313,56]
[57,5,625839.96252441313,{"$f":"Endbetrag!$D$5*(1+Endbetrag!$D$6)^(B61-1)","v":4329.7286400000003},4329.7286400000003,621510.23388441314,{"$f":"F61*Endbetrag!$F$7","v":1784.292934351786},623294.52681876498,57]
[58,5,623294.52681876498,{"$f":"Endbetrag!$D$5*(1+Endbetrag!$D$6)^(B62-1)","v":4329.7286400000003},4329.7286400000003,618964.79817876499,{"$f":"F62*Endbetrag!$F$7","v":1776.9852462449487},620741.78342500993,58]
[59,5,620741.78342500993,{"$f":"Endbetrag!$D$5*(1+Endbetrag!$D$6)^(B63-1)","v":4329.7286400000003},4329.7286400000003,616412.05478500994,{"$f":"F63*Endbetrag!$F$7","v":1769.656578505686},618181.71136351558,59]
[60,6,618181.71136351558,{"$f":"Endbetrag!$D$5*(1+Endbetrag!$D$6)^(B64-1)","v":4416.3232128},4416.3232128,613765.38815071562,{"$f":"F64*Endbetrag!$F$7","v":1762.0582666554676},615527.44641737104,60]
[61,6,615527.44641737104,{"$f":"Endbetrag!$D$5*(1+Endbetrag!$D$6)^(B65-1)","v":4416.3232128},4416.3232128,611111.12320457108,{"$f":"F65*Endbetrag!$F$7","v":1754.4381408214911},612865.56134539261,61]
[62,6,612865.56134539261,{"$f":"Endbetrag!$D$5*(1+Endbetrag!$D$6)^(B66-1)","v":4416.3232128},4416.3232128,608449.23813259264,{"$f":"F66*Endbetrag!$F$7","v":1746.7961383780191},610196.03427097062,62]
[63,6,610196.03427097062,{"$f":"Endbetrag!$D$5*(1+Endbetrag!$D$6)^(B67-1)","v":4416.3232128},4416.3232128,605779.71105817065,{"$f":"F67*Endbetrag!$F$7","v":1739.1321965195204},607518.84325469017,63]
[64,{"$f":"INT(A68/12)+1","v":6},607518.84325469017,{"$f":"Endbetrag!$D$5*(1+Endbetrag!$D$6)^(B68-1)","v":4416.3232128},{"$f":"MIN(D68,C68)","v":4416.3232128},{"$f":"C68-E68","v":603102.52004189021},{"$f":"F68*Endbetrag!$F$7","v":1731.4462522601575},{"$f":"MAX(0,F68+G68)","v":604833.96629415033},{"$f":"IF(H68>0,A68,\"\")","v":64}]
[65,6,{"$f":"H68","v":604833.96629415033},{"$f":"Endbetrag!$D$5*(1+Endbetrag!$D$6)^(B69-1)","v":4416.3232128},4416.3232128,600417.64308135037,{"$f":"F69*Endbetrag!$F$7","v":1723.7382424332652},602141.38132378366,65]
[66,6,602141.38132378366,{"$f":"Endbetrag!$D$5*(1+Endbetrag!$D$6)^(B70-1)","v":4416.3232128},4416.3232128,597725.05811098369,{"$f":"F70*Endbetrag!$F$7","v":1716.0081036908346},599441.0662146745,66]
[67,6,599441.0662146745,{"$f":"Endbetrag!$D$5*(1+Endbetrag!$D$6)^(B71-1)","v":4416.3232128},4416.3232128,595024.74300187454,{"$f":"F71*Endbetrag!$F$7","v":1708.2557725029899},596732.99877437751,67]
[68,6,596732.99877437751,{"$f":"Endbetrag!$D$5*(1+Endbetrag!$D$6)^(B72-1)","v":4416.3232128},4416.3232128,592316.67556157755,{"$f":"F72*Endbetrag!$F$7","v":1700.481185157468},594017.15674673498,68]
[69,6,594017.15674673498,{"$f":"Endbetrag!$D$5*(1+Endbetrag!$D$6)^(B73-1)","v":4416.3232128},4416.3232128,589600.83353393502,{"$f":"F73*Endbetrag!$F$7","v":1692.6842777590946},591293.51781169407,69]
[70,6,591293.51781169407,{"$f":"Endbetrag!$D$5*(1+Endbetrag!$D$6)^(B74-1)","v":4416.3232128},4416.3232128,586877.1945988941,{"$f":"F74*Endbetrag!$F$7","v":1684.8649862292584},588562.05958512332,70]
[71,6,588562.05958512332,{"$f":"Endbetrag!$D$5*(1+Endbetrag!$D$6)^(B75-1)","v":4416.3232128},4416.3232128,584145.73637232336,{"$f":"F75*Endbetrag!$F$7","v":1677.0232463053851},585822.75961862877,71]
[72,7,585822.75961862877,{"$f":"Endbetrag!$D$5*(1+Endbetrag!$D$6)^(B76-1)","v":4504.6496770560007},4504.6496770560007,581318.10994157277,{"$f":"F76*Endbetrag!$F$7","v":1668.9054172073158},582987.01535878005,72]
[73,7,582987.01535878005,{"$f":"Endbetrag!$D$5*(1+Endbetrag!$D$6)^(B77-1)","v":4504.6496770560007},4504.6496770560007,578482.36568172404,{"$f":"F77*Endbetrag!$F$7","v":1660.7642826440872},580143.12996436819,73]
[74,7,580143.12996436819,{"$f":"Endbetrag!$D$5*(1+Endbetrag!$D$6)^(B78-1)","v":4504.6496770560007},4504.6496770560007,575638.48028731218,{"$f":"F78*Endbetrag!$F$7","v":1652.5997757080695},577291.08006302023,74]
[75,7,577291.08006302023,{"$f":"Endbetrag!$D$5*(1+Endbetrag!$D$6)^(B79-1)","v":4504.6496770560007},4504.6496770560007,572786.43038596422,{"$f":"F79*Endbetrag!$F$7","v":1644.411829299547},574430.84221526375,75]
[76,7,574430.84221526375,{"$f":"Endbetrag!$D$5*(1+Endbetrag!$D$6)^(B80-1)","v":4504.6496770560007},4504.6496770560007,569926.19253820775,{"$f":"F80*Endbetrag!$F$7","v":1636.2003761261683},571562.39291433396,76]
[77,7,571562.39291433396,{"$f":"Endbetrag!$D$5*(1+Endbetrag!$D$6)^(B81-1)","v":4504.6496770560007},4504.6496770560007,567057.74323727796,{"$f":"F81*Endbetrag!$F$7","v":1627.9653487023927},568685.70858598035,77]
[78,7,568685.70858598035,{"$f":"Endbetrag!$D$5*(1+Endbetrag!$D$6)^(B82-1)","v":4504.6496770560007},4504.6496770560007,564181.05890892434,{"$f":"F82*Endbetrag!$F$7","v":1619.7066793489346},565800.76558827329,78]
[79,7,565800.76558827329,{"$f":"Endbetrag!$D$5*(1+Endbetrag!$D$6)^(B83-1)","v":4504.6496770560007},4504.6496770560007,561296.11591121729,{"$f":"F83*Endbetrag!$F$7","v":1611.4243001922082},562907.54021140945,79]
[80,7,562907.54021140945,{"$f":"Endbetrag!$D$5*(1+Endbetrag!$D$6)^(B84-1)","v":4504.6496770560007},4504.6496770560007,558402.89053435344,{"$f":"F84*Endbetrag!$F$7","v":1603.1181431637697},560006.00867751718,80]
[81,7,560006.00867751718,{"$f":"Endbetrag!$D$5*(1+Endbetrag!$D$6)^(B85-1)","v":4504.6496770560007},4504.6496770560007,555501.35900046118,{"$f":"F85*Endbetrag!$F$7","v":1594.788139999758},557096.1471404609,81]
[82,7,557096.1471404609,{"$f":"Endbetrag!$D$5*(1+Endbetrag!$D$6)^(B86-1)","v":4504.6496770560007},4504.6496770560007,552591.4974634049,{"$f":"F86*Endbetrag!$F$7","v":1586.4342222403327},554177.93168564525,82]
[83,7,554177.93168564525,{"$f":"Endbetrag!$D$5*(1+Endbetrag!$D$6)^(B87-1)","v":4504.6496770560007},4504.6496770560007,549673.28200858925,{"$f":"F87*Endbetrag!$F$7","v":1578.0563212291129},551251.33832981833,83]
[84,8,551251.33832981833,{"$f":"Endbetrag!$D$5*(1+Endbetrag!$D$6)^(B88-1)","v":4594.7426705971193},4594.7426705971193,546656.59565922117,{"$f":"F88*Endbetrag!$F$7","v":1569.3957202528559},548225.99137947406,84]
[85,8,548225.99137947406,{"$f":"Endbetrag!$D$5*(1+Endbetrag!$D$6)^(B89-1)","v":4594.7426705971193},4594.7426705971193,543631.2487088769,{"$f":"F89*Endbetrag!$F$7","v":1560.7102555683502},545191.95896444528,85]
[86,8,545191.95896444528,{"$f":"Endbetrag!$D$5*(1+Endbetrag!$D$6)^(B90-1)","v":4594.7426705971193},4594.7426705971193,540597.21629384812,{"$f":"F90*Endbetrag!$F$7","v":1551.999855794407},542149.21614964248,86]
[87,8,542149.21614964248,{"$f":"Endbetrag!$D$5*(1+Endbetrag!$D$6)^(B91-1)","v":4594.7426705971193},4594.7426705971193,537554.47347904532,{"$f":"F91*Endbetrag!$F$7","v":1543.26444934491},539097.73792839027,87]
[88,8,539097.73792839027,{"$f":"Endbetrag!$D$5*(1+Endbetrag!$D$6)^(B92-1)","v":4594.7426705971193},4594.7426705971193,534502.99525779311,{"$f":"F92*Endbetrag!$F$7","v":1534.5039644282267},536037.49922222132,88]
[89,8,536037.49922222132,{"$f":"Endbetrag!$D$5*(1+Endbetrag!$D$6)^(B93-1)","v":4594.7426705971193},4594.7426705971193,531442.75655162416,{"$f":"F93*Endbetrag!$F$7","v":1525.7183290466176},532968.47488067078,89]
[90,8,532968.47488067078,{"$f":"Endbetrag!$D$5*(1+Endbetrag!$D$6)^(B94-1)","v":4594.7426705971193},4594.7426705971193,528373.73221007362,{"$f":"F94*Endbetrag!$F$7","v":1516.9074709956451},529890.6396810693,90]
[91,8,529890.6396810693,{"$f":"Endbetrag!$D$5*(1+Endbetrag!$D$6)^(B95-1)","v":4594.7426705971193},4594.7426705971193,525295.89701047214,{"$f":"F95*Endbetrag!$F$7","v":1508.0713178635801},526803.96832833567,91]
[92,8,526803.96832833567,{"$f":"Endbetrag!$D$5*(1+Endbetrag!$D$6)^(B96-1)","v":4594.7426705971193},4594.7426705971193,522209.22565773857,{"$f":"F96*Endbetrag!$F$7","v":1499.2097970308068},523708.43545476935,92]
[93,8,523708.43545476935,{"$f":"Endbetrag!$D$5*(1+Endbetrag!$D$6)^(B97-1)","v":4594.7426705971193},4594.7426705971193,519113.69278417225,{"$f":"F97*Endbetrag!$F$7","v":1490.3228356692257},520604.01561984146,93]
[94,8,520604.01561984146,{"$f":"Endbetrag!$D$5*(1+Endbetrag!$D$6)^(B98-1)","v":4594.7426705971193},4594.7426705971193,516009.27294924436,{"$f":"F98*Endbetrag!$F$7","v":1481.410360741655},517490.68330998602,94]
[95,8,517490.68330998602,{"$f":"Endbetrag!$D$5*(1+Endbetrag!$D$6)^(B99-1)","v":4594.7426705971193},4594.7426705971193,512895.94063938892,{"$f":"F99*Endbetrag!$F$7","v":1472.4722990012312},514368.41293839016,95]
[96,9,514368.41293839016,{"$f":"Endbetrag!$D$5*(1+Endbetrag!$D$6)^(B100-1)","v":4686.637524009062},4686.637524009062,509681.77541438112,{"$f":"F100*Endbetrag!$F$7","v":1463.2447561738556},511145.02017055498,96]
[97,9,511145.02017055498,{"$f":"Endbetrag!$D$5*(1+Endbetrag!$D$6)^(B101-1)","v":4686.637524009062},4686.637524009062,506458.38264654594,{"$f":"F101*Endbetrag!$F$7","v":1453.9907220055966},507912.37336855155,97]
[98,9,507912.37336855155,{"$f":"Endbetrag!$D$5*(1+Endbetrag!$D$6)^(B102-1)","v":4686.637524009062},4686.637524009062,503225.73584454251,{"$f":"F102*Endbetrag!$F$7","v":1444.7101204424978},504670.445964985,98]
[99,9,504670.445964985,{"$f":"Endbetrag!$D$5*(1+Endbetrag!$D$6)^(B103-1)","v":4686.637524009062},4686.637524009062,499983.80844097596,{"$f":"F103*Endbetrag!$F$7","v":1435.4028752122592},501419.21131618822,99]
[100,9,501419.21131618822,{"$f":"Endbetrag!$D$5*(1+Endbetrag!$D$6)^(B104-1)","v":4686.637524009062},4686.637524009062,496732.57379217917,{"$f":"F104*Endbetrag!$F$7","v":1426.0689098236107},498158.64270200278,100]
[101,9,498158.64270200278,{"$f":"Endbetrag!$D$5*(1+Endbetrag!$D$6)^(B105-1)","v":4686.637524009062},4686.637524009062,493472.00517799373,{"$f":"F105*Endbetrag!$F$7","v":1416.7081475656844},494888.71332555939,101]
[102,9,494888.71332555939,{"$f":"Endbetrag!$D$5*(1+Endbetrag!$D$6)^(B106-1)","v":4686.637524009062},4686.637524009062,490202.07580155035,{"$f":"F106*Endbetrag!$F$7","v":1407.320511507382},491609.39631305775,102]
[103,9,491609.39631305775,{"$f":"Endbetrag!$D$5*(1+Endbetrag!$D$6)^(B107-1)","v":4686.637524009062},4686.637524009062,486922.7587890487,{"$f":"F107*Endbetrag!$F$7","v":1397.9059244967448},488320.66471354547,103]
[104,9,488320.66471354547,{"$f":"Endbetrag!$D$5*(1+Endbetrag!$D$6)^(B108-1)","v":4686.637524009062},4686.637524009062,483634.02718953643,{"$f":"F108*Endbetrag!$F$7","v":1388.4643091603182},485022.49149869673,104]
[105,9,485022.49149869673,{"$f":"Endbetrag!$D$5*(1+Endbetrag!$D$6)^(B109-1)","v":4686.637524009062},4686.637524009062,480335.85397468769,{"$f":"F109*Endbetrag!$F$7","v":1378.995587902516},481714.84956259019,105]
[106,9,481714.84956259019,{"$f":"Endbetrag!$D$5*(1+Endbetrag!$D$6)^(B110-1)","v":4686.637524009062},4686.637524009062,477028.21203858114,{"$f":"F110*Endbetrag!$F$7","v":1369.4996829049835},478397.71172148612,106]
[107,9,478397.71172148612,{"$f":"Endbetrag!$D$5*(1+Endbetrag!$D$6)^(B111-1)","v":4686.637524009062},4686.637524009062,473711.07419747708,{"$f":"F111*Endbetrag!$F$7","v":1359.9765161259572},475071.05071360304,107]
[108,10,475071.05071360304,{"$f":"Endbetrag!$D$5*(1+Endbetrag!$D$6)^(B112-1)","v":4780.3702744892435},4780.3702744892435,470290.68043911381,{"$f":"F112*Endbetrag!$F$7","v":1350.1569120663344},471640.83735118015,108]
[109,10,471640.83735118015,{"$f":"Endbetrag!$D$5*(1+Endbetrag!$D$6)^(B113-1)","v":4780.3702744892435},4780.3702744892435,466860.46707669093,{"$f":"F113*Endbetrag!$F$7","v":1340.309116917995},468200.77619360894,109]
[110,10,468200.77619360894,{"$f":"Endbetrag!$D$5*(1+Endbetrag!$D$6)^(B114-1)","v":4780.3702744892435},4780.3702744892435,463420.40591911972,{"$f":"F114*Endbetrag!$F$7","v":1330.4330497471783},464750.83896886691,110]
[111,10,464750.83896886691,{"$f":"Endbetrag!$D$5*(1+Endbetrag!$D$6)^(B115-1)","v":4780.3702744892435},4780.3702744892435,459970.46869437769,{"$f":"F115*Endbetrag!$F$7","v":1320.5286293877716},461290.99732376548,111]
[112,10,461290.99732376548,{"$f":"Endbetrag!$D$5*(1+Endbetrag!$D$6)^(B116-1)","v":4780.3702744892435},4780.3702744892435,456510.62704927626,{"$f":"F116*Endbetrag!$F$7","v":1310.5957744406419},457821.22282371687,112]
[113,10,457821.22282371687,{"$f":"Endbetrag!$D$5*(1+Endbetrag!$D$6)^(B117-1)","v":4780.3702744892435},4780.3702744892435,453040.85254922765,{"$f":"F117*Endbetrag!$F$7","v":1300.6344032729676},454341.48695250059,113]
[114,10,454341.48695250059,{"$f":"Endbetrag!$D$5*(1+Endbetrag!$D$6)^(B118-1)","v":4780.3702744892435},4780.3702744892435,449561.11667801137,{"$f":"F118*Endbetrag!$F$7","v":1290.6444340175676},450851.76111202897,114]
[115,10,450851.76111202897,{"$f":"Endbetrag!$D$5*(1+Endbetrag!$D$6)^(B119-1)","v":4780.3702744892435},4780.3702744892435,446071.39083753974,{"$f":"F119*Endbetrag!$F$7","v":1280.6257845722291},447352.01662211196,115]
[116,10,447352.01662211196,{"$f":"Endbetrag!$D$5*(1+Endbetrag!$D$6)^(B120-1)","v":4780.3702744892435},4780.3702744892435,442571.64634762274,{"$f":"F120*Endbetrag!$F$7","v":1270.5783725990309},443842.22472022177,116]
[117,10,443842.22472022177,{"$f":"Endbetrag!$D$5*(1+Endbetrag!$D$6)^(B121-1)","v":4780.3702744892435},4780.3702744892435,439061.85444573255,{"$f":"F121*Endbetrag!$F$7","v":1260.5021155236686},440322.35656125622,117]
[118,10,440322.35656125622,{"$f":"Endbetrag!$D$5*(1+Endbetrag!$D$6)^(B122-1)","v":4780.3702744892435},4780.3702744892435,435541.986286767,{"$f":"F122*Endbetrag!$F$7","v":1250.3969305347759},436792.3832173018,118]
[119,10,436792.3832173018,{"$f":"Endbetrag!$D$5*(1+Endbetrag!$D$6)^(B123-1)","v":4780.3702744892435},4780.3702744892435,432012.01294281258,{"$f":"F123*Endbetrag!$F$7","v":1240.2627345832425},433252.27567739581,119]
[120,11,433252.27567739581,{"$f":"Endbetrag!$D$5*(1+Endbetrag!$D$6)^(B124-1)","v":4875.9776799790288},4875.9776799790288,428376.29799741675,{"$f":"F124*Endbetrag!$F$7","v":1229.8249652035777},429606.12296262034,120]
[121,11,429606.12296262034,{"$f":"Endbetrag!$D$5*(1+Endbetrag!$D$6)^(B125-1)","v":4875.9776799790288},4875.9776799790288,424730.14528264129,{"$f":"F125*Endbetrag!$F$7","v":1219.357230045171},425949.50251268648,121]
[122,11,425949.50251268648,{"$f":"Endbetrag!$D$5*(1+Endbetrag!$D$6)^(B126-1)","v":4875.9776799790288},4875.9776799790288,421073.52483270742,{"$f":"F126*Endbetrag!$F$7","v":1208.8594430793064},422282.38427578675,122]
[123,11,422282.38427578675,{"$f":"Endbetrag!$D$5*(1+Endbetrag!$D$6)^(B127-1)","v":4875.9776799790288},4875.9776799790288,417406.4065958077,{"$f":"F127*Endbetrag!$F$7","v":1198.3315180302884},418604.73811383796,123]
[124,11,418604.73811383796,{"$f":"Endbetrag!$D$5*(1+Endbetrag!$D$6)^(B128-1)","v":4875.9776799790288},4875.9776799790288,413728.7604338589,{"$f":"F128*Endbetrag!$F$7","v":1187.7733683747324},414916.53380223364,124]
[125,11,414916.53380223364,{"$f":"Endbetrag!$D$5*(1+Endbetrag!$D$6)^(B129-1)","v":4875.9776799790288},4875.9776799790288,410040.55612225458,{"$f":"F129*Endbetrag!$F$7","v":1177.1849073408546},411217.74102959543,125]
[126,11,411217.74102959543,{"$f":"Endbetrag!$D$5*(1+Endbetrag!$D$6)^(B130-1)","v":4875.9776799790288},4875.9776799790288,406341.76334961638,{"$f":"F130*Endbetrag!$F$7","v":1166.5660479077578},407508.32939752412,126]
[127,11,407508.32939752412,{"$f":"Endbetrag!$D$5*(1+Endbetrag!$D$6)^(B131-1)","v":4875.9776799790288},4875.9776799790288,402632.35171754507,{"$f":"F131*Endbetrag!$F$7","v":1155.9167028047161},403788.26842034981,127]
[128,{"$f":"INT(A132/12)+1","v":11},403788.26842034981,{"$f":"Endbetrag!$D$5*(1+Endbetrag!$D$6)^(B132-1)","v":4875.9776799790288},{"$f":"MIN(D132,C132)","v":4875.9776799790288},{"$f":"C132-E132","v":398912.29074037075},{"$f":"F132*Endbetrag!$F$7","v":1145.2367845104595},{"$f":"MAX(0,F132+G132)","v":400057.52752488118},{"$f":"IF(H132>0,A132,\"\")","v":128}]
[129,11,{"$f":"H132","v":400057.52752488118},{"$f":"Endbetrag!$D$5*(1+Endbetrag!$D$6)^(B133-1)","v":4875.9776799790288},4875.9776799790288,395181.54984490213,{"$f":"F133*Endbetrag!$F$7","v":1134.5262052524517},396316.07605015457,129]
[130,11,396316.07605015457,{"$f":"Endbetrag!$D$5*(1+Endbetrag!$D$6)^(B134-1)","v":4875.9776799790288},4875.9776799790288,391440.09837017552,{"$f":"F134*Endbetrag!$F$7","v":1123.7848770061717},392563.88324718171,130]
[131,11,392563.88324718171,{"$f":"Endbetrag!$D$5*(1+Endbetrag!$D$6)^(B135-1)","v":4875.9776799790288},4875.9776799790288,387687.90556720266,{"$f":"F135*Endbetrag!$F$7","v":1113.0127114943884},388800.91827869706,131]
[132,12,388800.91827869706,{"$f":"Endbetrag!$D$5*(1+Endbetrag!$D$6)^(B136-1)","v":4973.4972335786078},4973.4972335786078,383827.42104511848,{"$f":"F136*Endbetrag!$F$7","v":1101.9296514249218},384929.35069654341,132]
[133,12,384929.35069654341,{"$f":"Endbetrag!$D$5*(1+Endbetrag!$D$6)^(B137-1)","v":4973.4972335786078},4973.4972335786078,379955.85346296482,{"$f":"F137*Endbetrag!$F$7","v":1090.8147730124981},381046.6682359773,133]
[134,12,381046.6682359773,{"$f":"Endbetrag!$D$5*(1+Endbetrag!$D$6)^(B138-1)","v":4973.4972335786078},4973.4972335786078,376073.17100239871,{"$f":"F138*Endbetrag!$F$7","v":1079.6679849098775},377152.83898730861,134]
[135,12,377152.83898730861,{"$f":"Endbetrag!$D$5*(1+Endbetrag!$D$6)^(B139-1)","v":4973.4972335786078},4973.4972335786078,372179.34175373003,{"$f":"F139*Endbetrag!$F$7","v":1068.4891955075714},373247.83094923757,135]
[136,12,373247.83094923757,{"$f":"Endbetrag!$D$5*(1+Endbetrag!$D$6)^(B140-1)","v":4973.4972335786078},4973.4972335786078,368274.33371565898,{"$f":"F140*Endbetrag!$F$7","v":1057.2783129330892},369331.61202859209,136]
[137,12,369331.61202859209,{"$f":"Endbetrag!$D$5*(1+Endbetrag!$D$6)^(B141-1)","v":4973.4972335786078},4973.4972335786078,364358.11479501351,{"$f":"F141*Endbetrag!$F$7","v":1046.0352450501844},365404.15004006372,137]
[138,12,365404.15004006372,{"$f":"Endbetrag!$D$5*(1+Endbetrag!$D$6)^(B142-1)","v":4973.4972335786078},4973.4972335786078,360430.65280648513,{"$f":"F142*Endbetrag!$F$7","v":1034.759899458096},361465.41270594322,138]
[139,12,361465.41270594322,{"$f":"Endbetrag!$D$5*(1+Endbetrag!$D$6)^(B143-1)","v":4973.4972335786078},4973.4972335786078,356491.91547236464,{"$f":"F143*Endbetrag!$F$7","v":1023.4521834907903},357515.36765585543,139]
[140,12,357515.36765585543,{"$f":"Endbetrag!$D$5*(1+Endbetrag!$D$6)^(B144-1)","v":4973.4972335786078},4973.4972335786078,352541.87042227684,{"$f":"F144*Endbetrag!$F$7","v":1012.1120042161981},353553.98242649302,140]
[141,12,353553.98242649302,{"$f":"Endbetrag!$D$5*(1+Endbetrag!$D$6)^(B145-1)","v":4973.4972335786078},4973.4972335786078,348580.48519291444,{"$f":"F145*Endbetrag!$F$7","v":1000.7392684354525},349581.22446134989,141]
[142,12,349581.22446134989,{"$f":"Endbetrag!$D$5*(1+Endbetrag!$D$6)^(B146-1)","v":4973.4972335786078},4973.4972335786078,344607.72722777131,{"$f":"F146*Endbetrag!$F$7","v":989.3338826821215},345597.06111045345,142]
[143,12,345597.06111045345,{"$f":"Endbetrag!$D$5*(1+Endbetrag!$D$6)^(B147-1)","v":4973.4972335786078},4973.4972335786078,340623.56387687486,{"$f":"F147*Endbetrag!$F$7","v":977.89575322144083},341601.45963009633,143]
[144,13,341601.45963009633,{"$f":"Endbetrag!$D$5*(1+Endbetrag!$D$6)^(B148-1)","v":5072.967178250181},5072.967178250181,336528.49245184613,{"$f":"F148*Endbetrag!$F$7","v":966.13921791279847},337494.63166975894,144]
[145,13,337494.63166975894,{"$f":"Endbetrag!$D$5*(1+Endbetrag!$D$6)^(B149-1)","v":5072.967178250181},5072.967178250181,332421.66449150874,{"$f":"F149*Endbetrag!$F$7","v":954.34893078199775},333376.01342229074,145]
[146,13,333376.01342229074,{"$f":"Endbetrag!$D$5*(1+Endbetrag!$D$6)^(B150-1)","v":5072.967178250181},5072.967178250181,328303.04624404054,{"$f":"F150*Endbetrag!$F$7","v":942.52479493097565},329245.57103897154,146]
[147,13,329245.57103897154,{"$f":"Endbetrag!$D$5*(1+Endbetrag!$D$6)^(B151-1)","v":5072.967178250181},5072.967178250181,324172.60386072134,{"$f":"F151*Endbetrag!$F$7","v":930.6667131834846},325103.27057390485,147]
[148,13,325103.27057390485,{"$f":"Endbetrag!$D$5*(1+Endbetrag!$D$6)^(B152-1)","v":5072.967178250181},5072.967178250181,320030.30339565466,{"$f":"F152*Endbetrag!$F$7","v":918.77458808429412},320949.07798373897,148]
[149,13,320949.07798373897,{"$f":"Endbetrag!$D$5*(1+Endbetrag!$D$6)^(B153-1)","v":5072.967178250181},5072.967178250181,315876.11080548877,{"$f":"F153*Endbetrag!$F$7","v":906.84832189838926},316782.95912738715,149]
[150,13,316782.95912738715,{"$f":"Endbetrag!$D$5*(1+Endbetrag!$D$6)^(B154-1)","v":5072.967178250181},5072.967178250181,311709.99194913695,{"$f":"F154*Endbetrag!$F$7","v":894.88781661016776},312604.87976574712,150]
[151,13,312604.87976574712,{"$f":"Endbetrag!$D$5*(1+Endbetrag!$D$6)^(B155-1)","v":5072.967178250181},5072.967178250181,307531.91258749692,{"$f":"F155*Endbetrag!$F$7","v":882.89297392263484},308414.80556141958,151]
[152,13,308414.80556141958,{"$f":"Endbetrag!$D$5*(1+Endbetrag!$D$6)^(B156-1)","v":5072.967178250181},5072.967178250181,303341.83838316938,{"$f":"F156*Endbetrag!$F$7","v":870.86369525659484},304212.70207842597,152]
[153,13,304212.70207842597,{"$f":"Endbetrag!$D$5*(1+Endbetrag!$D$6)^(B157-1)","v":5072.967178250181},5072.967178250181,299139.73490017577,{"$f":"F157*Endbetrag!$F$7","v":858.79988174984089},299998.53478192561,153]
[154,13,299998.53478192561,{"$f":"Endbetrag!$D$5*(1+Endbetrag!$D$6)^(B158-1)","v":5072.967178250181},5072.967178250181,294925.56760367542,{"$f":"F158*Endbetrag!$F$7","v":846.70143425634342},295772.26903793175,154]
[155,13,295772.26903793175,{"$f":"Endbetrag!$D$5*(1+Endbetrag!$D$6)^(B159-1)","v":5072.967178250181},5072.967178250181,290699.30185968155,{"$f":"F159*Endbetrag!$F$7","v":834.56825334543396},291533.87011302699,155]
[156,14,291533.87011302699,{"$f":"Endbetrag!$D$5*(1+Endbetrag!$D$6)^(B160-1)","v":5174.4265218151841},5174.4265218151841,286359.44359121181,{"$f":"F160*Endbetrag!$F$7","v":822.10895980150997},287181.5525510133,156]
[157,14,287181.5525510133,{"$f":"Endbetrag!$D$5*(1+Endbetrag!$D$6)^(B161-1)","v":5174.4265218151841},5174.4265218151841,282007.12602919812,{"$f":"F161*Endbetrag!$F$7","v":809.6138968877101},282816.73992608581,157]
[158,14,282816.73992608581,{"$f":"Endbetrag!$D$5*(1+Endbetrag!$D$6)^(B162-1)","v":5174.4265218151841},5174.4265218151841,277642.31340427062,{"$f":"F162*Endbetrag!$F$7","v":797.08296191379623},278439.3963661844,158]
[159,14,278439.3963661844,{"$f":"Endbetrag!$D$5*(1+Endbetrag!$D$6)^(B163-1)","v":5174.4265218151841},5174.4265218151841,273264.96984436922,{"$f":"F163*Endbetrag!$F$7","v":784.51605189471684},274049.48589626391,159]
[160,14,274049.48589626391,{"$f":"Endbetrag!$D$5*(1+Endbetrag!$D$6)^(B164-1)","v":5174.4265218151841},5174.4265218151841,268875.05937444873,{"$f":"F164*Endbetrag!$F$7","v":771.91306354976098},269646.97243799851,160]
[161,14,269646.97243799851,{"$f":"Endbetrag!$D$5*(1+Endbetrag!$D$6)^(B165-1)","v":5174.4265218151841},5174.4265218151841,264472.54591618333,{"$f":"F165*Endbetrag!$F$7","v":759.27389330170911},265231.81980948505,161]
[162,14,265231.81980948505,{"$f":"Endbetrag!$D$5*(1+Endbetrag!$D$6)^(B166-1)","v":5174.4265218151841},5174.4265218151841,260057.39328766987,{"$f":"F166*Endbetrag!$F$7","v":746.59843727598195},260803.99172494584,162]
[163,14,260803.99172494584,{"$f":"Endbetrag!$D$5*(1+Endbetrag!$D$6)^(B167-1)","v":5174.4265218151841},5174.4265218151841,255629.56520313065,{"$f":"F167*Endbetrag!$F$7","v":733.8865912997868},256363.45179443044,163]
[164,14,256363.45179443044,{"$f":"Endbetrag!$D$5*(1+Endbetrag!$D$6)^(B168-1)","v":5174.4265218151841},5174.4265218151841,251189.02527261525,{"$f":"F168*Endbetrag!$F$7","v":721.13825090126147},251910.1635235165,164]
[165,14,251910.1635235165,{"$f":"Endbetrag!$D$5*(1+Endbetrag!$D$6)^(B169-1)","v":5174.4265218151841},5174.4265218151841,246735.73700170132,{"$f":"F169*Endbetrag!$F$7","v":708.35331130861562},247444.09031300992,165]
[166,14,247444.09031300992,{"$f":"Endbetrag!$D$5*(1+Endbetrag!$D$6)^(B170-1)","v":5174.4265218151841},5174.4265218151841,242269.66379119473,{"$f":"F170*Endbetrag!$F$7","v":695.53166744926966},242965.19545864401,166]
[167,14,242965.19545864401,{"$f":"Endbetrag!$D$5*(1+Endbetrag!$D$6)^(B171-1)","v":5174.4265218151841},5174.4265218151841,237790.76893682883,{"$f":"F171*Endbetrag!$F$7","v":682.6732139489917},238473.44215077782,167]
[168,15,238473.44215077782,{"$f":"Endbetrag!$D$5*(1+Endbetrag!$D$6)^(B172-1)","v":5277.9150522514883},5277.9150522514883,233195.52709852633,{"$f":"F172*Endbetrag!$F$7","v":669.4807400415616},233865.00783856789,168]
[169,15,233865.00783856789,{"$f":"Endbetrag!$D$5*(1+Endbetrag!$D$6)^(B173-1)","v":5277.9150522514883},5277.9150522514883,228587.09278631641,{"$f":"F173*Endbetrag!$F$7","v":656.25039187768937},229243.3431781941,169]
[170,15,229243.3431781941,{"$f":"Endbetrag!$D$5*(1+Endbetrag!$D$6)^(B174-1)","v":5277.9150522514883},5277.9150522514883,223965.42812594262,{"$f":"F174*Endbetrag!$F$7","v":642.98206072422045},224608.41018666685,170]
[171,15,224608.41018666685,{"$f":"Endbetrag!$D$5*(1+Endbetrag!$D$6)^(B175-1)","v":5277.9150522514883},5277.9150522514883,219330.49513441537,{"$f":"F175*Endbetrag!$F$7","v":629.67563753583875},219960.17077195121,171]
[172,15,219960.17077195121,{"$f":"Endbetrag!$D$5*(1+Endbetrag!$D$6)^(B176-1)","v":5277.9150522514883},5277.9150522514883,214682.25571969972,{"$f":"F176*Endbetrag!$F$7","v":616.33101295417009},215298.5867326539,172]
[173,15,215298.5867326539,{"$f":"Endbetrag!$D$5*(1+Endbetrag!$D$6)^(B177-1)","v":5277.9150522514883},5277.9150522514883,210020.67168040242,{"$f":"F177*Endbetrag!$F$7","v":602.94807730688331},210623.6197577093,173]
[174,15,210623.6197577093,{"$f":"Endbetrag!$D$5*(1+Endbetrag!$D$6)^(B178-1)","v":5277.9150522514883},5277.9150522514883,205345.70470545781,{"$f":"F178*Endbetrag!$F$7","v":589.52672060678924},205935.23142606459,174]
[175,15,205935.23142606459,{"$f":"Endbetrag!$D$5*(1+Endbetrag!$D$6)^(B179-1)","v":5277.9150522514883},5277.9150522514883,200657.31637381311,{"$f":"F179*Endbetrag!$F$7","v":576.06683255093662},201233.38320636406,175]
[176,15,201233.38320636406,{"$f":"Endbetrag!$D$5*(1+Endbetrag!$D$6)^(B180-1)","v":5277.9150522514883},5277.9150522514883,195955.46815411258,{"$f":"F180*Endbetrag!$F$7","v":562.56830251970553},196518.03645663228,176]
[177,15,196518.03645663228,{"$f":"Endbetrag!$D$5*(1+Endbetrag!$D$6)^(B181-1)","v":5277.9150522514883},5277.9150522514883,191240.1214043808,{"$f":"F181*Endbetrag!$F$7","v":549.03101957589843},191789.15242395669,177]
[178,15,191789.15242395669,{"$f":"Endbetrag!$D$5*(1+Endbetrag!$D$6)^(B182-1)","v":5277.9150522514883},5277.9150522514883,186511.23737170521,{"$f":"F182*Endbetrag!$F$7","v":535.454872463828},187046.69224416904,178]
[179,15,187046.69224416904,{"$f":"Endbetrag!$D$5*(1+Endbetrag!$D$6)^(B183-1)","v":5277.9150522514883},5277.9150522514883,181768.77719191756,{"$f":"F183*Endbetrag!$F$7","v":521.83974960840374},182290.61694152595,179]
[180,16,182290.61694152595,{"$f":"Endbetrag!$D$5*(1+Endbetrag!$D$6)^(B184-1)","v":5383.4733532965165},5383.4733532965165,176907.14358822943,{"$f":"F184*Endbetrag!$F$7","v":507.88249192295547},177415.0260801524,180]
[181,16,177415.0260801524,{"$f":"Endbetrag!$D$5*(1+Endbetrag!$D$6)^(B185-1)","v":5383.4733532965165},5383.4733532965165,172031.55272685588,{"$f":"F185*Endbetrag!$F$7","v":493.88516436429637},172525.43789122018,181]
[182,16,172525.43789122018,{"$f":"Endbetrag!$D$5*(1+Endbetrag!$D$6)^(B186-1)","v":5383.4733532965165},5383.4733532965165,167141.96453792366,{"$f":"F186*Endbetrag!$F$7","v":479.84765189587858},167621.81218981955,182]
[183,16,167621.81218981955,{"$f":"Endbetrag!$D$5*(1+Endbetrag!$D$6)^(B187-1)","v":5383.4733532965165},5383.4733532965165,162238.33883652303,{"$f":"F187*Endbetrag!$F$7","v":465.76983915089625},162704.10867567392,183]
[184,16,162704.10867567392,{"$f":"Endbetrag!$D$5*(1+Endbetrag!$D$6)^(B188-1)","v":5383.4733532965165},5383.4733532965165,157320.63532237741,{"$f":"F188*Endbetrag!$F$7","v":451.65161043133685},157772.28693280875,184]
[185,16,157772.28693280875,{"$f":"Endbetrag!$D$5*(1+Endbetrag!$D$6)^(B189-1)","v":5383.4733532965165},5383.4733532965165,152388.81357951224,{"$f":"F189*Endbetrag!$F$7","v":437.49284970703087},152826.30642921926,185]
[186,16,152826.30642921926,{"$f":"Endbetrag!$D$5*(1+Endbetrag!$D$6)^(B190-1)","v":5383.4733532965165},5383.4733532965165,147442.83307592274,{"$f":"F190*Endbetrag!$F$7","v":423.29344061469777},147866.12651653745,186]
[187,16,147866.12651653745,{"$f":"Endbetrag!$D$5*(1+Endbetrag!$D$6)^(B191-1)","v":5383.4733532965165},5383.4733532965165,142482.65316324093,{"$f":"F191*Endbetrag!$F$7","v":409.05326645698989},142891.70642969792,187]
[188,16,142891.70642969792,{"$f":"Endbetrag!$D$5*(1+Endbetrag!$D$6)^(B192-1)","v":5383.4733532965165},5383.4733532965165,137508.2330764014,{"$f":"F192*Endbetrag!$F$7","v":394.77221020153314},137903.00528660294,188]
[189,16,137903.00528660294,{"$f":"Endbetrag!$D$5*(1+Endbetrag!$D$6)^(B193-1)","v":5383.4733532965165},5383.4733532965165,132519.53193330643,{"$f":"F193*Endbetrag!$F$7","v":380.45015447996559},132899.9820877864,189]
[190,16,132899.9820877864,{"$f":"Endbetrag!$D$5*(1+Endbetrag!$D$6)^(B194-1)","v":5383.4733532965165},5383.4733532965165,127516.50873448988,{"$f":"F194*Endbetrag!$F$7","v":366.08698158697246},127882.59571607684,190]
[191,16,127882.59571607684,{"$f":"Endbetrag!$D$5*(1+Endbetrag!$D$6)^(B195-1)","v":5383.4733532965165},5383.4733532965165,122499.12236278033,{"$f":"F195*Endbetrag!$F$7","v":351.68257347931888},122850.80493625965,191]
[192,{"$f":"INT(A196/12)+1","v":17},122850.80493625965,{"$f":"Endbetrag!$D$5*(1+Endbetrag!$D$6)^(B196-1)","v":5491.1428203624482},{"$f":"MIN(D196,C196)","v":5491.1428203624482},{"$f":"C196-E196","v":117359.6621158972},{"$f":"F196*Endbetrag!$F$7","v":336.92770363979679},{"$f":"MAX(0,F196+G196)","v":117696.589819537},{"$f":"IF(H196>0,A196,\"\")","v":192}]
[193,17,{"$f":"H196","v":117696.589819537},{"$f":"Endbetrag!$D$5*(1+Endbetrag!$D$6)^(B197-1)","v":5491.1428203624482},5491.1428203624482,112205.44699917454,{"$f":"F197*Endbetrag!$F$7","v":322.13047406335227},112527.57747323789,193]
[194,17,112527.57747323789,{"$f":"Endbetrag!$D$5*(1+Endbetrag!$D$6)^(B198-1)","v":5491.1428203624482},5491.1428203624482,107036.43465287544,{"$f":"F198*Endbetrag!$F$7","v":307.29076313947081},107343.72541601492,194]
[195,17,107343.72541601492,{"$f":"Endbetrag!$D$5*(1+Endbetrag!$D$6)^(B199-1)","v":5491.1428203624482},5491.1428203624482,101852.58259565246,{"$f":"F199*Endbetrag!$F$7","v":292.40844890850656},102144.99104456097,195]
[196,17,102144.99104456097,{"$f":"Endbetrag!$D$5*(1+Endbetrag!$D$6)^(B200-1)","v":5491.1428203624482},5491.1428203624482,96653.848224198518,{"$f":"F200*Endbetrag!$F$7","v":277.48340906067972},96931.331633259193,196]
[197,17,96931.331633259193,{"$f":"Endbetrag!$D$5*(1+Endbetrag!$D$6)^(B201-1)","v":5491.1428203624482},5491.1428203624482,91440.18881289674,{"$f":"F201*Endbetrag!$F$7","v":262.51552093507155},91702.704333831818,197]
[198,17,91702.704333831818,{"$f":"Endbetrag!$D$5*(1+Endbetrag!$D$6)^(B202-1)","v":5491.1428203624482},5491.1428203624482,86211.561513469365,{"$f":"F202*Endbetrag!$F$7","v":247.50466151861633},86459.06617498798,198]
[199,17,86459.06617498798,{"$f":"Endbetrag!$D$5*(1+Endbetrag!$D$6)^(B203-1)","v":5491.1428203624482},5491.1428203624482,80967.923354625527,{"$f":"F203*Endbetrag!$F$7","v":232.45070744509016},81200.374062070623,199]
[200,17,81200.374062070623,{"$f":"Endbetrag!$D$5*(1+Endbetrag!$D$6)^(B204-1)","v":5491.1428203624482},5491.1428203624482,75709.23124170817,{"$f":"F204*Endbetrag!$F$7","v":217.35353499409729},75926.584776702264,200]
[201,17,75926.584776702264,{"$f":"Endbetrag!$D$5*(1+Endbetrag!$D$6)^(B205-1)","v":5491.1428203624482},5491.1428203624482,70435.441956339811,{"$f":"F205*Endbetrag!$F$7","v":202.21302009005313},70637.654976429869,201]
[202,17,70637.654976429869,{"$f":"Endbetrag!$D$5*(1+Endbetrag!$D$6)^(B206-1)","v":5491.1428203624482},5491.1428203624482,65146.512156067423,{"$f":"F206*Endbetrag!$F$7","v":187.02903830116486},65333.54119436859,202]
[203,17,65333.54119436859,{"$f":"Endbetrag!$D$5*(1+Endbetrag!$D$6)^(B207-1)","v":5491.1428203624482},5491.1428203624482,59842.398374006145,{"$f":"F207*Endbetrag!$F$7","v":171.80146483840838},60014.19983884455,203]
[204,18,60014.19983884455,{"$f":"Endbetrag!$D$5*(1+Endbetrag!$D$6)^(B208-1)","v":5600.9656767696979},5600.9656767696979,54413.234162074848,{"$f":"F208*Endbetrag!$F$7","v":156.21488425671808},54569.449046331567,204]
[205,18,54569.449046331567,{"$f":"Endbetrag!$D$5*(1+Endbetrag!$D$6)^(B209-1)","v":5600.9656767696979},5600.9656767696979,48968.483369561873,{"$f":"F209*Endbetrag!$F$7","v":140.58355618080103},49109.066925742671,205]
[206,18,49109.066925742671,{"$f":"Endbetrag!$D$5*(1+Endbetrag!$D$6)^(B210-1)","v":5600.9656767696979},5600.9656767696979,43508.101248972976,{"$f":"F210*Endbetrag!$F$7","v":124.90735214513337},43633.008601118112,206]
[207,18,43633.008601118112,{"$f":"Endbetrag!$D$5*(1+Endbetrag!$D$6)^(B211-1)","v":5600.9656767696979},5600.9656767696979,38032.04292434841,{"$f":"F211*Endbetrag!$F$7","v":109.18614331537972},38141.229067663793,207]
[208,18,38141.229067663793,{"$f":"Endbetrag!$D$5*(1+Endbetrag!$D$6)^(B212-1)","v":5600.9656767696979},5600.9656767696979,32540.263390894095,{"$f":"F212*Endbetrag!$F$7","v":93.419800487334413},32633.683191381431,208]
[209,18,32633.683191381431,{"$f":"Endbetrag!$D$5*(1+Endbetrag!$D$6)^(B213-1)","v":5600.9656767696979},5600.9656767696979,27032.717514611733,{"$f":"F213*Endbetrag!$F$7","v":77.608194085859537},27110.325708697594,209]
[210,18,27110.325708697594,{"$f":"Endbetrag!$D$5*(1+Endbetrag!$D$6)^(B214-1)","v":5600.9656767696979},5600.9656767696979,21509.360031927896,{"$f":"F214*Endbetrag!$F$7","v":61.751194163820117},21571.111226091714,210]
[211,18,21571.111226091714,{"$f":"Endbetrag!$D$5*(1+Endbetrag!$D$6)^(B215-1)","v":5600.9656767696979},5600.9656767696979,15970.145549322016,{"$f":"F215*Endbetrag!$F$7","v":45.848670401016115},16015.994219723032,211]
[212,18,16015.994219723032,{"$f":"Endbetrag!$D$5*(1+Endbetrag!$D$6)^(B216-1)","v":5600.9656767696979},5600.9656767696979,10415.028542953334,{"$f":"F216*Endbetrag!$F$7","v":29.900492103111393},10444.929035056446,212]
[213,18,10444.929035056446,{"$f":"Endbetrag!$D$5*(1+Endbetrag!$D$6)^(B217-1)","v":5600.9656767696979},5600.9656767696979,4843.9633582867482,{"$f":"F217*Endbetrag!$F$7","v":13.906528200559615},4857.8698864873077,213]
[214,18,4857.8698864873077,{"$f":"Endbetrag!$D$5*(1+Endbetrag!$D$6)^(B218-1)","v":5600.9656767696979},4857.8698864873077,0,{"$f":"F218*Endbetrag!$F$7","v":0},0,""]
[215,18,0,{"$f":"Endbetrag!$D$5*(1+Endbetrag!$D$6)^(B219-1)","v":5600.9656767696979},0,0,{"$f":"F219*Endbetrag!$F$7","v":0},0,""]
[216,19,0,{"$f":"Endbetrag!$D$5*(1+Endbetrag!$D$6)^(B220-1)","v":5712.9849903050908},0,0,{"$f":"F220*Endbetrag!$F$7","v":0},0,""]
[217,19,0,{"$f":"Endbetrag!$D$5*(1+Endbetrag!$D$6)^(B221-1)","v":5712.9849903050908},0,0,{"$f":"F221*Endbetrag!$F$7","v":0},0,""]
[218,19,0,{"$f":"Endbetrag!$D$5*(1+Endbetrag!$D$6)^(B222-1)","v":5712.9849903050908},0,0,{"$f":"F222*Endbetrag!$F$7","v":0},0,""]
[219,19,0,{"$f":"Endbetrag!$D$5*(1+Endbetrag!$D$6)^(B223-1)","v":5712.9849903050908},0,0,{"$f":"F223*Endbetrag!$F$7","v":0},0,""]
[220,19,0,{"$f":"Endbetrag!$D$5*(1+Endbetrag!$D$6)^(B224-1)","v":5712.9849903050908},0,0,{"$f":"F224*Endbetrag!$F$7","v":0},0,""]
[221,19,0,{"$f":"Endbetrag!$D$5*(1+Endbetrag!$D$6)^(B225-1)","v":5712.9849903050908},0,0,{"$f":"F225*Endbetrag!$F$7","v":0},0,""]
[222,19,0,{"$f":"Endbetrag!$D$5*(1+Endbetrag!$D$6)^(B226-1)","v":5712.9849903050908},0,0,{"$f":"F226*Endbetrag!$F$7","v":0},0,""]
[223,19,0,{"$f":"Endbetrag!$D$5*(1+Endbetrag!$D$6)^(B227-1)","v":5712.9849903050908},0,0,{"$f":"F227*Endbetrag!$F$7","v":0},0,""]
[224,19,0,{"$f":"Endbetrag!$D$5*(1+Endbetrag!$D$6)^(B228-1)","v":5712.9849903050908},0,0,{"$f":"F228*Endbetrag!$F$7","v":0},0,""]
[225,19,0,{"$f":"Endbetrag!$D$5*(1+Endbetrag!$D$6)^(B229-1)","v":5712.9849903050908},0,0,{"$f":"F229*Endbetrag!$F$7","v":0},0,""]
[226,19,0,{"$f":"Endbetrag!$D$5*(1+Endbetrag!$D$6)^(B230-1)","v":5712.9849903050908},0,0,{"$f":"F230*Endbetrag!$F$7","v":0},0,""]
[227,19,0,{"$f":"Endbetrag!$D$5*(1+Endbetrag!$D$6)^(B231-1)","v":5712.9849903050908},0,0,{"$f":"F231*Endbetrag!$F$7","v":0},0,""]
[228,20,0,{"$f":"Endbetrag!$D$5*(1+Endbetrag!$D$6)^(B232-1)","v":5827.2446901111925},0,0,{"$f":"F232*Endbetrag!$F$7","v":0},0,""]
[229,20,0,{"$f":"Endbetrag!$D$5*(1+Endbetrag!$D$6)^(B233-1)","v":5827.2446901111925},0,0,{"$f":"F233*Endbetrag!$F$7","v":0},0,""]
[230,20,0,{"$f":"Endbetrag!$D$5*(1+Endbetrag!$D$6)^(B234-1)","v":5827.2446901111925},0,0,{"$f":"F234*Endbetrag!$F$7","v":0},0,""]
[231,20,0,{"$f":"Endbetrag!$D$5*(1+Endbetrag!$D$6)^(B235-1)","v":5827.2446901111925},0,0,{"$f":"F235*Endbetrag!$F$7","v":0},0,""]
[232,20,0,{"$f":"Endbetrag!$D$5*(1+Endbetrag!$D$6)^(B236-1)","v":5827.2446901111925},0,0,{"$f":"F236*Endbetrag!$F$7","v":0},0,""]
[233,20,0,{"$f":"Endbetrag!$D$5*(1+Endbetrag!$D$6)^(B237-1)","v":5827.2446901111925},0,0,{"$f":"F237*Endbetrag!$F$7","v":0},0,""]
[234,20,0,{"$f":"Endbetrag!$D$5*(1+Endbetrag!$D$6)^(B238-1)","v":5827.2446901111925},0,0,{"$f":"F238*Endbetrag!$F$7","v":0},0,""]
[235,20,0,{"$f":"Endbetrag!$D$5*(1+Endbetrag!$D$6)^(B239-1)","v":5827.2446901111925},0,0,{"$f":"F239*Endbetrag!$F$7","v":0},0,""]
[236,20,0,{"$f":"Endbetrag!$D$5*(1+Endbetrag!$D$6)^(B240-1)","v":5827.2446901111925},0,0,{"$f":"F240*Endbetrag!$F$7","v":0},0,""]
[237,20,0,{"$f":"Endbetrag!$D$5*(1+Endbetrag!$D$6)^(B241-1)","v":5827.2446901111925},0,0,{"$f":"F241*Endbetrag!$F$7","v":0},0,""]
[238,20,0,{"$f":"Endbetrag!$D$5*(1+Endbetrag!$D$6)^(B242-1)","v":5827.2446901111925},0,0,{"$f":"F242*Endbetrag!$F$7","v":0},0,""]
[239,20,0,{"$f":"Endbetrag!$D$5*(1+Endbetrag!$D$6)^(B243-1)","v":5827.2446901111925},0,0,{"$f":"F243*Endbetrag!$F$7","v":0},0,""]
[240,21,0,{"$f":"Endbetrag!$D$5*(1+Endbetrag!$D$6)^(B244-1)","v":5943.7895839134171},0,0,{"$f":"F244*Endbetrag!$F$7","v":0},0,""]
[241,21,0,{"$f":"Endbetrag!$D$5*(1+Endbetrag!$D$6)^(B245-1)","v":5943.7895839134171},0,0,{"$f":"F245*Endbetrag!$F$7","v":0},0,""]
[242,21,0,{"$f":"Endbetrag!$D$5*(1+Endbetrag!$D$6)^(B246-1)","v":5943.7895839134171},0,0,{"$f":"F246*Endbetrag!$F$7","v":0},0,""]
[243,21,0,{"$f":"Endbetrag!$D$5*(1+Endbetrag!$D$6)^(B247-1)","v":5943.7895839134171},0,0,{"$f":"F247*Endbetrag!$F$7","v":0},0,""]
[244,21,0,{"$f":"Endbetrag!$D$5*(1+Endbetrag!$D$6)^(B248-1)","v":5943.7895839134171},0,0,{"$f":"F248*Endbetrag!$F$7","v":0},0,""]
[245,21,0,{"$f":"Endbetrag!$D$5*(1+Endbetrag!$D$6)^(B249-1)","v":5943.7895839134171},0,0,{"$f":"F249*Endbetrag!$F$7","v":0},0,""]
[246,21,0,{"$f":"Endbetrag!$D$5*(1+Endbetrag!$D$6)^(B250-1)","v":5943.7895839134171},0,0,{"$f":"F250*Endbetrag!$F$7","v":0},0,""]
[247,21,0,{"$f":"Endbetrag!$D$5*(1+Endbetrag!$D$6)^(B251-1)","v":5943.7895839134171},0,0,{"$f":"F251*Endbetrag!$F$7","v":0},0,""]
[248,21,0,{"$f":"Endbetrag!$D$5*(1+Endbetrag!$D$6)^(B252-1)","v":5943.7895839134171},0,0,{"$f":"F252*Endbetrag!$F$7","v":0},0,""]
[249,21,0,{"$f":"Endbetrag!$D$5*(1+Endbetrag!$D$6)^(B253-1)","v":5943.7895839134171},0,0,{"$f":"F253*Endbetrag!$F$7","v":0},0,""]
[250,21,0,{"$f":"Endbetrag!$D$5*(1+Endbetrag!$D$6)^(B254-1)","v":5943.7895839134171},0,0,{"$f":"F254*Endbetrag!$F$7","v":0},0,""]
[251,21,0,{"$f":"Endbetrag!$D$5*(1+Endbetrag!$D$6)^(B255-1)","v":5943.7895839134171},0,0,{"$f":"F255*Endbetrag!$F$7","v":0},0,""]
[252,22,0,{"$f":"Endbetrag!$D$5*(1+Endbetrag!$D$6)^(B256-1)","v":6062.665375591685},0,0,{"$f":"F256*Endbetrag!$F$7","v":0},0,""]
[253,22,0,{"$f":"Endbetrag!$D$5*(1+Endbetrag!$D$6)^(B257-1)","v":6062.665375591685},0,0,{"$f":"F257*Endbetrag!$F$7","v":0},0,""]
[254,22,0,{"$f":"Endbetrag!$D$5*(1+Endbetrag!$D$6)^(B258-1)","v":6062.665375591685},0,0,{"$f":"F258*Endbetrag!$F$7","v":0},0,""]
[255,22,0,{"$f":"Endbetrag!$D$5*(1+Endbetrag!$D$6)^(B259-1)","v":6062.665375591685},0,0,{"$f":"F259*Endbetrag!$F$7","v":0},0,""]
[256,{"$f":"INT(A260/12)+1","v":22},0,{"$f":"Endbetrag!$D$5*(1+Endbetrag!$D$6)^(B260-1)","v":6062.665375591685},{"$f":"MIN(D260,C260)","v":0},{"$f":"C260-E260","v":0},{"$f":"F260*Endbetrag!$F$7","v":0},{"$f":"MAX(0,F260+G260)","v":0},{"$f":"IF(H260>0,A260,\"\")","v":""}]
[257,22,{"$f":"H260","v":0},{"$f":"Endbetrag!$D$5*(1+Endbetrag!$D$6)^(B261-1)","v":6062.665375591685},0,0,{"$f":"F261*Endbetrag!$F$7","v":0},0,""]
[258,22,0,{"$f":"Endbetrag!$D$5*(1+Endbetrag!$D$6)^(B262-1)","v":6062.665375591685},0,0,{"$f":"F262*Endbetrag!$F$7","v":0},0,""]
[259,22,0,{"$f":"Endbetrag!$D$5*(1+Endbetrag!$D$6)^(B263-1)","v":6062.665375591685},0,0,{"$f":"F263*Endbetrag!$F$7","v":0},0,""]
[260,22,0,{"$f":"Endbetrag!$D$5*(1+Endbetrag!$D$6)^(B264-1)","v":6062.665375591685},0,0,{"$f":"F264*Endbetrag!$F$7","v":0},0,""]
[261,22,0,{"$f":"Endbetrag!$D$5*(1+Endbetrag!$D$6)^(B265-1)","v":6062.665375591685},0,0,{"$f":"F265*Endbetrag!$F$7","v":0},0,""]
[262,22,0,{"$f":"Endbetrag!$D$5*(1+Endbetrag!$D$6)^(B266-1)","v":6062.665375591685},0,0,{"$f":"F266*Endbetrag!$F$7","v":0},0,""]
[263,22,0,{"$f":"Endbetrag!$D$5*(1+Endbetrag!$D$6)^(B267-1)","v":6062.665375591685},0,0,{"$f":"F267*Endbetrag!$F$7","v":0},0,""]
[264,23,0,{"$f":"Endbetrag!$D$5*(1+Endbetrag!$D$6)^(B268-1)","v":6183.9186831035186},0,0,{"$f":"F268*Endbetrag!$F$7","v":0},0,""]
[265,23,0,{"$f":"Endbetrag!$D$5*(1+Endbetrag!$D$6)^(B269-1)","v":6183.9186831035186},0,0,{"$f":"F269*Endbetrag!$F$7","v":0},0,""]
[266,23,0,{"$f":"Endbetrag!$D$5*(1+Endbetrag!$D$6)^(B270-1)","v":6183.9186831035186},0,0,{"$f":"F270*Endbetrag!$F$7","v":0},0,""]
[267,23,0,{"$f":"Endbetrag!$D$5*(1+Endbetrag!$D$6)^(B271-1)","v":6183.9186831035186},0,0,{"$f":"F271*Endbetrag!$F$7","v":0},0,""]
[268,23,0,{"$f":"Endbetrag!$D$5*(1+Endbetrag!$D$6)^(B272-1)","v":6183.9186831035186},0,0,{"$f":"F272*Endbetrag!$F$7","v":0},0,""]
[269,23,0,{"$f":"Endbetrag!$D$5*(1+Endbetrag!$D$6)^(B273-1)","v":6183.9186831035186},0,0,{"$f":"F273*Endbetrag!$F$7","v":0},0,""]
[270,23,0,{"$f":"Endbetrag!$D$5*(1+Endbetrag!$D$6)^(B274-1)","v":6183.9186831035186},0,0,{"$f":"F274*Endbetrag!$F$7","v":0},0,""]
[271,23,0,{"$f":"Endbetrag!$D$5*(1+Endbetrag!$D$6)^(B275-1)","v":6183.9186831035186},0,0,{"$f":"F275*Endbetrag!$F$7","v":0},0,""]
[272,23,0,{"$f":"Endbetrag!$D$5*(1+Endbetrag!$D$6)^(B276-1)","v":6183.9186831035186},0,0,{"$f":"F276*Endbetrag!$F$7","v":0},0,""]
[273,23,0,{"$f":"Endbetrag!$D$5*(1+Endbetrag!$D$6)^(B277-1)","v":6183.9186831035186},0,0,{"$f":"F277*Endbetrag!$F$7","v":0},0,""]
[274,23,0,{"$f":"Endbetrag!$D$5*(1+Endbetrag!$D$6)^(B278-1)","v":6183.9186831035186},0,0,{"$f":"F278*Endbetrag!$F$7","v":0},0,""]
[275,23,0,{"$f":"Endbetrag!$D$5*(1+Endbetrag!$D$6)^(B279-1)","v":6183.9186831035186},0,0,{"$f":"F279*Endbetrag!$F$7","v":0},0,""]
[276,24,0,{"$f":"Endbetrag!$D$5*(1+Endbetrag!$D$6)^(B280-1)","v":6307.5970567655877},0,0,{"$f":"F280*Endbetrag!$F$7","v":0},0,""]
[277,24,0,{"$f":"Endbetrag!$D$5*(1+Endbetrag!$D$6)^(B281-1)","v":6307.5970567655877},0,0,{"$f":"F281*Endbetrag!$F$7","v":0},0,""]
[278,24,0,{"$f":"Endbetrag!$D$5*(1+Endbetrag!$D$6)^(B282-1)","v":6307.5970567655877},0,0,{"$f":"F282*Endbetrag!$F$7","v":0},0,""]
[279,24,0,{"$f":"Endbetrag!$D$5*(1+Endbetrag!$D$6)^(B283-1)","v":6307.5970567655877},0,0,{"$f":"F283*Endbetrag!$F$7","v":0},0,""]
[280,24,0,{"$f":"Endbetrag!$D$5*(1+Endbetrag!$D$6)^(B284-1)","v":6307.5970567655877},0,0,{"$f":"F284*Endbetrag!$F$7","v":0},0,""]
[281,24,0,{"$f":"Endbetrag!$D$5*(1+Endbetrag!$D$6)^(B285-1)","v":6307.5970567655877},0,0,{"$f":"F285*Endbetrag!$F$7","v":0},0,""]
[282,24,0,{"$f":"Endbetrag!$D$5*(1+Endbetrag!$D$6)^(B286-1)","v":6307.5970567655877},0,0,{"$f":"F286*Endbetrag!$F$7","v":0},0,""]
[283,24,0,{"$f":"Endbetrag!$D$5*(1+Endbetrag!$D$6)^(B287-1)","v":6307.5970567655877},0,0,{"$f":"F287*Endbetrag!$F$7","v":0},0,""]
[284,24,0,{"$f":"Endbetrag!$D$5*(1+Endbetrag!$D$6)^(B288-1)","v":6307.5970567655877},0,0,{"$f":"F288*Endbetrag!$F$7","v":0},0,""]
[285,24,0,{"$f":"Endbetrag!$D$5*(1+Endbetrag!$D$6)^(B289-1)","v":6307.5970567655877},0,0,{"$f":"F289*Endbetrag!$F$7","v":0},0,""]
[286,24,0,{"$f":"Endbetrag!$D$5*(1+Endbetrag!$D$6)^(B290-1)","v":6307.5970567655877},0,0,{"$f":"F290*Endbetrag!$F$7","v":0},0,""]
[287,24,0,{"$f":"Endbetrag!$D$5*(1+Endbetrag!$D$6)^(B291-1)","v":6307.5970567655877},0,0,{"$f":"F291*Endbetrag!$F$7","v":0},0,""]
[288,25,0,{"$f":"Endbetrag!$D$5*(1+Endbetrag!$D$6)^(B292-1)","v":6433.7489979009006},0,0,{"$f":"F292*Endbetrag!$F$7","v":0},0,""]
[289,25,0,{"$f":"Endbetrag!$D$5*(1+Endbetrag!$D$6)^(B293-1)","v":6433.7489979009006},0,0,{"$f":"F293*Endbetrag!$F$7","v":0},0,""]
[290,25,0,{"$f":"Endbetrag!$D$5*(1+Endbetrag!$D$6)^(B294-1)","v":6433.7489979009006},0,0,{"$f":"F294*Endbetrag!$F$7","v":0},0,""]
[291,25,0,{"$f":"Endbetrag!$D$5*(1+Endbetrag!$D$6)^(B295-1)","v":6433.7489979009006},0,0,{"$f":"F295*Endbetrag!$F$7","v":0},0,""]
[292,25,0,{"$f":"Endbetrag!$D$5*(1+Endbetrag!$D$6)^(B296-1)","v":6433.7489979009006},0,0,{"$f":"F296*Endbetrag!$F$7","v":0},0,""]
[293,25,0,{"$f":"Endbetrag!$D$5*(1+Endbetrag!$D$6)^(B297-1)","v":6433.7489979009006},0,0,{"$f":"F297*Endbetrag!$F$7","v":0},0,""]
[294,25,0,{"$f":"Endbetrag!$D$5*(1+Endbetrag!$D$6)^(B298-1)","v":6433.7489979009006},0,0,{"$f":"F298*Endbetrag!$F$7","v":0},0,""]
[295,25,0,{"$f":"Endbetrag!$D$5*(1+Endbetrag!$D$6)^(B299-1)","v":6433.7489979009006},0,0,{"$f":"F299*Endbetrag!$F$7","v":0},0,""]
[296,25,0,{"$f":"Endbetrag!$D$5*(1+Endbetrag!$D$6)^(B300-1)","v":6433.7489979009006},0,0,{"$f":"F300*Endbetrag!$F$7","v":0},0,""]
[297,25,0,{"$f":"Endbetrag!$D$5*(1+Endbetrag!$D$6)^(B301-1)","v":6433.7489979009006},0,0,{"$f":"F301*Endbetrag!$F$7","v":0},0,""]
[298,25,0,{"$f":"Endbetrag!$D$5*(1+Endbetrag!$D$6)^(B302-1)","v":6433.7489979009006},0,0,{"$f":"F302*Endbetrag!$F$7","v":0},0,""]
[299,25,0,{"$f":"Endbetrag!$D$5*(1+Endbetrag!$D$6)^(B303-1)","v":6433.7489979009006},0,0,{"$f":"F303*Endbetrag!$F$7","v":0},0,""]
[300,26,0,{"$f":"Endbetrag!$D$5*(1+Endbetrag!$D$6)^(B304-1)","v":6562.4239778589181},0,0,{"$f":"F304*Endbetrag!$F$7","v":0},0,""]
[301,26,0,{"$f":"Endbetrag!$D$5*(1+Endbetrag!$D$6)^(B305-1)","v":6562.4239778589181},0,0,{"$f":"F305*Endbetrag!$F$7","v":0},0,""]
[302,26,0,{"$f":"Endbetrag!$D$5*(1+Endbetrag!$D$6)^(B306-1)","v":6562.4239778589181},0,0,{"$f":"F306*Endbetrag!$F$7","v":0},0,""]
[303,26,0,{"$f":"Endbetrag!$D$5*(1+Endbetrag!$D$6)^(B307-1)","v":6562.4239778589181},0,0,{"$f":"F307*Endbetrag!$F$7","v":0},0,""]
[304,26,0,{"$f":"Endbetrag!$D$5*(1+Endbetrag!$D$6)^(B308-1)","v":6562.4239778589181},0,0,{"$f":"F308*Endbetrag!$F$7","v":0},0,""]
[305,26,0,{"$f":"Endbetrag!$D$5*(1+Endbetrag!$D$6)^(B309-1)","v":6562.4239778589181},0,0,{"$f":"F309*Endbetrag!$F$7","v":0},0,""]
[306,26,0,{"$f":"Endbetrag!$D$5*(1+Endbetrag!$D$6)^(B310-1)","v":6562.4239778589181},0,0,{"$f":"F310*Endbetrag!$F$7","v":0},0,""]
[307,26,0,{"$f":"Endbetrag!$D$5*(1+Endbetrag!$D$6)^(B311-1)","v":6562.4239778589181},0,0,{"$f":"F311*Endbetrag!$F$7","v":0},0,""]
[308,26,0,{"$f":"Endbetrag!$D$5*(1+Endbetrag!$D$6)^(B312-1)","v":6562.4239778589181},0,0,{"$f":"F312*Endbetrag!$F$7","v":0},0,""]
[309,26,0,{"$f":"Endbetrag!$D$5*(1+Endbetrag!$D$6)^(B313-1)","v":6562.4239778589181},0,0,{"$f":"F313*Endbetrag!$F$7","v":0},0,""]
[310,26,0,{"$f":"Endbetrag!$D$5*(1+Endbetrag!$D$6)^(B314-1)","v":6562.4239778589181},0,0,{"$f":"F314*Endbetrag!$F$7","v":0},0,""]
[311,26,0,{"$f":"Endbetrag!$D$5*(1+Endbetrag!$D$6)^(B315-1)","v":6562.4239778589181},0,0,{"$f":"F315*Endbetrag!$F$7","v":0},0,""]
[312,27,0,{"$f":"Endbetrag!$D$5*(1+Endbetrag!$D$6)^(B316-1)","v":6693.6724574160971},0,0,{"$f":"F316*Endbetrag!$F$7","v":0},0,""]
[313,27,0,{"$f":"Endbetrag!$D$5*(1+Endbetrag!$D$6)^(B317-1)","v":6693.6724574160971},0,0,{"$f":"F317*Endbetrag!$F$7","v":0},0,""]
[314,27,0,{"$f":"Endbetrag!$D$5*(1+Endbetrag!$D$6)^(B318-1)","v":6693.6724574160971},0,0,{"$f":"F318*Endbetrag!$F$7","v":0},0,""]
[315,27,0,{"$f":"Endbetrag!$D$5*(1+Endbetrag!$D$6)^(B319-1)","v":6693.6724574160971},0,0,{"$f":"F319*Endbetrag!$F$7","v":0},0,""]
[316,27,0,{"$f":"Endbetrag!$D$5*(1+Endbetrag!$D$6)^(B320-1)","v":6693.6724574160971},0,0,{"$f":"F320*Endbetrag!$F$7","v":0},0,""]
[317,27,0,{"$f":"Endbetrag!$D$5*(1+Endbetrag!$D$6)^(B321-1)","v":6693.6724574160971},0,0,{"$f":"F321*Endbetrag!$F$7","v":0},0,""]
[318,27,0,{"$f":"Endbetrag!$D$5*(1+Endbetrag!$D$6)^(B322-1)","v":6693.6724574160971},0,0,{"$f":"F322*Endbetrag!$F$7","v":0},0,""]
[319,27,0,{"$f":"Endbetrag!$D$5*(1+Endbetrag!$D$6)^(B323-1)","v":6693.6724574160971},0,0,{"$f":"F323*Endbetrag!$F$7","v":0},0,""]
[320,{"$f":"INT(A324/12)+1","v":27},0,{"$f":"Endbetrag!$D$5*(1+Endbetrag!$D$6)^(B324-1)","v":6693.6724574160971},{"$f":"MIN(D324,C324)","v":0},{"$f":"C324-E324","v":0},{"$f":"F324*Endbetrag!$F$7","v":0},{"$f":"MAX(0,F324+G324)","v":0},{"$f":"IF(H324>0,A324,\"\")","v":""}]
[321,27,{"$f":"H324","v":0},{"$f":"Endbetrag!$D$5*(1+Endbetrag!$D$6)^(B325-1)","v":6693.6724574160971},0,0,{"$f":"F325*Endbetrag!$F$7","v":0},0,""]
[322,27,0,{"$f":"Endbetrag!$D$5*(1+Endbetrag!$D$6)^(B326-1)","v":6693.6724574160971},0,0,{"$f":"F326*Endbetrag!$F$7","v":0},0,""]
[323,27,0,{"$f":"Endbetrag!$D$5*(1+Endbetrag!$D$6)^(B327-1)","v":6693.6724574160971},0,0,{"$f":"F327*Endbetrag!$F$7","v":0},0,""]
[324,28,0,{"$f":"Endbetrag!$D$5*(1+Endbetrag!$D$6)^(B328-1)","v":6827.5459065644181},0,0,{"$f":"F328*Endbetrag!$F$7","v":0},0,""]
[325,28,0,{"$f":"Endbetrag!$D$5*(1+Endbetrag!$D$6)^(B329-1)","v":6827.5459065644181},0,0,{"$f":"F329*Endbetrag!$F$7","v":0},0,""]
[326,28,0,{"$f":"Endbetrag!$D$5*(1+Endbetrag!$D$6)^(B330-1)","v":6827.5459065644181},0,0,{"$f":"F330*Endbetrag!$F$7","v":0},0,""]
[327,28,0,{"$f":"Endbetrag!$D$5*(1+Endbetrag!$D$6)^(B331-1)","v":6827.5459065644181},0,0,{"$f":"F331*Endbetrag!$F$7","v":0},0,""]
[328,28,0,{"$f":"Endbetrag!$D$5*(1+Endbetrag!$D$6)^(B332-1)","v":6827.5459065644181},0,0,{"$f":"F332*Endbetrag!$F$7","v":0},0,""]
[329,28,0,{"$f":"Endbetrag!$D$5*(1+Endbetrag!$D$6)^(B333-1)","v":6827.5459065644181},0,0,{"$f":"F333*Endbetrag!$F$7","v":0},0,""]
[330,28,0,{"$f":"Endbetrag!$D$5*(1+Endbetrag!$D$6)^(B334-1)","v":6827.5459065644181},0,0,{"$f":"F334*Endbetrag!$F$7","v":0},0,""]
[331,28,0,{"$f":"Endbetrag!$D$5*(1+Endbetrag!$D$6)^(B335-1)","v":6827.5459065644181},0,0,{"$f":"F335*Endbetrag!$F$7","v":0},0,""]
[332,28,0,{"$f":"Endbetrag!$D$5*(1+Endbetrag!$D$6)^(B336-1)","v":6827.5459065644181},0,0,{"$f":"F336*Endbetrag!$F$7","v":0},0,""]
[333,28,0,{"$f":"Endbetrag!$D$5*(1+Endbetrag!$D$6)^(B337-1)","v":6827.5459065644181},0,0,{"$f":"F337*Endbetrag!$F$7","v":0},0,""]
[334,28,0,{"$f":"Endbetrag!$D$5*(1+Endbetrag!$D$6)^(B338-1)","v":6827.5459065644181},0,0,{"$f":"F338*Endbetrag!$F$7","v":0},0,""]
[335,28,0,{"$f":"Endbetrag!$D$5*(1+Endbetrag!$D$6)^(B339-1)","v":6827.5459065644181},0,0,{"$f":"F339*Endbetrag!$F$7","v":0},0,""]
[336,29,0,{"$f":"Endbetrag!$D$5*(1+Endbetrag!$D$6)^(B340-1)","v":6964.0968246957082},0,0,{"$f":"F340*Endbetrag!$F$7","v":0},0,""]
[337,29,0,{"$f":"Endbetrag!$D$5*(1+Endbetrag!$D$6)^(B341-1)","v":6964.0968246957082},0,0,{"$f":"F341*Endbetrag!$F$7","v":0},0,""]
[338,29,0,{"$f":"Endbetrag!$D$5*(1+Endbetrag!$D$6)^(B342-1)","v":6964.0968246957082},0,0,{"$f":"F342*Endbetrag!$F$7","v":0},0,""]
[339,29,0,{"$f":"Endbetrag!$D$5*(1+Endbetrag!$D$6)^(B343-1)","v":6964.0968246957082},0,0,{"$f":"F343*Endbetrag!$F$7","v":0},0,""]
[340,29,0,{"$f":"Endbetrag!$D$5*(1+Endbetrag!$D$6)^(B344-1)","v":6964.0968246957082},0,0,{"$f":"F344*Endbetrag!$F$7","v":0},0,""]
[341,29,0,{"$f":"Endbetrag!$D$5*(1+Endbetrag!$D$6)^(B345-1)","v":6964.0968246957082},0,0,{"$f":"F345*Endbetrag!$F$7","v":0},0,""]
[342,29,0,{"$f":"Endbetrag!$D$5*(1+Endbetrag!$D$6)^(B346-1)","v":6964.0968246957082},0,0,{"$f":"F346*Endbetrag!$F$7","v":0},0,""]
[343,29,0,{"$f":"Endbetrag!$D$5*(1+Endbetrag!$D$6)^(B347-1)","v":6964.0968246957082},0,0,{"$f":"F347*Endbetrag!$F$7","v":0},0,""]
[344,29,0,{"$f":"Endbetrag!$D$5*(1+Endbetrag!$D$6)^(B348-1)","v":6964.0968246957082},0,0,{"$f":"F348*Endbetrag!$F$7","v":0},0,""]
[345,29,0,{"$f":"Endbetrag!$D$5*(1+Endbetrag!$D$6)^(B349-1)","v":6964.0968246957082},0,0,{"$f":"F349*Endbetrag!$F$7","v":0},0,""]
[346,29,0,{"$f":"Endbetrag!$D$5*(1+Endbetrag!$D$6)^(B350-1)","v":6964.0968246957082},0,0,{"$f":"F350*Endbetrag!$F$7","v":0},0,""]
[347,29,0,{"$f":"Endbetrag!$D$5*(1+Endbetrag!$D$6)^(B351-1)","v":6964.0968246957082},0,0,{"$f":"F351*Endbetrag!$F$7","v":0},0,""]
[348,30,0,{"$f":"Endbetrag!$D$5*(1+Endbetrag!$D$6)^(B352-1)","v":7103.3787611896205},0,0,{"$f":"F352*Endbetrag!$F$7","v":0},0,""]
[349,30,0,{"$f":"Endbetrag!$D$5*(1+Endbetrag!$D$6)^(B353-1)","v":7103.3787611896205},0,0,{"$f":"F353*Endbetrag!$F$7","v":0},0,""]
[350,30,0,{"$f":"Endbetrag!$D$5*(1+Endbetrag!$D$6)^(B354-1)","v":7103.3787611896205},0,0,{"$f":"F354*Endbetrag!$F$7","v":0},0,""]
[351,30,0,{"$f":"Endbetrag!$D$5*(1+Endbetrag!$D$6)^(B355-1)","v":7103.3787611896205},0,0,{"$f":"F355*Endbetrag!$F$7","v":0},0,""]
[352,30,0,{"$f":"Endbetrag!$D$5*(1+Endbetrag!$D$6)^(B356-1)","v":7103.3787611896205},0,0,{"$f":"F356*Endbetrag!$F$7","v":0},0,""]
[353,30,0,{"$f":"Endbetrag!$D$5*(1+Endbetrag!$D$6)^(B357-1)","v":7103.3787611896205},0,0,{"$f":"F357*Endbetrag!$F$7","v":0},0,""]
[354,30,0,{"$f":"Endbetrag!$D$5*(1+Endbetrag!$D$6)^(B358-1)","v":7103.3787611896205},0,0,{"$f":"F358*Endbetrag!$F$7","v":0},0,""]
[355,30,0,{"$f":"Endbetrag!$D$5*(1+Endbetrag!$D$6)^(B359-1)","v":7103.3787611896205},0,0,{"$f":"F359*Endbetrag!$F$7","v":0},0,""]
[356,30,0,{"$f":"Endbetrag!$D$5*(1+Endbetrag!$D$6)^(B360-1)","v":7103.3787611896205},0,0,{"$f":"F360*Endbetrag!$F$7","v":0},0,""]
[357,30,0,{"$f":"Endbetrag!$D$5*(1+Endbetrag!$D$6)^(B361-1)","v":7103.3787611896205},0,0,{"$f":"F361*Endbetrag!$F$7","v":0},0,""]
[358,30,0,{"$f":"Endbetrag!$D$5*(1+Endbetrag!$D$6)^(B362-1)","v":7103.3787611896205},0,0,{"$f":"F362*Endbetrag!$F$7","v":0},0,""]
[359,30,0,{"$f":"Endbetrag!$D$5*(1+Endbetrag!$D$6)^(B363-1)","v":7103.3787611896205},0,0,{"$f":"F363*Endbetrag!$F$7","v":0},0,""]
[360,31,0,{"$f":"Endbetrag!$D$5*(1+Endbetrag!$D$6)^(B364-1)","v":7245.4463364134135},0,0,{"$f":"F364*Endbetrag!$F$7","v":0},0,""]
[361,31,0,{"$f":"Endbetrag!$D$5*(1+Endbetrag!$D$6)^(B365-1)","v":7245.4463364134135},0,0,{"$f":"F365*Endbetrag!$F$7","v":0},0,""]
[362,31,0,{"$f":"Endbetrag!$D$5*(1+Endbetrag!$D$6)^(B366-1)","v":7245.4463364134135},0,0,{"$f":"F366*Endbetrag!$F$7","v":0},0,""]
[363,31,0,{"$f":"Endbetrag!$D$5*(1+Endbetrag!$D$6)^(B367-1)","v":7245.4463364134135},0,0,{"$f":"F367*Endbetrag!$F$7","v":0},0,""]
[364,31,0,{"$f":"Endbetrag!$D$5*(1+Endbetrag!$D$6)^(B368-1)","v":7245.4463364134135},0,0,{"$f":"F368*Endbetrag!$F$7","v":0},0,""]
[365,31,0,{"$f":"Endbetrag!$D$5*(1+Endbetrag!$D$6)^(B369-1)","v":7245.4463364134135},0,0,{"$f":"F369*Endbetrag!$F$7","v":0},0,""]
[366,31,0,{"$f":"Endbetrag!$D$5*(1+Endbetrag!$D$6)^(B370-1)","v":7245.4463364134135},0,0,{"$f":"F370*Endbetrag!$F$7","v":0},0,""]
[367,31,0,{"$f":"Endbetrag!$D$5*(1+Endbetrag!$D$6)^(B371-1)","v":7245.4463364134135},0,0,{"$f":"F371*Endbetrag!$F$7","v":0},0,""]
[368,31,0,{"$f":"Endbetrag!$D$5*(1+Endbetrag!$D$6)^(B372-1)","v":7245.4463364134135},0,0,{"$f":"F372*Endbetrag!$F$7","v":0},0,""]
[369,31,0,{"$f":"Endbetrag!$D$5*(1+Endbetrag!$D$6)^(B373-1)","v":7245.4463364134135},0,0,{"$f":"F373*Endbetrag!$F$7","v":0},0,""]
[370,31,0,{"$f":"Endbetrag!$D$5*(1+Endbetrag!$D$6)^(B374-1)","v":7245.4463364134135},0,0,{"$f":"F374*Endbetrag!$F$7","v":0},0,""]
[371,31,0,{"$f":"Endbetrag!$D$5*(1+Endbetrag!$D$6)^(B375-1)","v":7245.4463364134135},0,0,{"$f":"F375*Endbetrag!$F$7","v":0},0,""]
[372,32,0,{"$f":"Endbetrag!$D$5*(1+Endbetrag!$D$6)^(B376-1)","v":7390.3552631416806},0,0,{"$f":"F376*Endbetrag!$F$7","v":0},0,""]
[373,32,0,{"$f":"Endbetrag!$D$5*(1+Endbetrag!$D$6)^(B377-1)","v":7390.3552631416806},0,0,{"$f":"F377*Endbetrag!$F$7","v":0},0,""]
[374,32,0,{"$f":"Endbetrag!$D$5*(1+Endbetrag!$D$6)^(B378-1)","v":7390.3552631416806},0,0,{"$f":"F378*Endbetrag!$F$7","v":0},0,""]
[375,32,0,{"$f":"Endbetrag!$D$5*(1+Endbetrag!$D$6)^(B379-1)","v":7390.3552631416806},0,0,{"$f":"F379*Endbetrag!$F$7","v":0},0,""]
[376,32,0,{"$f":"Endbetrag!$D$5*(1+Endbetrag!$D$6)^(B380-1)","v":7390.3552631416806},0,0,{"$f":"F380*Endbetrag!$F$7","v":0},0,""]
[377,32,0,{"$f":"Endbetrag!$D$5*(1+Endbetrag!$D$6)^(B381-1)","v":7390.3552631416806},0,0,{"$f":"F381*Endbetrag!$F$7","v":0},0,""]
[378,32,0,{"$f":"Endbetrag!$D$5*(1+Endbetrag!$D$6)^(B382-1)","v":7390.3552631416806},0,0,{"$f":"F382*Endbetrag!$F$7","v":0},0,""]
[379,32,0,{"$f":"Endbetrag!$D$5*(1+Endbetrag!$D$6)^(B383-1)","v":7390.3552631416806},0,0,{"$f":"F383*Endbetrag!$F$7","v":0},0,""]
[380,32,0,{"$f":"Endbetrag!$D$5*(1+Endbetrag!$D$6)^(B384-1)","v":7390.3552631416806},0,0,{"$f":"F384*Endbetrag!$F$7","v":0},0,""]
[381,32,0,{"$f":"Endbetrag!$D$5*(1+Endbetrag!$D$6)^(B385-1)","v":7390.3552631416806},0,0,{"$f":"F385*Endbetrag!$F$7","v":0},0,""]
[382,32,0,{"$f":"Endbetrag!$D$5*(1+Endbetrag!$D$6)^(B386-1)","v":7390.3552631416806},0,0,{"$f":"F386*Endbetrag!$F$7","v":0},0,""]
[383,32,0,{"$f":"Endbetrag!$D$5*(1+Endbetrag!$D$6)^(B387-1)","v":7390.3552631416806},0,0,{"$f":"F387*Endbetrag!$F$7","v":0},0,""]
[384,{"$f":"INT(A388/12)+1","v":33},0,{"$f":"Endbetrag!$D$5*(1+Endbetrag!$D$6)^(B388-1)","v":7538.1623684045153},{"$f":"MIN(D388,C388)","v":0},{"$f":"C388-E388","v":0},{"$f":"F388*Endbetrag!$F$7","v":0},{"$f":"MAX(0,F388+G388)","v":0},{"$f":"IF(H388>0,A388,\"\")","v":""}]
[385,33,{"$f":"H388","v":0},{"$f":"Endbetrag!$D$5*(1+Endbetrag!$D$6)^(B389-1)","v":7538.1623684045153},0,0,{"$f":"F389*Endbetrag!$F$7","v":0},0,""]
[386,33,0,{"$f":"Endbetrag!$D$5*(1+Endbetrag!$D$6)^(B390-1)","v":7538.1623684045153},0,0,{"$f":"F390*Endbetrag!$F$7","v":0},0,""]
[387,33,0,{"$f":"Endbetrag!$D$5*(1+Endbetrag!$D$6)^(B391-1)","v":7538.1623684045153},0,0,{"$f":"F391*Endbetrag!$F$7","v":0},0,""]
[388,33,0,{"$f":"Endbetrag!$D$5*(1+Endbetrag!$D$6)^(B392-1)","v":7538.1623684045153},0,0,{"$f":"F392*Endbetrag!$F$7","v":0},0,""]
[389,33,0,{"$f":"Endbetrag!$D$5*(1+Endbetrag!$D$6)^(B393-1)","v":7538.1623684045153},0,0,{"$f":"F393*Endbetrag!$F$7","v":0},0,""]
[390,33,0,{"$f":"Endbetrag!$D$5*(1+Endbetrag!$D$6)^(B394-1)","v":7538.1623684045153},0,0,{"$f":"F394*Endbetrag!$F$7","v":0},0,""]
[391,33,0,{"$f":"Endbetrag!$D$5*(1+Endbetrag!$D$6)^(B395-1)","v":7538.1623684045153},0,0,{"$f":"F395*Endbetrag!$F$7","v":0},0,""]
[392,33,0,{"$f":"Endbetrag!$D$5*(1+Endbetrag!$D$6)^(B396-1)","v":7538.1623684045153},0,0,{"$f":"F396*Endbetrag!$F$7","v":0},0,""]
[393,33,0,{"$f":"Endbetrag!$D$5*(1+Endbetrag!$D$6)^(B397-1)","v":7538.1623684045153},0,0,{"$f":"F397*Endbetrag!$F$7","v":0},0,""]
[394,33,0,{"$f":"Endbetrag!$D$5*(1+Endbetrag!$D$6)^(B398-1)","v":7538.1623684045153},0,0,{"$f":"F398*Endbetrag!$F$7","v":0},0,""]
[395,33,0,{"$f":"Endbetrag!$D$5*(1+Endbetrag!$D$6)^(B399-1)","v":7538.1623684045153},0,0,{"$f":"F399*Endbetrag!$F$7","v":0},0,""]
[396,34,0,{"$f":"Endbetrag!$D$5*(1+Endbetrag!$D$6)^(B400-1)","v":7688.9256157726068},0,0,{"$f":"F400*Endbetrag!$F$7","v":0},0,""]
[397,34,0,{"$f":"Endbetrag!$D$5*(1+Endbetrag!$D$6)^(B401-1)","v":7688.9256157726068},0,0,{"$f":"F401*Endbetrag!$F$7","v":0},0,""]
[398,34,0,{"$f":"Endbetrag!$D$5*(1+Endbetrag!$D$6)^(B402-1)","v":7688.9256157726068},0,0,{"$f":"F402*Endbetrag!$F$7","v":0},0,""]
[399,34,0,{"$f":"Endbetrag!$D$5*(1+Endbetrag!$D$6)^(B403-1)","v":7688.9256157726068},0,0,{"$f":"F403*Endbetrag!$F$7","v":0},0,""]
[400,34,0,{"$f":"Endbetrag!$D$5*(1+Endbetrag!$D$6)^(B404-1)","v":7688.9256157726068},0,0,{"$f":"F404*Endbetrag!$F$7","v":0},0,""]
[401,34,0,{"$f":"Endbetrag!$D$5*(1+Endbetrag!$D$6)^(B405-1)","v":7688.9256157726068},0,0,{"$f":"F405*Endbetrag!$F$7","v":0},0,""]
[402,34,0,{"$f":"Endbetrag!$D$5*(1+Endbetrag!$D$6)^(B406-1)","v":7688.9256157726068},0,0,{"$f":"F406*Endbetrag!$F$7","v":0},0,""]
[403,34,0,{"$f":"Endbetrag!$D$5*(1+Endbetrag!$D$6)^(B407-1)","v":7688.9256157726068},0,0,{"$f":"F407*Endbetrag!$F$7","v":0},0,""]
[404,34,0,{"$f":"Endbetrag!$D$5*(1+Endbetrag!$D$6)^(B408-1)","v":7688.9256157726068},0,0,{"$f":"F408*Endbetrag!$F$7","v":0},0,""]
[405,34,0,{"$f":"Endbetrag!$D$5*(1+Endbetrag!$D$6)^(B409-1)","v":7688.9256157726068},0,0,{"$f":"F409*Endbetrag!$F$7","v":0},0,""]
[406,34,0,{"$f":"Endbetrag!$D$5*(1+Endbetrag!$D$6)^(B410-1)","v":7688.9256157726068},0,0,{"$f":"F410*Endbetrag!$F$7","v":0},0,""]
[407,34,0,{"$f":"Endbetrag!$D$5*(1+Endbetrag!$D$6)^(B411-1)","v":7688.9256157726068},0,0,{"$f":"F411*Endbetrag!$F$7","v":0},0,""]
[408,35,0,{"$f":"Endbetrag!$D$5*(1+Endbetrag!$D$6)^(B412-1)","v":7842.7041280880576},0,0,{"$f":"F412*Endbetrag!$F$7","v":0},0,""]
[409,35,0,{"$f":"Endbetrag!$D$5*(1+Endbetrag!$D$6)^(B413-1)","v":7842.7041280880576},0,0,{"$f":"F413*Endbetrag!$F$7","v":0},0,""]
[410,35,0,{"$f":"Endbetrag!$D$5*(1+Endbetrag!$D$6)^(B414-1)","v":7842.7041280880576},0,0,{"$f":"F414*Endbetrag!$F$7","v":0},0,""]
[411,35,0,{"$f":"Endbetrag!$D$5*(1+Endbetrag!$D$6)^(B415-1)","v":7842.7041280880576},0,0,{"$f":"F415*Endbetrag!$F$7","v":0},0,""]
[412,35,0,{"$f":"Endbetrag!$D$5*(1+Endbetrag!$D$6)^(B416-1)","v":7842.7041280880576},0,0,{"$f":"F416*Endbetrag!$F$7","v":0},0,""]
[413,35,0,{"$f":"Endbetrag!$D$5*(1+Endbetrag!$D$6)^(B417-1)","v":7842.7041280880576},0,0,{"$f":"F417*Endbetrag!$F$7","v":0},0,""]
[414,35,0,{"$f":"Endbetrag!$D$5*(1+Endbetrag!$D$6)^(B418-1)","v":7842.7041280880576},0,0,{"$f":"F418*Endbetrag!$F$7","v":0},0,""]
[415,35,0,{"$f":"Endbetrag!$D$5*(1+Endbetrag!$D$6)^(B419-1)","v":7842.7041280880576},0,0,{"$f":"F419*Endbetrag!$F$7","v":0},0,""]
[416,35,0,{"$f":"Endbetrag!$D$5*(1+Endbetrag!$D$6)^(B420-1)","v":7842.7041280880576},0,0,{"$f":"F420*Endbetrag!$F$7","v":0},0,""]
[417,35,0,{"$f":"Endbetrag!$D$5*(1+Endbetrag!$D$6)^(B421-1)","v":7842.7041280880576},0,0,{"$f":"F421*Endbetrag!$F$7","v":0},0,""]
[418,35,0,{"$f":"Endbetrag!$D$5*(1+Endbetrag!$D$6)^(B422-1)","v":7842.7041280880576},0,0,{"$f":"F422*Endbetrag!$F$7","v":0},0,""]
[419,35,0,{"$f":"Endbetrag!$D$5*(1+Endbetrag!$D$6)^(B423-1)","v":7842.7041280880576},0,0,{"$f":"F423*Endbetrag!$F$7","v":0},0,""]
[420,36,0,{"$f":"Endbetrag!$D$5*(1+Endbetrag!$D$6)^(B424-1)","v":7999.5582106498186},0,0,{"$f":"F424*Endbetrag!$F$7","v":0},0,""]
[421,36,0,{"$f":"Endbetrag!$D$5*(1+Endbetrag!$D$6)^(B425-1)","v":7999.5582106498186},0,0,{"$f":"F425*Endbetrag!$F$7","v":0},0,""]
[422,36,0,{"$f":"Endbetrag!$D$5*(1+Endbetrag!$D$6)^(B426-1)","v":7999.5582106498186},0,0,{"$f":"F426*Endbetrag!$F$7","v":0},0,""]
[423,36,0,{"$f":"Endbetrag!$D$5*(1+Endbetrag!$D$6)^(B427-1)","v":7999.5582106498186},0,0,{"$f":"F427*Endbetrag!$F$7","v":0},0,""]
[424,36,0,{"$f":"Endbetrag!$D$5*(1+Endbetrag!$D$6)^(B428-1)","v":7999.5582106498186},0,0,{"$f":"F428*Endbetrag!$F$7","v":0},0,""]
[425,36,0,{"$f":"Endbetrag!$D$5*(1+Endbetrag!$D$6)^(B429-1)","v":7999.5582106498186},0,0,{"$f":"F429*Endbetrag!$F$7","v":0},0,""]
[426,36,0,{"$f":"Endbetrag!$D$5*(1+Endbetrag!$D$6)^(B430-1)","v":7999.5582106498186},0,0,{"$f":"F430*Endbetrag!$F$7","v":0},0,""]
[427,36,0,{"$f":"Endbetrag!$D$5*(1+Endbetrag!$D$6)^(B431-1)","v":7999.5582106498186},0,0,{"$f":"F431*Endbetrag!$F$7","v":0},0,""]
[428,36,0,{"$f":"Endbetrag!$D$5*(1+Endbetrag!$D$6)^(B432-1)","v":7999.5582106498186},0,0,{"$f":"F432*Endbetrag!$F$7","v":0},0,""]
[429,36,0,{"$f":"Endbetrag!$D$5*(1+Endbetrag!$D$6)^(B433-1)","v":7999.5582106498186},0,0,{"$f":"F433*Endbetrag!$F$7","v":0},0,""]
[430,36,0,{"$f":"Endbetrag!$D$5*(1+Endbetrag!$D$6)^(B434-1)","v":7999.5582106498186},0,0,{"$f":"F434*Endbetrag!$F$7","v":0},0,""]
[431,36,0,{"$f":"Endbetrag!$D$5*(1+Endbetrag!$D$6)^(B435-1)","v":7999.5582106498186},0,0,{"$f":"F435*Endbetrag!$F$7","v":0},0,""]
[432,37,0,{"$f":"Endbetrag!$D$5*(1+Endbetrag!$D$6)^(B436-1)","v":8159.5493748628151},0,0,{"$f":"F436*Endbetrag!$F$7","v":0},0,""]
[433,37,0,{"$f":"Endbetrag!$D$5*(1+Endbetrag!$D$6)^(B437-1)","v":8159.5493748628151},0,0,{"$f":"F437*Endbetrag!$F$7","v":0},0,""]
[434,37,0,{"$f":"Endbetrag!$D$5*(1+Endbetrag!$D$6)^(B438-1)","v":8159.5493748628151},0,0,{"$f":"F438*Endbetrag!$F$7","v":0},0,""]
[435,37,0,{"$f":"Endbetrag!$D$5*(1+Endbetrag!$D$6)^(B439-1)","v":8159.5493748628151},0,0,{"$f":"F439*Endbetrag!$F$7","v":0},0,""]
[436,37,0,{"$f":"Endbetrag!$D$5*(1+Endbetrag!$D$6)^(B440-1)","v":8159.5493748628151},0,0,{"$f":"F440*Endbetrag!$F$7","v":0},0,""]
[437,37,0,{"$f":"Endbetrag!$D$5*(1+Endbetrag!$D$6)^(B441-1)","v":8159.5493748628151},0,0,{"$f":"F441*Endbetrag!$F$7","v":0},0,""]
[438,37,0,{"$f":"Endbetrag!$D$5*(1+Endbetrag!$D$6)^(B442-1)","v":8159.5493748628151},0,0,{"$f":"F442*Endbetrag!$F$7","v":0},0,""]
[439,37,0,{"$f":"Endbetrag!$D$5*(1+Endbetrag!$D$6)^(B443-1)","v":8159.5493748628151},0,0,{"$f":"F443*Endbetrag!$F$7","v":0},0,""]
[440,37,0,{"$f":"Endbetrag!$D$5*(1+Endbetrag!$D$6)^(B444-1)","v":8159.5493748628151},0,0,{"$f":"F444*Endbetrag!$F$7","v":0},0,""]
[441,37,0,{"$f":"Endbetrag!$D$5*(1+Endbetrag!$D$6)^(B445-1)","v":8159.5493748628151},0,0,{"$f":"F445*Endbetrag!$F$7","v":0},0,""]
[442,37,0,{"$f":"Endbetrag!$D$5*(1+Endbetrag!$D$6)^(B446-1)","v":8159.5493748628151},0,0,{"$f":"F446*Endbetrag!$F$7","v":0},0,""]
[443,37,0,{"$f":"Endbetrag!$D$5*(1+Endbetrag!$D$6)^(B447-1)","v":8159.5493748628151},0,0,{"$f":"F447*Endbetrag!$F$7","v":0},0,""]
[444,38,0,{"$f":"Endbetrag!$D$5*(1+Endbetrag!$D$6)^(B448-1)","v":8322.740362360073},0,0,{"$f":"F448*Endbetrag!$F$7","v":0},0,""]
[445,38,0,{"$f":"Endbetrag!$D$5*(1+Endbetrag!$D$6)^(B449-1)","v":8322.740362360073},0,0,{"$f":"F449*Endbetrag!$F$7","v":0},0,""]
[446,38,0,{"$f":"Endbetrag!$D$5*(1+Endbetrag!$D$6)^(B450-1)","v":8322.740362360073},0,0,{"$f":"F450*Endbetrag!$F$7","v":0},0,""]
[447,38,0,{"$f":"Endbetrag!$D$5*(1+Endbetrag!$D$6)^(B451-1)","v":8322.740362360073},0,0,{"$f":"F451*Endbetrag!$F$7","v":0},0,""]
[448,{"$f":"INT(A452/12)+1","v":38},0,{"$f":"Endbetrag!$D$5*(1+Endbetrag!$D$6)^(B452-1)","v":8322.740362360073},{"$f":"MIN(D452,C452)","v":0},{"$f":"C452-E452","v":0},{"$f":"F452*Endbetrag!$F$7","v":0},{"$f":"MAX(0,F452+G452)","v":0},{"$f":"IF(H452>0,A452,\"\")","v":""}]
[449,38,{"$f":"H452","v":0},{"$f":"Endbetrag!$D$5*(1+Endbetrag!$D$6)^(B453-1)","v":8322.740362360073},0,0,{"$f":"F453*Endbetrag!$F$7","v":0},0,""]
[450,38,0,{"$f":"Endbetrag!$D$5*(1+Endbetrag!$D$6)^(B454-1)","v":8322.740362360073},0,0,{"$f":"F454*Endbetrag!$F$7","v":0},0,""]
[451,38,0,{"$f":"Endbetrag!$D$5*(1+Endbetrag!$D$6)^(B455-1)","v":8322.740362360073},0,0,{"$f":"F455*Endbetrag!$F$7","v":0},0,""]
[452,38,0,{"$f":"Endbetrag!$D$5*(1+Endbetrag!$D$6)^(B456-1)","v":8322.740362360073},0,0,{"$f":"F456*Endbetrag!$F$7","v":0},0,""]
[453,38,0,{"$f":"Endbetrag!$D$5*(1+Endbetrag!$D$6)^(B457-1)","v":8322.740362360073},0,0,{"$f":"F457*Endbetrag!$F$7","v":0},0,""]
[454,38,0,{"$f":"Endbetrag!$D$5*(1+Endbetrag!$D$6)^(B458-1)","v":8322.740362360073},0,0,{"$f":"F458*Endbetrag!$F$7","v":0},0,""]
[455,38,0,{"$f":"Endbetrag!$D$5*(1+Endbetrag!$D$6)^(B459-1)","v":8322.740362360073},0,0,{"$f":"F459*Endbetrag!$F$7","v":0},0,""]
[456,39,0,{"$f":"Endbetrag!$D$5*(1+Endbetrag!$D$6)^(B460-1)","v":8489.1951696072738},0,0,{"$f":"F460*Endbetrag!$F$7","v":0},0,""]
[457,39,0,{"$f":"Endbetrag!$D$5*(1+Endbetrag!$D$6)^(B461-1)","v":8489.1951696072738},0,0,{"$f":"F461*Endbetrag!$F$7","v":0},0,""]
[458,39,0,{"$f":"Endbetrag!$D$5*(1+Endbetrag!$D$6)^(B462-1)","v":8489.1951696072738},0,0,{"$f":"F462*Endbetrag!$F$7","v":0},0,""]
[459,39,0,{"$f":"Endbetrag!$D$5*(1+Endbetrag!$D$6)^(B463-1)","v":8489.1951696072738},0,0,{"$f":"F463*Endbetrag!$F$7","v":0},0,""]
[460,39,0,{"$f":"Endbetrag!$D$5*(1+Endbetrag!$D$6)^(B464-1)","v":8489.1951696072738},0,0,{"$f":"F464*Endbetrag!$F$7","v":0},0,""]
[461,39,0,{"$f":"Endbetrag!$D$5*(1+Endbetrag!$D$6)^(B465-1)","v":8489.1951696072738},0,0,{"$f":"F465*Endbetrag!$F$7","v":0},0,""]
[462,39,0,{"$f":"Endbetrag!$D$5*(1+Endbetrag!$D$6)^(B466-1)","v":8489.1951696072738},0,0,{"$f":"F466*Endbetrag!$F$7","v":0},0,""]
[463,39,0,{"$f":"Endbetrag!$D$5*(1+Endbetrag!$D$6)^(B467-1)","v":8489.1951696072738},0,0,{"$f":"F467*Endbetrag!$F$7","v":0},0,""]
[464,39,0,{"$f":"Endbetrag!$D$5*(1+Endbetrag!$D$6)^(B468-1)","v":8489.1951696072738},0,0,{"$f":"F468*Endbetrag!$F$7","v":0},0,""]
[465,39,0,{"$f":"Endbetrag!$D$5*(1+Endbetrag!$D$6)^(B469-1)","v":8489.1951696072738},0,0,{"$f":"F469*Endbetrag!$F$7","v":0},0,""]
[466,39,0,{"$f":"Endbetrag!$D$5*(1+Endbetrag!$D$6)^(B470-1)","v":8489.1951696072738},0,0,{"$f":"F470*Endbetrag!$F$7","v":0},0,""]
[467,39,0,{"$f":"Endbetrag!$D$5*(1+Endbetrag!$D$6)^(B471-1)","v":8489.1951696072738},0,0,{"$f":"F471*Endbetrag!$F$7","v":0},0,""]
[468,40,0,{"$f":"Endbetrag!$D$5*(1+Endbetrag!$D$6)^(B472-1)","v":8658.9790729994165},0,0,{"$f":"F472*Endbetrag!$F$7","v":0},0,""]
[469,40,0,{"$f":"Endbetrag!$D$5*(1+Endbetrag!$D$6)^(B473-1)","v":8658.9790729994165},0,0,{"$f":"F473*Endbetrag!$F$7","v":0},0,""]
[470,40,0,{"$f":"Endbetrag!$D$5*(1+Endbetrag!$D$6)^(B474-1)","v":8658.9790729994165},0,0,{"$f":"F474*Endbetrag!$F$7","v":0},0,""]
[471,40,0,{"$f":"Endbetrag!$D$5*(1+Endbetrag!$D$6)^(B475-1)","v":8658.9790729994165},0,0,{"$f":"F475*Endbetrag!$F$7","v":0},0,""]
[472,40,0,{"$f":"Endbetrag!$D$5*(1+Endbetrag!$D$6)^(B476-1)","v":8658.9790729994165},0,0,{"$f":"F476*Endbetrag!$F$7","v":0},0,""]
[473,40,0,{"$f":"Endbetrag!$D$5*(1+Endbetrag!$D$6)^(B477-1)","v":8658.9790729994165},0,0,{"$f":"F477*Endbetrag!$F$7","v":0},0,""]
[474,40,0,{"$f":"Endbetrag!$D$5*(1+Endbetrag!$D$6)^(B478-1)","v":8658.9790729994165},0,0,{"$f":"F478*Endbetrag!$F$7","v":0},0,""]
[475,40,0,{"$f":"Endbetrag!$D$5*(1+Endbetrag!$D$6)^(B479-1)","v":8658.9790729994165},0,0,{"$f":"F479*Endbetrag!$F$7","v":0},0,""]
[476,40,0,{"$f":"Endbetrag!$D$5*(1+Endbetrag!$D$6)^(B480-1)","v":8658.9790729994165},0,0,{"$f":"F480*Endbetrag!$F$7","v":0},0,""]
[477,40,0,{"$f":"Endbetrag!$D$5*(1+Endbetrag!$D$6)^(B481-1)","v":8658.9790729994165},0,0,{"$f":"F481*Endbetrag!$F$7","v":0},0,""]
[478,40,0,{"$f":"Endbetrag!$D$5*(1+Endbetrag!$D$6)^(B482-1)","v":8658.9790729994165},0,0,{"$f":"F482*Endbetrag!$F$7","v":0},0,""]
[479,40,0,{"$f":"Endbetrag!$D$5*(1+Endbetrag!$D$6)^(B483-1)","v":8658.9790729994165},0,0,{"$f":"F483*Endbetrag!$F$7","v":0},0,""]
[480,41,0,{"$f":"Endbetrag!$D$5*(1+Endbetrag!$D$6)^(B484-1)","v":8832.1586544594065},0,0,{"$f":"F484*Endbetrag!$F$7","v":0},0,""]
[481,41,0,{"$f":"Endbetrag!$D$5*(1+Endbetrag!$D$6)^(B485-1)","v":8832.1586544594065},0,0,{"$f":"F485*Endbetrag!$F$7","v":0},0,""]
[482,41,0,{"$f":"Endbetrag!$D$5*(1+Endbetrag!$D$6)^(B486-1)","v":8832.1586544594065},0,0,{"$f":"F486*Endbetrag!$F$7","v":0},0,""]
[483,41,0,{"$f":"Endbetrag!$D$5*(1+Endbetrag!$D$6)^(B487-1)","v":8832.1586544594065},0,0,{"$f":"F487*Endbetrag!$F$7","v":0},0,""]
[484,41,0,{"$f":"Endbetrag!$D$5*(1+Endbetrag!$D$6)^(B488-1)","v":8832.1586544594065},0,0,{"$f":"F488*Endbetrag!$F$7","v":0},0,""]
[485,41,0,{"$f":"Endbetrag!$D$5*(1+Endbetrag!$D$6)^(B489-1)","v":8832.1586544594065},0,0,{"$f":"F489*Endbetrag!$F$7","v":0},0,""]
[486,41,0,{"$f":"Endbetrag!$D$5*(1+Endbetrag!$D$6)^(B490-1)","v":8832.1586544594065},0,0,{"$f":"F490*Endbetrag!$F$7","v":0},0,""]
[487,41,0,{"$f":"Endbetrag!$D$5*(1+Endbetrag!$D$6)^(B491-1)","v":8832.1586544594065},0,0,{"$f":"F491*Endbetrag!$F$7","v":0},0,""]
[488,41,0,{"$f":"Endbetrag!$D$5*(1+Endbetrag!$D$6)^(B492-1)","v":8832.1586544594065},0,0,{"$f":"F492*Endbetrag!$F$7","v":0},0,""]
[489,41,0,{"$f":"Endbetrag!$D$5*(1+Endbetrag!$D$6)^(B493-1)","v":8832.1586544594065},0,0,{"$f":"F493*Endbetrag!$F$7","v":0},0,""]
[490,41,0,{"$f":"Endbetrag!$D$5*(1+Endbetrag!$D$6)^(B494-1)","v":8832.1586544594065},0,0,{"$f":"F494*Endbetrag!$F$7","v":0},0,""]
[491,41,0,{"$f":"Endbetrag!$D$5*(1+Endbetrag!$D$6)^(B495-1)","v":8832.1586544594065},0,0,{"$f":"F495*Endbetrag!$F$7","v":0},0,""]
[492,42,0,{"$f":"Endbetrag!$D$5*(1+Endbetrag!$D$6)^(B496-1)","v":9008.8018275485956},0,0,{"$f":"F496*Endbetrag!$F$7","v":0},0,""]
[493,42,0,{"$f":"Endbetrag!$D$5*(1+Endbetrag!$D$6)^(B497-1)","v":9008.8018275485956},0,0,{"$f":"F497*Endbetrag!$F$7","v":0},0,""]
[494,42,0,{"$f":"Endbetrag!$D$5*(1+Endbetrag!$D$6)^(B498-1)","v":9008.8018275485956},0,0,{"$f":"F498*Endbetrag!$F$7","v":0},0,""]
[495,42,0,{"$f":"Endbetrag!$D$5*(1+Endbetrag!$D$6)^(B499-1)","v":9008.8018275485956},0,0,{"$f":"F499*Endbetrag!$F$7","v":0},0,""]
[496,42,0,{"$f":"Endbetrag!$D$5*(1+Endbetrag!$D$6)^(B500-1)","v":9008.8018275485956},0,0,{"$f":"F500*Endbetrag!$F$7","v":0},0,""]
[497,42,0,{"$f":"Endbetrag!$D$5*(1+Endbetrag!$D$6)^(B501-1)","v":9008.8018275485956},0,0,{"$f":"F501*Endbetrag!$F$7","v":0},0,""]
[498,42,0,{"$f":"Endbetrag!$D$5*(1+Endbetrag!$D$6)^(B502-1)","v":9008.8018275485956},0,0,{"$f":"F502*Endbetrag!$F$7","v":0},0,""]
[499,42,0,{"$f":"Endbetrag!$D$5*(1+Endbetrag!$D$6)^(B503-1)","v":9008.8018275485956},0,0,{"$f":"F503*Endbetrag!$F$7","v":0},0,""]
[500,42,0,{"$f":"Endbetrag!$D$5*(1+Endbetrag!$D$6)^(B504-1)","v":9008.8018275485956},0,0,{"$f":"F504*Endbetrag!$F$7","v":0},0,""]
[501,42,0,{"$f":"Endbetrag!$D$5*(1+Endbetrag!$D$6)^(B505-1)","v":9008.8018275485956},0,0,{"$f":"F505*Endbetrag!$F$7","v":0},0,""]
[502,42,0,{"$f":"Endbetrag!$D$5*(1+Endbetrag!$D$6)^(B506-1)","v":9008.8018275485956},0,0,{"$f":"F506*Endbetrag!$F$7","v":0},0,""]
[503,42,0,{"$f":"Endbetrag!$D$5*(1+Endbetrag!$D$6)^(B507-1)","v":9008.8018275485956},0,0,{"$f":"F507*Endbetrag!$F$7","v":0},0,""]
[504,43,0,{"$f":"Endbetrag!$D$5*(1+Endbetrag!$D$6)^(B508-1)","v":9188.9778640995664},0,0,{"$f":"F508*Endbetrag!$F$7","v":0},0,""]
[505,43,0,{"$f":"Endbetrag!$D$5*(1+Endbetrag!$D$6)^(B509-1)","v":9188.9778640995664},0,0,{"$f":"F509*Endbetrag!$F$7","v":0},0,""]
[506,43,0,{"$f":"Endbetrag!$D$5*(1+Endbetrag!$D$6)^(B510-1)","v":9188.9778640995664},0,0,{"$f":"F510*Endbetrag!$F$7","v":0},0,""]
[507,43,0,{"$f":"Endbetrag!$D$5*(1+Endbetrag!$D$6)^(B511-1)","v":9188.9778640995664},0,0,{"$f":"F511*Endbetrag!$F$7","v":0},0,""]
[508,43,0,{"$f":"Endbetrag!$D$5*(1+Endbetrag!$D$6)^(B512-1)","v":9188.9778640995664},0,0,{"$f":"F512*Endbetrag!$F$7","v":0},0,""]
[509,43,0,{"$f":"Endbetrag!$D$5*(1+Endbetrag!$D$6)^(B513-1)","v":9188.9778640995664},0,0,{"$f":"F513*Endbetrag!$F$7","v":0},0,""]
[510,43,0,{"$f":"Endbetrag!$D$5*(1+Endbetrag!$D$6)^(B514-1)","v":9188.9778640995664},0,0,{"$f":"F514*Endbetrag!$F$7","v":0},0,""]
[511,43,0,{"$f":"Endbetrag!$D$5*(1+Endbetrag!$D$6)^(B515-1)","v":9188.9778640995664},0,0,{"$f":"F515*Endbetrag!$F$7","v":0},0,""]
[512,{"$f":"INT(A516/12)+1","v":43},0,{"$f":"Endbetrag!$D$5*(1+Endbetrag!$D$6)^(B516-1)","v":9188.9778640995664},{"$f":"MIN(D516,C516)","v":0},{"$f":"C516-E516","v":0},{"$f":"F516*Endbetrag!$F$7","v":0},{"$f":"MAX(0,F516+G516)","v":0},{"$f":"IF(H516>0,A516,\"\")","v":""}]
[513,43,{"$f":"H516","v":0},{"$f":"Endbetrag!$D$5*(1+Endbetrag!$D$6)^(B517-1)","v":9188.9778640995664},0,0,{"$f":"F517*Endbetrag!$F$7","v":0},0,""]
[514,43,0,{"$f":"Endbetrag!$D$5*(1+Endbetrag!$D$6)^(B518-1)","v":9188.9778640995664},0,0,{"$f":"F518*Endbetrag!$F$7","v":0},0,""]
[515,43,0,{"$f":"Endbetrag!$D$5*(1+Endbetrag!$D$6)^(B519-1)","v":9188.9778640995664},0,0,{"$f":"F519*Endbetrag!$F$7","v":0},0,""]
[516,44,0,{"$f":"Endbetrag!$D$5*(1+Endbetrag!$D$6)^(B520-1)","v":9372.7574213815569},0,0,{"$f":"F520*Endbetrag!$F$7","v":0},0,""]
[517,44,0,{"$f":"Endbetrag!$D$5*(1+Endbetrag!$D$6)^(B521-1)","v":9372.7574213815569},0,0,{"$f":"F521*Endbetrag!$F$7","v":0},0,""]
[518,44,0,{"$f":"Endbetrag!$D$5*(1+Endbetrag!$D$6)^(B522-1)","v":9372.7574213815569},0,0,{"$f":"F522*Endbetrag!$F$7","v":0},0,""]
[519,44,0,{"$f":"Endbetrag!$D$5*(1+Endbetrag!$D$6)^(B523-1)","v":9372.7574213815569},0,0,{"$f":"F523*Endbetrag!$F$7","v":0},0,""]
[520,44,0,{"$f":"Endbetrag!$D$5*(1+Endbetrag!$D$6)^(B524-1)","v":9372.7574213815569},0,0,{"$f":"F524*Endbetrag!$F$7","v":0},0,""]
[521,44,0,{"$f":"Endbetrag!$D$5*(1+Endbetrag!$D$6)^(B525-1)","v":9372.7574213815569},0,0,{"$f":"F525*Endbetrag!$F$7","v":0},0,""]
[522,44,0,{"$f":"Endbetrag!$D$5*(1+Endbetrag!$D$6)^(B526-1)","v":9372.7574213815569},0,0,{"$f":"F526*Endbetrag!$F$7","v":0},0,""]
[523,44,0,{"$f":"Endbetrag!$D$5*(1+Endbetrag!$D$6)^(B527-1)","v":9372.7574213815569},0,0,{"$f":"F527*Endbetrag!$F$7","v":0},0,""]
[524,44,0,{"$f":"Endbetrag!$D$5*(1+Endbetrag!$D$6)^(B528-1)","v":9372.7574213815569},0,0,{"$f":"F528*Endbetrag!$F$7","v":0},0,""]
[525,44,0,{"$f":"Endbetrag!$D$5*(1+Endbetrag!$D$6)^(B529-1)","v":9372.7574213815569},0,0,{"$f":"F529*Endbetrag!$F$7","v":0},0,""]
[526,44,0,{"$f":"Endbetrag!$D$5*(1+Endbetrag!$D$6)^(B530-1)","v":9372.7574213815569},0,0,{"$f":"F530*Endbetrag!$F$7","v":0},0,""]
[527,44,0,{"$f":"Endbetrag!$D$5*(1+Endbetrag!$D$6)^(B531-1)","v":9372.7574213815569},0,0,{"$f":"F531*Endbetrag!$F$7","v":0},0,""]
[528,45,0,{"$f":"Endbetrag!$D$5*(1+Endbetrag!$D$6)^(B532-1)","v":9560.2125698091895},0,0,{"$f":"F532*Endbetrag!$F$7","v":0},0,""]
[529,45,0,{"$f":"Endbetrag!$D$5*(1+Endbetrag!$D$6)^(B533-1)","v":9560.2125698091895},0,0,{"$f":"F533*Endbetrag!$F$7","v":0},0,""]
[530,45,0,{"$f":"Endbetrag!$D$5*(1+Endbetrag!$D$6)^(B534-1)","v":9560.2125698091895},0,0,{"$f":"F534*Endbetrag!$F$7","v":0},0,""]
[531,45,0,{"$f":"Endbetrag!$D$5*(1+Endbetrag!$D$6)^(B535-1)","v":9560.2125698091895},0,0,{"$f":"F535*Endbetrag!$F$7","v":0},0,""]
[532,45,0,{"$f":"Endbetrag!$D$5*(1+Endbetrag!$D$6)^(B536-1)","v":9560.2125698091895},0,0,{"$f":"F536*Endbetrag!$F$7","v":0},0,""]
[533,45,0,{"$f":"Endbetrag!$D$5*(1+Endbetrag!$D$6)^(B537-1)","v":9560.2125698091895},0,0,{"$f":"F537*Endbetrag!$F$7","v":0},0,""]
[534,45,0,{"$f":"Endbetrag!$D$5*(1+Endbetrag!$D$6)^(B538-1)","v":9560.2125698091895},0,0,{"$f":"F538*Endbetrag!$F$7","v":0},0,""]
[535,45,0,{"$f":"Endbetrag!$D$5*(1+Endbetrag!$D$6)^(B539-1)","v":9560.2125698091895},0,0,{"$f":"F539*Endbetrag!$F$7","v":0},0,""]
[536,45,0,{"$f":"Endbetrag!$D$5*(1+Endbetrag!$D$6)^(B540-1)","v":9560.2125698091895},0,0,{"$f":"F540*Endbetrag!$F$7","v":0},0,""]
[537,45,0,{"$f":"Endbetrag!$D$5*(1+Endbetrag!$D$6)^(B541-1)","v":9560.2125698091895},0,0,{"$f":"F541*Endbetrag!$F$7","v":0},0,""]
[538,45,0,{"$f":"Endbetrag!$D$5*(1+Endbetrag!$D$6)^(B542-1)","v":9560.2125698091895},0,0,{"$f":"F542*Endbetrag!$F$7","v":0},0,""]
[539,45,0,{"$f":"Endbetrag!$D$5*(1+Endbetrag!$D$6)^(B543-1)","v":9560.2125698091895},0,0,{"$f":"F543*Endbetrag!$F$7","v":0},0,""]
[540,46,0,{"$f":"Endbetrag!$D$5*(1+Endbetrag!$D$6)^(B544-1)","v":9751.4168212053737},0,0,{"$f":"F544*Endbetrag!$F$7","v":0},0,""]
[541,46,0,{"$f":"Endbetrag!$D$5*(1+Endbetrag!$D$6)^(B545-1)","v":9751.4168212053737},0,0,{"$f":"F545*Endbetrag!$F$7","v":0},0,""]
[542,46,0,{"$f":"Endbetrag!$D$5*(1+Endbetrag!$D$6)^(B546-1)","v":9751.4168212053737},0,0,{"$f":"F546*Endbetrag!$F$7","v":0},0,""]
[543,46,0,{"$f":"Endbetrag!$D$5*(1+Endbetrag!$D$6)^(B547-1)","v":9751.4168212053737},0,0,{"$f":"F547*Endbetrag!$F$7","v":0},0,""]
[544,46,0,{"$f":"Endbetrag!$D$5*(1+Endbetrag!$D$6)^(B548-1)","v":9751.4168212053737},0,0,{"$f":"F548*Endbetrag!$F$7","v":0},0,""]
[545,46,0,{"$f":"Endbetrag!$D$5*(1+Endbetrag!$D$6)^(B549-1)","v":9751.4168212053737},0,0,{"$f":"F549*Endbetrag!$F$7","v":0},0,""]
[546,46,0,{"$f":"Endbetrag!$D$5*(1+Endbetrag!$D$6)^(B550-1)","v":9751.4168212053737},0,0,{"$f":"F550*Endbetrag!$F$7","v":0},0,""]
[547,46,0,{"$f":"Endbetrag!$D$5*(1+Endbetrag!$D$6)^(B551-1)","v":9751.4168212053737},0,0,{"$f":"F551*Endbetrag!$F$7","v":0},0,""]
[548,46,0,{"$f":"Endbetrag!$D$5*(1+Endbetrag!$D$6)^(B552-1)","v":9751.4168212053737},0,0,{"$f":"F552*Endbetrag!$F$7","v":0},0,""]
[549,46,0,{"$f":"Endbetrag!$D$5*(1+Endbetrag!$D$6)^(B553-1)","v":9751.4168212053737},0,0,{"$f":"F553*Endbetrag!$F$7","v":0},0,""]
[550,46,0,{"$f":"Endbetrag!$D$5*(1+Endbetrag!$D$6)^(B554-1)","v":9751.4168212053737},0,0,{"$f":"F554*Endbetrag!$F$7","v":0},0,""]
[551,46,0,{"$f":"Endbetrag!$D$5*(1+Endbetrag!$D$6)^(B555-1)","v":9751.4168212053737},0,0,{"$f":"F555*Endbetrag!$F$7","v":0},0,""]
[552,47,0,{"$f":"Endbetrag!$D$5*(1+Endbetrag!$D$6)^(B556-1)","v":9946.4451576294814},0,0,{"$f":"F556*Endbetrag!$F$7","v":0},0,""]
[553,47,0,{"$f":"Endbetrag!$D$5*(1+Endbetrag!$D$6)^(B557-1)","v":9946.4451576294814},0,0,{"$f":"F557*Endbetrag!$F$7","v":0},0,""]
[554,47,0,{"$f":"Endbetrag!$D$5*(1+Endbetrag!$D$6)^(B558-1)","v":9946.4451576294814},0,0,{"$f":"F558*Endbetrag!$F$7","v":0},0,""]
[555,47,0,{"$f":"Endbetrag!$D$5*(1+Endbetrag!$D$6)^(B559-1)","v":9946.4451576294814},0,0,{"$f":"F559*Endbetrag!$F$7","v":0},0,""]
[556,47,0,{"$f":"Endbetrag!$D$5*(1+Endbetrag!$D$6)^(B560-1)","v":9946.4451576294814},0,0,{"$f":"F560*Endbetrag!$F$7","v":0},0,""]
[557,47,0,{"$f":"Endbetrag!$D$5*(1+Endbetrag!$D$6)^(B561-1)","v":9946.4451576294814},0,0,{"$f":"F561*Endbetrag!$F$7","v":0},0,""]
[558,47,0,{"$f":"Endbetrag!$D$5*(1+Endbetrag!$D$6)^(B562-1)","v":9946.4451576294814},0,0,{"$f":"F562*Endbetrag!$F$7","v":0},0,""]
[559,47,0,{"$f":"Endbetrag!$D$5*(1+Endbetrag!$D$6)^(B563-1)","v":9946.4451576294814},0,0,{"$f":"F563*Endbetrag!$F$7","v":0},0,""]
[560,47,0,{"$f":"Endbetrag!$D$5*(1+Endbetrag!$D$6)^(B564-1)","v":9946.4451576294814},0,0,{"$f":"F564*Endbetrag!$F$7","v":0},0,""]
[561,47,0,{"$f":"Endbetrag!$D$5*(1+Endbetrag!$D$6)^(B565-1)","v":9946.4451576294814},0,0,{"$f":"F565*Endbetrag!$F$7","v":0},0,""]
[562,47,0,{"$f":"Endbetrag!$D$5*(1+Endbetrag!$D$6)^(B566-1)","v":9946.4451576294814},0,0,{"$f":"F566*Endbetrag!$F$7","v":0},0,""]
[563,47,0,{"$f":"Endbetrag!$D$5*(1+Endbetrag!$D$6)^(B567-1)","v":9946.4451576294814},0,0,{"$f":"F567*Endbetrag!$F$7","v":0},0,""]
[564,48,0,{"$f":"Endbetrag!$D$5*(1+Endbetrag!$D$6)^(B568-1)","v":10145.374060782067},0,0,{"$f":"F568*Endbetrag!$F$7","v":0},0,""]
[565,48,0,{"$f":"Endbetrag!$D$5*(1+Endbetrag!$D$6)^(B569-1)","v":10145.374060782067},0,0,{"$f":"F569*Endbetrag!$F$7","v":0},0,""]
[566,48,0,{"$f":"Endbetrag!$D$5*(1+Endbetrag!$D$6)^(B570-1)","v":10145.374060782067},0,0,{"$f":"F570*Endbetrag!$F$7","v":0},0,""]
[567,48,0,{"$f":"Endbetrag!$D$5*(1+Endbetrag!$D$6)^(B571-1)","v":10145.374060782067},0,0,{"$f":"F571*Endbetrag!$F$7","v":0},0,""]
[568,48,0,{"$f":"Endbetrag!$D$5*(1+Endbetrag!$D$6)^(B572-1)","v":10145.374060782067},0,0,{"$f":"F572*Endbetrag!$F$7","v":0},0,""]
[569,48,0,{"$f":"Endbetrag!$D$5*(1+Endbetrag!$D$6)^(B573-1)","v":10145.374060782067},0,0,{"$f":"F573*Endbetrag!$F$7","v":0},0,""]
[570,48,0,{"$f":"Endbetrag!$D$5*(1+Endbetrag!$D$6)^(B574-1)","v":10145.374060782067},0,0,{"$f":"F574*Endbetrag!$F$7","v":0},0,""]
[571,48,0,{"$f":"Endbetrag!$D$5*(1+Endbetrag!$D$6)^(B575-1)","v":10145.374060782067},0,0,{"$f":"F575*Endbetrag!$F$7","v":0},0,""]
[572,48,0,{"$f":"Endbetrag!$D$5*(1+Endbetrag!$D$6)^(B576-1)","v":10145.374060782067},0,0,{"$f":"F576*Endbetrag!$F$7","v":0},0,""]
[573,48,0,{"$f":"Endbetrag!$D$5*(1+Endbetrag!$D$6)^(B577-1)","v":10145.374060782067},0,0,{"$f":"F577*Endbetrag!$F$7","v":0},0,""]
[574,48,0,{"$f":"Endbetrag!$D$5*(1+Endbetrag!$D$6)^(B578-1)","v":10145.374060782067},0,0,{"$f":"F578*Endbetrag!$F$7","v":0},0,""]
[575,48,0,{"$f":"Endbetrag!$D$5*(1+Endbetrag!$D$6)^(B579-1)","v":10145.374060782067},0,0,{"$f":"F579*Endbetrag!$F$7","v":0},0,""]
[576,{"$f":"INT(A580/12)+1","v":49},0,{"$f":"Endbetrag!$D$5*(1+Endbetrag!$D$6)^(B580-1)","v":10348.281541997711},{"$f":"MIN(D580,C580)","v":0},{"$f":"C580-E580","v":0},{"$f":"F580*Endbetrag!$F$7","v":0},{"$f":"MAX(0,F580+G580)","v":0},{"$f":"IF(H580>0,A580,\"\")","v":""}]
[577,49,{"$f":"H580","v":0},{"$f":"Endbetrag!$D$5*(1+Endbetrag!$D$6)^(B581-1)","v":10348.281541997711},0,0,{"$f":"F581*Endbetrag!$F$7","v":0},0,""]
[578,49,0,{"$f":"Endbetrag!$D$5*(1+Endbetrag!$D$6)^(B582-1)","v":10348.281541997711},0,0,{"$f":"F582*Endbetrag!$F$7","v":0},0,""]
[579,49,0,{"$f":"Endbetrag!$D$5*(1+Endbetrag!$D$6)^(B583-1)","v":10348.281541997711},0,0,{"$f":"F583*Endbetrag!$F$7","v":0},0,""]
[580,49,0,{"$f":"Endbetrag!$D$5*(1+Endbetrag!$D$6)^(B584-1)","v":10348.281541997711},0,0,{"$f":"F584*Endbetrag!$F$7","v":0},0,""]
[581,49,0,{"$f":"Endbetrag!$D$5*(1+Endbetrag!$D$6)^(B585-1)","v":10348.281541997711},0,0,{"$f":"F585*Endbetrag!$F$7","v":0},0,""]
[582,49,0,{"$f":"Endbetrag!$D$5*(1+Endbetrag!$D$6)^(B586-1)","v":10348.281541997711},0,0,{"$f":"F586*Endbetrag!$F$7","v":0},0,""]
[583,49,0,{"$f":"Endbetrag!$D$5*(1+Endbetrag!$D$6)^(B587-1)","v":10348.281541997711},0,0,{"$f":"F587*Endbetrag!$F$7","v":0},0,""]
[584,49,0,{"$f":"Endbetrag!$D$5*(1+Endbetrag!$D$6)^(B588-1)","v":10348.281541997711},0,0,{"$f":"F588*Endbetrag!$F$7","v":0},0,""]
[585,49,0,{"$f":"Endbetrag!$D$5*(1+Endbetrag!$D$6)^(B589-1)","v":10348.281541997711},0,0,{"$f":"F589*Endbetrag!$F$7","v":0},0,""]
[586,49,0,{"$f":"Endbetrag!$D$5*(1+Endbetrag!$D$6)^(B590-1)","v":10348.281541997711},0,0,{"$f":"F590*Endbetrag!$F$7","v":0},0,""]
[587,49,0,{"$f":"Endbetrag!$D$5*(1+Endbetrag!$D$6)^(B591-1)","v":10348.281541997711},0,0,{"$f":"F591*Endbetrag!$F$7","v":0},0,""]
[588,50,0,{"$f":"Endbetrag!$D$5*(1+Endbetrag!$D$6)^(B592-1)","v":10555.247172837666},0,0,{"$f":"F592*Endbetrag!$F$7","v":0},0,""]
[589,50,0,{"$f":"Endbetrag!$D$5*(1+Endbetrag!$D$6)^(B593-1)","v":10555.247172837666},0,0,{"$f":"F593*Endbetrag!$F$7","v":0},0,""]
[590,50,0,{"$f":"Endbetrag!$D$5*(1+Endbetrag!$D$6)^(B594-1)","v":10555.247172837666},0,0,{"$f":"F594*Endbetrag!$F$7","v":0},0,""]
[591,50,0,{"$f":"Endbetrag!$D$5*(1+Endbetrag!$D$6)^(B595-1)","v":10555.247172837666},0,0,{"$f":"F595*Endbetrag!$F$7","v":0},0,""]
[592,50,0,{"$f":"Endbetrag!$D$5*(1+Endbetrag!$D$6)^(B596-1)","v":10555.247172837666},0,0,{"$f":"F596*Endbetrag!$F$7","v":0},0,""]
[593,50,0,{"$f":"Endbetrag!$D$5*(1+Endbetrag!$D$6)^(B597-1)","v":10555.247172837666},0,0,{"$f":"F597*Endbetrag!$F$7","v":0},0,""]
[594,50,0,{"$f":"Endbetrag!$D$5*(1+Endbetrag!$D$6)^(B598-1)","v":10555.247172837666},0,0,{"$f":"F598*Endbetrag!$F$7","v":0},0,""]
[595,50,0,{"$f":"Endbetrag!$D$5*(1+Endbetrag!$D$6)^(B599-1)","v":10555.247172837666},0,0,{"$f":"F599*Endbetrag!$F$7","v":0},0,""]
[596,50,0,{"$f":"Endbetrag!$D$5*(1+Endbetrag!$D$6)^(B600-1)","v":10555.247172837666},0,0,{"$f":"F600*Endbetrag!$F$7","v":0},0,""]
[597,50,0,{"$f":"Endbetrag!$D$5*(1+Endbetrag!$D$6)^(B601-1)","v":10555.247172837666},0,0,{"$f":"F601*Endbetrag!$F$7","v":0},0,""]
[598,50,0,{"$f":"Endbetrag!$D$5*(1+Endbetrag!$D$6)^(B602-1)","v":10555.247172837666},0,0,{"$f":"F602*Endbetrag!$F$7","v":0},0,""]
[599,50,0,{"$f":"Endbetrag!$D$5*(1+Endbetrag!$D$6)^(B603-1)","v":10555.247172837666},0,0,{"$f":"F603*Endbetrag!$F$7","v":0},0,""]
[600,51,0,{"$f":"Endbetrag!$D$5*(1+Endbetrag!$D$6)^(B604-1)","v":10766.352116294418},0,0,{"$f":"F604*Endbetrag!$F$7","v":0},0,""]
[601,51,0,{"$f":"Endbetrag!$D$5*(1+Endbetrag!$D$6)^(B605-1)","v":10766.352116294418},0,0,{"$f":"F605*Endbetrag!$F$7","v":0},0,""]
[602,51,0,{"$f":"Endbetrag!$D$5*(1+Endbetrag!$D$6)^(B606-1)","v":10766.352116294418},0,0,{"$f":"F606*Endbetrag!$F$7","v":0},0,""]
[603,51,0,{"$f":"Endbetrag!$D$5*(1+Endbetrag!$D$6)^(B607-1)","v":10766.352116294418},0,0,{"$f":"F607*Endbetrag!$F$7","v":0},0,""]
[604,51,0,{"$f":"Endbetrag!$D$5*(1+Endbetrag!$D$6)^(B608-1)","v":10766.352116294418},0,0,{"$f":"F608*Endbetrag!$F$7","v":0},0,""]
[605,51,0,{"$f":"Endbetrag!$D$5*(1+Endbetrag!$D$6)^(B609-1)","v":10766.352116294418},0,0,{"$f":"F609*Endbetrag!$F$7","v":0},0,""]
[606,51,0,{"$f":"Endbetrag!$D$5*(1+Endbetrag!$D$6)^(B610-1)","v":10766.352116294418},0,0,{"$f":"F610*Endbetrag!$F$7","v":0},0,""]
[607,51,0,{"$f":"Endbetrag!$D$5*(1+Endbetrag!$D$6)^(B611-1)","v":10766.352116294418},0,0,{"$f":"F611*Endbetrag!$F$7","v":0},0,""]
[608,51,0,{"$f":"Endbetrag!$D$5*(1+Endbetrag!$D$6)^(B612-1)","v":10766.352116294418},0,0,{"$f":"F612*Endbetrag!$F$7","v":0},0,""]
[609,51,0,{"$f":"Endbetrag!$D$5*(1+Endbetrag!$D$6)^(B613-1)","v":10766.352116294418},0,0,{"$f":"F613*Endbetrag!$F$7","v":0},0,""]
[610,51,0,{"$f":"Endbetrag!$D$5*(1+Endbetrag!$D$6)^(B614-1)","v":10766.352116294418},0,0,{"$f":"F614*Endbetrag!$F$7","v":0},0,""]
[611,51,0,{"$f":"Endbetrag!$D$5*(1+Endbetrag!$D$6)^(B615-1)","v":10766.352116294418},0,0,{"$f":"F615*Endbetrag!$F$7","v":0},0,""]
[612,52,0,{"$f":"Endbetrag!$D$5*(1+Endbetrag!$D$6)^(B616-1)","v":10981.679158620305},0,0,{"$f":"F616*Endbetrag!$F$7","v":0},0,""]
[613,52,0,{"$f":"Endbetrag!$D$5*(1+Endbetrag!$D$6)^(B617-1)","v":10981.679158620305},0,0,{"$f":"F617*Endbetrag!$F$7","v":0},0,""]
[614,52,0,{"$f":"Endbetrag!$D$5*(1+Endbetrag!$D$6)^(B618-1)","v":10981.679158620305},0,0,{"$f":"F618*Endbetrag!$F$7","v":0},0,""]
[615,52,0,{"$f":"Endbetrag!$D$5*(1+Endbetrag!$D$6)^(B619-1)","v":10981.679158620305},0,0,{"$f":"F619*Endbetrag!$F$7","v":0},0,""]
[616,52,0,{"$f":"Endbetrag!$D$5*(1+Endbetrag!$D$6)^(B620-1)","v":10981.679158620305},0,0,{"$f":"F620*Endbetrag!$F$7","v":0},0,""]
[617,52,0,{"$f":"Endbetrag!$D$5*(1+Endbetrag!$D$6)^(B621-1)","v":10981.679158620305},0,0,{"$f":"F621*Endbetrag!$F$7","v":0},0,""]
[618,52,0,{"$f":"Endbetrag!$D$5*(1+Endbetrag!$D$6)^(B622-1)","v":10981.679158620305},0,0,{"$f":"F622*Endbetrag!$F$7","v":0},0,""]
[619,52,0,{"$f":"Endbetrag!$D$5*(1+Endbetrag!$D$6)^(B623-1)","v":10981.679158620305},0,0,{"$f":"F623*Endbetrag!$F$7","v":0},0,""]
[620,52,0,{"$f":"Endbetrag!$D$5*(1+Endbetrag!$D$6)^(B624-1)","v":10981.679158620305},0,0,{"$f":"F624*Endbetrag!$F$7","v":0},0,""]
[621,52,0,{"$f":"Endbetrag!$D$5*(1+Endbetrag!$D$6)^(B625-1)","v":10981.679158620305},0,0,{"$f":"F625*Endbetrag!$F$7","v":0},0,""]
[622,52,0,{"$f":"Endbetrag!$D$5*(1+Endbetrag!$D$6)^(B626-1)","v":10981.679158620305},0,0,{"$f":"F626*Endbetrag!$F$7","v":0},0,""]
[623,52,0,{"$f":"Endbetrag!$D$5*(1+Endbetrag!$D$6)^(B627-1)","v":10981.679158620305},0,0,{"$f":"F627*Endbetrag!$F$7","v":0},0,""]
[624,53,0,{"$f":"Endbetrag!$D$5*(1+Endbetrag!$D$6)^(B628-1)","v":11201.312741792713},0,0,{"$f":"F628*Endbetrag!$F$7","v":0},0,""]
[625,53,0,{"$f":"Endbetrag!$D$5*(1+Endbetrag!$D$6)^(B629-1)","v":11201.312741792713},0,0,{"$f":"F629*Endbetrag!$F$7","v":0},0,""]
[626,53,0,{"$f":"Endbetrag!$D$5*(1+Endbetrag!$D$6)^(B630-1)","v":11201.312741792713},0,0,{"$f":"F630*Endbetrag!$F$7","v":0},0,""]
[627,53,0,{"$f":"Endbetrag!$D$5*(1+Endbetrag!$D$6)^(B631-1)","v":11201.312741792713},0,0,{"$f":"F631*Endbetrag!$F$7","v":0},0,""]
[628,53,0,{"$f":"Endbetrag!$D$5*(1+Endbetrag!$D$6)^(B632-1)","v":11201.312741792713},0,0,{"$f":"F632*Endbetrag!$F$7","v":0},0,""]
[629,53,0,{"$f":"Endbetrag!$D$5*(1+Endbetrag!$D$6)^(B633-1)","v":11201.312741792713},0,0,{"$f":"F633*Endbetrag!$F$7","v":0},0,""]
[630,53,0,{"$f":"Endbetrag!$D$5*(1+Endbetrag!$D$6)^(B634-1)","v":11201.312741792713},0,0,{"$f":"F634*Endbetrag!$F$7","v":0},0,""]
[631,53,0,{"$f":"Endbetrag!$D$5*(1+Endbetrag!$D$6)^(B635-1)","v":11201.312741792713},0,0,{"$f":"F635*Endbetrag!$F$7","v":0},0,""]
[632,53,0,{"$f":"Endbetrag!$D$5*(1+Endbetrag!$D$6)^(B636-1)","v":11201.312741792713},0,0,{"$f":"F636*Endbetrag!$F$7","v":0},0,""]
[633,53,0,{"$f":"Endbetrag!$D$5*(1+Endbetrag!$D$6)^(B637-1)","v":11201.312741792713},0,0,{"$f":"F637*Endbetrag!$F$7","v":0},0,""]
[634,53,0,{"$f":"Endbetrag!$D$5*(1+Endbetrag!$D$6)^(B638-1)","v":11201.312741792713},0,0,{"$f":"F638*Endbetrag!$F$7","v":0},0,""]
[635,53,0,{"$f":"Endbetrag!$D$5*(1+Endbetrag!$D$6)^(B639-1)","v":11201.312741792713},0,0,{"$f":"F639*Endbetrag!$F$7","v":0},0,""]
[636,54,0,{"$f":"Endbetrag!$D$5*(1+Endbetrag!$D$6)^(B640-1)","v":11425.338996628567},0,0,{"$f":"F640*Endbetrag!$F$7","v":0},0,""]
[637,54,0,{"$f":"Endbetrag!$D$5*(1+Endbetrag!$D$6)^(B641-1)","v":11425.338996628567},0,0,{"$f":"F641*Endbetrag!$F$7","v":0},0,""]
[638,54,0,{"$f":"Endbetrag!$D$5*(1+Endbetrag!$D$6)^(B642-1)","v":11425.338996628567},0,0,{"$f":"F642*Endbetrag!$F$7","v":0},0,""]
[639,54,0,{"$f":"Endbetrag!$D$5*(1+Endbetrag!$D$6)^(B643-1)","v":11425.338996628567},0,0,{"$f":"F643*Endbetrag!$F$7","v":0},0,""]
[640,{"$f":"INT(A644/12)+1","v":54},0,{"$f":"Endbetrag!$D$5*(1+Endbetrag!$D$6)^(B644-1)","v":11425.338996628567},{"$f":"MIN(D644,C644)","v":0},{"$f":"C644-E644","v":0},{"$f":"F644*Endbetrag!$F$7","v":0},{"$f":"MAX(0,F644+G644)","v":0},{"$f":"IF(H644>0,A644,\"\")","v":""}]
[641,54,{"$f":"H644","v":0},{"$f":"Endbetrag!$D$5*(1+Endbetrag!$D$6)^(B645-1)","v":11425.338996628567},0,0,{"$f":"F645*Endbetrag!$F$7","v":0},0,""]
[642,54,0,{"$f":"Endbetrag!$D$5*(1+Endbetrag!$D$6)^(B646-1)","v":11425.338996628567},0,0,{"$f":"F646*Endbetrag!$F$7","v":0},0,""]
[643,54,0,{"$f":"Endbetrag!$D$5*(1+Endbetrag!$D$6)^(B647-1)","v":11425.338996628567},0,0,{"$f":"F647*Endbetrag!$F$7","v":0},0,""]
[644,54,0,{"$f":"Endbetrag!$D$5*(1+Endbetrag!$D$6)^(B648-1)","v":11425.338996628567},0,0,{"$f":"F648*Endbetrag!$F$7","v":0},0,""]
[645,54,0,{"$f":"Endbetrag!$D$5*(1+Endbetrag!$D$6)^(B649-1)","v":11425.338996628567},0,0,{"$f":"F649*Endbetrag!$F$7","v":0},0,""]
[646,54,0,{"$f":"Endbetrag!$D$5*(1+Endbetrag!$D$6)^(B650-1)","v":11425.338996628567},0,0,{"$f":"F650*Endbetrag!$F$7","v":0},0,""]
[647,54,0,{"$f":"Endbetrag!$D$5*(1+Endbetrag!$D$6)^(B651-1)","v":11425.338996628567},0,0,{"$f":"F651*Endbetrag!$F$7","v":0},0,""]
[648,55,0,{"$f":"Endbetrag!$D$5*(1+Endbetrag!$D$6)^(B652-1)","v":11653.84577656114},0,0,{"$f":"F652*Endbetrag!$F$7","v":0},0,""]
[649,55,0,{"$f":"Endbetrag!$D$5*(1+Endbetrag!$D$6)^(B653-1)","v":11653.84577656114},0,0,{"$f":"F653*Endbetrag!$F$7","v":0},0,""]
[650,55,0,{"$f":"Endbetrag!$D$5*(1+Endbetrag!$D$6)^(B654-1)","v":11653.84577656114},0,0,{"$f":"F654*Endbetrag!$F$7","v":0},0,""]
[651,55,0,{"$f":"Endbetrag!$D$5*(1+Endbetrag!$D$6)^(B655-1)","v":11653.84577656114},0,0,{"$f":"F655*Endbetrag!$F$7","v":0},0,""]
[652,55,0,{"$f":"Endbetrag!$D$5*(1+Endbetrag!$D$6)^(B656-1)","v":11653.84577656114},0,0,{"$f":"F656*Endbetrag!$F$7","v":0},0,""]
[653,55,0,{"$f":"Endbetrag!$D$5*(1+Endbetrag!$D$6)^(B657-1)","v":11653.84577656114},0,0,{"$f":"F657*Endbetrag!$F$7","v":0},0,""]
[654,55,0,{"$f":"Endbetrag!$D$5*(1+Endbetrag!$D$6)^(B658-1)","v":11653.84577656114},0,0,{"$f":"F658*Endbetrag!$F$7","v":0},0,""]
[655,55,0,{"$f":"Endbetrag!$D$5*(1+Endbetrag!$D$6)^(B659-1)","v":11653.84577656114},0,0,{"$f":"F659*Endbetrag!$F$7","v":0},0,""]
[656,55,0,{"$f":"Endbetrag!$D$5*(1+Endbetrag!$D$6)^(B660-1)","v":11653.84577656114},0,0,{"$f":"F660*Endbetrag!$F$7","v":0},0,""]
[657,55,0,{"$f":"Endbetrag!$D$5*(1+Endbetrag!$D$6)^(B661-1)","v":11653.84577656114},0,0,{"$f":"F661*Endbetrag!$F$7","v":0},0,""]
[658,55,0,{"$f":"Endbetrag!$D$5*(1+Endbetrag!$D$6)^(B662-1)","v":11653.84577656114},0,0,{"$f":"F662*Endbetrag!$F$7","v":0},0,""]
[659,55,0,{"$f":"Endbetrag!$D$5*(1+Endbetrag!$D$6)^(B663-1)","v":11653.84577656114},0,0,{"$f":"F663*Endbetrag!$F$7","v":0},0,""]
[660,56,0,{"$f":"Endbetrag!$D$5*(1+Endbetrag!$D$6)^(B664-1)","v":11886.922692092359},0,0,{"$f":"F664*Endbetrag!$F$7","v":0},0,""]
[661,56,0,{"$f":"Endbetrag!$D$5*(1+Endbetrag!$D$6)^(B665-1)","v":11886.922692092359},0,0,{"$f":"F665*Endbetrag!$F$7","v":0},0,""]
[662,56,0,{"$f":"Endbetrag!$D$5*(1+Endbetrag!$D$6)^(B666-1)","v":11886.922692092359},0,0,{"$f":"F666*Endbetrag!$F$7","v":0},0,""]
[663,56,0,{"$f":"Endbetrag!$D$5*(1+Endbetrag!$D$6)^(B667-1)","v":11886.922692092359},0,0,{"$f":"F667*Endbetrag!$F$7","v":0},0,""]
[664,56,0,{"$f":"Endbetrag!$D$5*(1+Endbetrag!$D$6)^(B668-1)","v":11886.922692092359},0,0,{"$f":"F668*Endbetrag!$F$7","v":0},0,""]
[665,56,0,{"$f":"Endbetrag!$D$5*(1+Endbetrag!$D$6)^(B669-1)","v":11886.922692092359},0,0,{"$f":"F669*Endbetrag!$F$7","v":0},0,""]
[666,56,0,{"$f":"Endbetrag!$D$5*(1+Endbetrag!$D$6)^(B670-1)","v":11886.922692092359},0,0,{"$f":"F670*Endbetrag!$F$7","v":0},0,""]
[667,56,0,{"$f":"Endbetrag!$D$5*(1+Endbetrag!$D$6)^(B671-1)","v":11886.922692092359},0,0,{"$f":"F671*Endbetrag!$F$7","v":0},0,""]
[668,56,0,{"$f":"Endbetrag!$D$5*(1+Endbetrag!$D$6)^(B672-1)","v":11886.922692092359},0,0,{"$f":"F672*Endbetrag!$F$7","v":0},0,""]
[669,56,0,{"$f":"Endbetrag!$D$5*(1+Endbetrag!$D$6)^(B673-1)","v":11886.922692092359},0,0,{"$f":"F673*Endbetrag!$F$7","v":0},0,""]
[670,56,0,{"$f":"Endbetrag!$D$5*(1+Endbetrag!$D$6)^(B674-1)","v":11886.922692092359},0,0,{"$f":"F674*Endbetrag!$F$7","v":0},0,""]
[671,56,0,{"$f":"Endbetrag!$D$5*(1+Endbetrag!$D$6)^(B675-1)","v":11886.922692092359},0,0,{"$f":"F675*Endbetrag!$F$7","v":0},0,""]
[672,57,0,{"$f":"Endbetrag!$D$5*(1+Endbetrag!$D$6)^(B676-1)","v":12124.661145934208},0,0,{"$f":"F676*Endbetrag!$F$7","v":0},0,""]
[673,57,0,{"$f":"Endbetrag!$D$5*(1+Endbetrag!$D$6)^(B677-1)","v":12124.661145934208},0,0,{"$f":"F677*Endbetrag!$F$7","v":0},0,""]
[674,57,0,{"$f":"Endbetrag!$D$5*(1+Endbetrag!$D$6)^(B678-1)","v":12124.661145934208},0,0,{"$f":"F678*Endbetrag!$F$7","v":0},0,""]
[675,57,0,{"$f":"Endbetrag!$D$5*(1+Endbetrag!$D$6)^(B679-1)","v":12124.661145934208},0,0,{"$f":"F679*Endbetrag!$F$7","v":0},0,""]
[676,57,0,{"$f":"Endbetrag!$D$5*(1+Endbetrag!$D$6)^(B680-1)","v":12124.661145934208},0,0,{"$f":"F680*Endbetrag!$F$7","v":0},0,""]
[677,57,0,{"$f":"Endbetrag!$D$5*(1+Endbetrag!$D$6)^(B681-1)","v":12124.661145934208},0,0,{"$f":"F681*Endbetrag!$F$7","v":0},0,""]
[678,57,0,{"$f":"Endbetrag!$D$5*(1+Endbetrag!$D$6)^(B682-1)","v":12124.661145934208},0,0,{"$f":"F682*Endbetrag!$F$7","v":0},0,""]
[679,57,0,{"$f":"Endbetrag!$D$5*(1+Endbetrag!$D$6)^(B683-1)","v":12124.661145934208},0,0,{"$f":"F683*Endbetrag!$F$7","v":0},0,""]
[680,57,0,{"$f":"Endbetrag!$D$5*(1+Endbetrag!$D$6)^(B684-1)","v":12124.661145934208},0,0,{"$f":"F684*Endbetrag!$F$7","v":0},0,""]
[681,57,0,{"$f":"Endbetrag!$D$5*(1+Endbetrag!$D$6)^(B685-1)","v":12124.661145934208},0,0,{"$f":"F685*Endbetrag!$F$7","v":0},0,""]
[682,57,0,{"$f":"Endbetrag!$D$5*(1+Endbetrag!$D$6)^(B686-1)","v":12124.661145934208},0,0,{"$f":"F686*Endbetrag!$F$7","v":0},0,""]
[683,57,0,{"$f":"Endbetrag!$D$5*(1+Endbetrag!$D$6)^(B687-1)","v":12124.661145934208},0,0,{"$f":"F687*Endbetrag!$F$7","v":0},0,""]
[684,58,0,{"$f":"Endbetrag!$D$5*(1+Endbetrag!$D$6)^(B688-1)","v":12367.154368852891},0,0,{"$f":"F688*Endbetrag!$F$7","v":0},0,""]
[685,58,0,{"$f":"Endbetrag!$D$5*(1+Endbetrag!$D$6)^(B689-1)","v":12367.154368852891},0,0,{"$f":"F689*Endbetrag!$F$7","v":0},0,""]
[686,58,0,{"$f":"Endbetrag!$D$5*(1+Endbetrag!$D$6)^(B690-1)","v":12367.154368852891},0,0,{"$f":"F690*Endbetrag!$F$7","v":0},0,""]
[687,58,0,{"$f":"Endbetrag!$D$5*(1+Endbetrag!$D$6)^(B691-1)","v":12367.154368852891},0,0,{"$f":"F691*Endbetrag!$F$7","v":0},0,""]
[688,58,0,{"$f":"Endbetrag!$D$5*(1+Endbetrag!$D$6)^(B692-1)","v":12367.154368852891},0,0,{"$f":"F692*Endbetrag!$F$7","v":0},0,""]
[689,58,0,{"$f":"Endbetrag!$D$5*(1+Endbetrag!$D$6)^(B693-1)","v":12367.154368852891},0,0,{"$f":"F693*Endbetrag!$F$7","v":0},0,""]
[690,58,0,{"$f":"Endbetrag!$D$5*(1+Endbetrag!$D$6)^(B694-1)","v":12367.154368852891},0,0,{"$f":"F694*Endbetrag!$F$7","v":0},0,""]
[691,58,0,{"$f":"Endbetrag!$D$5*(1+Endbetrag!$D$6)^(B695-1)","v":12367.154368852891},0,0,{"$f":"F695*Endbetrag!$F$7","v":0},0,""]
[692,58,0,{"$f":"Endbetrag!$D$5*(1+Endbetrag!$D$6)^(B696-1)","v":12367.154368852891},0,0,{"$f":"F696*Endbetrag!$F$7","v":0},0,""]
[693,58,0,{"$f":"Endbetrag!$D$5*(1+Endbetrag!$D$6)^(B697-1)","v":12367.154368852891},0,0,{"$f":"F697*Endbetrag!$F$7","v":0},0,""]
[694,58,0,{"$f":"Endbetrag!$D$5*(1+Endbetrag!$D$6)^(B698-1)","v":12367.154368852891},0,0,{"$f":"F698*Endbetrag!$F$7","v":0},0,""]
[695,58,0,{"$f":"Endbetrag!$D$5*(1+Endbetrag!$D$6)^(B699-1)","v":12367.154368852891},0,0,{"$f":"F699*Endbetrag!$F$7","v":0},0,""]
[696,59,0,{"$f":"Endbetrag!$D$5*(1+Endbetrag!$D$6)^(B700-1)","v":12614.49745622995},0,0,{"$f":"F700*Endbetrag!$F$7","v":0},0,""]
[697,59,0,{"$f":"Endbetrag!$D$5*(1+Endbetrag!$D$6)^(B701-1)","v":12614.49745622995},0,0,{"$f":"F701*Endbetrag!$F$7","v":0},0,""]
[698,59,0,{"$f":"Endbetrag!$D$5*(1+Endbetrag!$D$6)^(B702-1)","v":12614.49745622995},0,0,{"$f":"F702*Endbetrag!$F$7","v":0},0,""]
[699,59,0,{"$f":"Endbetrag!$D$5*(1+Endbetrag!$D$6)^(B703-1)","v":12614.49745622995},0,0,{"$f":"F703*Endbetrag!$F$7","v":0},0,""]
[700,59,0,{"$f":"Endbetrag!$D$5*(1+Endbetrag!$D$6)^(B704-1)","v":12614.49745622995},0,0,{"$f":"F704*Endbetrag!$F$7","v":0},0,""]
[701,59,0,{"$f":"Endbetrag!$D$5*(1+Endbetrag!$D$6)^(B705-1)","v":12614.49745622995},0,0,{"$f":"F705*Endbetrag!$F$7","v":0},0,""]
[702,59,0,{"$f":"Endbetrag!$D$5*(1+Endbetrag!$D$6)^(B706-1)","v":12614.49745622995},0,0,{"$f":"F706*Endbetrag!$F$7","v":0},0,""]
[703,59,0,{"$f":"Endbetrag!$D$5*(1+Endbetrag!$D$6)^(B707-1)","v":12614.49745622995},0,0,{"$f":"F707*Endbetrag!$F$7","v":0},0,""]
[704,{"$f":"INT(A708/12)+1","v":59},0,{"$f":"Endbetrag!$D$5*(1+Endbetrag!$D$6)^(B708-1)","v":12614.49745622995},{"$f":"MIN(D708,C708)","v":0},{"$f":"C708-E708","v":0},{"$f":"F708*Endbetrag!$F$7","v":0},{"$f":"MAX(0,F708+G708)","v":0},{"$f":"IF(H708>0,A708,\"\")","v":""}]
[705,59,{"$f":"H708","v":0},{"$f":"Endbetrag!$D$5*(1+Endbetrag!$D$6)^(B709-1)","v":12614.49745622995},0,0,{"$f":"F709*Endbetrag!$F$7","v":0},0,""]
[706,59,0,{"$f":"Endbetrag!$D$5*(1+Endbetrag!$D$6)^(B710-1)","v":12614.49745622995},0,0,{"$f":"F710*Endbetrag!$F$7","v":0},0,""]
[707,59,0,{"$f":"Endbetrag!$D$5*(1+Endbetrag!$D$6)^(B711-1)","v":12614.49745622995},0,0,{"$f":"F711*Endbetrag!$F$7","v":0},0,""]
[708,60,0,{"$f":"Endbetrag!$D$5*(1+Endbetrag!$D$6)^(B712-1)","v":12866.787405354547},0,0,{"$f":"F712*Endbetrag!$F$7","v":0},0,""]
[709,60,0,{"$f":"Endbetrag!$D$5*(1+Endbetrag!$D$6)^(B713-1)","v":12866.787405354547},0,0,{"$f":"F713*Endbetrag!$F$7","v":0},0,""]
[710,60,0,{"$f":"Endbetrag!$D$5*(1+Endbetrag!$D$6)^(B714-1)","v":12866.787405354547},0,0,{"$f":"F714*Endbetrag!$F$7","v":0},0,""]
[711,60,0,{"$f":"Endbetrag!$D$5*(1+Endbetrag!$D$6)^(B715-1)","v":12866.787405354547},0,0,{"$f":"F715*Endbetrag!$F$7","v":0},0,""]
[712,60,0,{"$f":"Endbetrag!$D$5*(1+Endbetrag!$D$6)^(B716-1)","v":12866.787405354547},0,0,{"$f":"F716*Endbetrag!$F$7","v":0},0,""]
[713,60,0,{"$f":"Endbetrag!$D$5*(1+Endbetrag!$D$6)^(B717-1)","v":12866.787405354547},0,0,{"$f":"F717*Endbetrag!$F$7","v":0},0,""]
[714,60,0,{"$f":"Endbetrag!$D$5*(1+Endbetrag!$D$6)^(B718-1)","v":12866.787405354547},0,0,{"$f":"F718*Endbetrag!$F$7","v":0},0,""]
[715,60,0,{"$f":"Endbetrag!$D$5*(1+Endbetrag!$D$6)^(B719-1)","v":12866.787405354547},0,0,{"$f":"F719*Endbetrag!$F$7","v":0},0,""]
[716,60,0,{"$f":"Endbetrag!$D$5*(1+Endbetrag!$D$6)^(B720-1)","v":12866.787405354547},0,0,{"$f":"F720*Endbetrag!$F$7","v":0},0,""]
[717,60,0,{"$f":"Endbetrag!$D$5*(1+Endbetrag!$D$6)^(B721-1)","v":12866.787405354547},0,0,{"$f":"F721*Endbetrag!$F$7","v":0},0,""]
[718,60,0,{"$f":"Endbetrag!$D$5*(1+Endbetrag!$D$6)^(B722-1)","v":12866.787405354547},0,0,{"$f":"F722*Endbetrag!$F$7","v":0},0,""]
[719,60,0,{"$f":"Endbetrag!$D$5*(1+Endbetrag!$D$6)^(B723-1)","v":12866.787405354547},0,0,{"$f":"F723*Endbetrag!$F$7","v":0},0,""]
[720,61,0,{"$f":"Endbetrag!$D$5*(1+Endbetrag!$D$6)^(B724-1)","v":13124.12315346164},0,0,{"$f":"F724*Endbetrag!$F$7","v":0},0,""]
[721,61,0,{"$f":"Endbetrag!$D$5*(1+Endbetrag!$D$6)^(B725-1)","v":13124.12315346164},0,0,{"$f":"F725*Endbetrag!$F$7","v":0},0,""]
[722,61,0,{"$f":"Endbetrag!$D$5*(1+Endbetrag!$D$6)^(B726-1)","v":13124.12315346164},0,0,{"$f":"F726*Endbetrag!$F$7","v":0},0,""]
[723,61,0,{"$f":"Endbetrag!$D$5*(1+Endbetrag!$D$6)^(B727-1)","v":13124.12315346164},0,0,{"$f":"F727*Endbetrag!$F$7","v":0},0,""]
[724,61,0,{"$f":"Endbetrag!$D$5*(1+Endbetrag!$D$6)^(B728-1)","v":13124.12315346164},0,0,{"$f":"F728*Endbetrag!$F$7","v":0},0,""]
[725,61,0,{"$f":"Endbetrag!$D$5*(1+Endbetrag!$D$6)^(B729-1)","v":13124.12315346164},0,0,{"$f":"F729*Endbetrag!$F$7","v":0},0,""]
[726,61,0,{"$f":"Endbetrag!$D$5*(1+Endbetrag!$D$6)^(B730-1)","v":13124.12315346164},0,0,{"$f":"F730*Endbetrag!$F$7","v":0},0,""]
[727,61,0,{"$f":"Endbetrag!$D$5*(1+Endbetrag!$D$6)^(B731-1)","v":13124.12315346164},0,0,{"$f":"F731*Endbetrag!$F$7","v":0},0,""]
[728,61,0,{"$f":"Endbetrag!$D$5*(1+Endbetrag!$D$6)^(B732-1)","v":13124.12315346164},0,0,{"$f":"F732*Endbetrag!$F$7","v":0},0,""]
[729,61,0,{"$f":"Endbetrag!$D$5*(1+Endbetrag!$D$6)^(B733-1)","v":13124.12315346164},0,0,{"$f":"F733*Endbetrag!$F$7","v":0},0,""]
[730,61,0,{"$f":"Endbetrag!$D$5*(1+Endbetrag!$D$6)^(B734-1)","v":13124.12315346164},0,0,{"$f":"F734*Endbetrag!$F$7","v":0},0,""]
[731,61,0,{"$f":"Endbetrag!$D$5*(1+Endbetrag!$D$6)^(B735-1)","v":13124.12315346164},0,0,{"$f":"F735*Endbetrag!$F$7","v":0},0,""]
[732,62,0,{"$f":"Endbetrag!$D$5*(1+Endbetrag!$D$6)^(B736-1)","v":13386.605616530873},0,0,{"$f":"F736*Endbetrag!$F$7","v":0},0,""]
[733,62,0,{"$f":"Endbetrag!$D$5*(1+Endbetrag!$D$6)^(B737-1)","v":13386.605616530873},0,0,{"$f":"F737*Endbetrag!$F$7","v":0},0,""]
[734,62,0,{"$f":"Endbetrag!$D$5*(1+Endbetrag!$D$6)^(B738-1)","v":13386.605616530873},0,0,{"$f":"F738*Endbetrag!$F$7","v":0},0,""]
[735,62,0,{"$f":"Endbetrag!$D$5*(1+Endbetrag!$D$6)^(B739-1)","v":13386.605616530873},0,0,{"$f":"F739*Endbetrag!$F$7","v":0},0,""]
[736,62,0,{"$f":"Endbetrag!$D$5*(1+Endbetrag!$D$6)^(B740-1)","v":13386.605616530873},0,0,{"$f":"F740*Endbetrag!$F$7","v":0},0,""]
[737,62,0,{"$f":"Endbetrag!$D$5*(1+Endbetrag!$D$6)^(B741-1)","v":13386.605616530873},0,0,{"$f":"F741*Endbetrag!$F$7","v":0},0,""]
[738,62,0,{"$f":"Endbetrag!$D$5*(1+Endbetrag!$D$6)^(B742-1)","v":13386.605616530873},0,0,{"$f":"F742*Endbetrag!$F$7","v":0},0,""]
[739,62,0,{"$f":"Endbetrag!$D$5*(1+Endbetrag!$D$6)^(B743-1)","v":13386.605616530873},0,0,{"$f":"F743*Endbetrag!$F$7","v":0},0,""]
[740,62,0,{"$f":"Endbetrag!$D$5*(1+Endbetrag!$D$6)^(B744-1)","v":13386.605616530873},0,0,{"$f":"F744*Endbetrag!$F$7","v":0},0,""]
[741,62,0,{"$f":"Endbetrag!$D$5*(1+Endbetrag!$D$6)^(B745-1)","v":13386.605616530873},0,0,{"$f":"F745*Endbetrag!$F$7","v":0},0,""]
[742,62,0,{"$f":"Endbetrag!$D$5*(1+Endbetrag!$D$6)^(B746-1)","v":13386.605616530873},0,0,{"$f":"F746*Endbetrag!$F$7","v":0},0,""]
[743,62,0,{"$f":"Endbetrag!$D$5*(1+Endbetrag!$D$6)^(B747-1)","v":13386.605616530873},0,0,{"$f":"F747*Endbetrag!$F$7","v":0},0,""]
[744,63,0,{"$f":"Endbetrag!$D$5*(1+Endbetrag!$D$6)^(B748-1)","v":13654.33772886149},0,0,{"$f":"F748*Endbetrag!$F$7","v":0},0,""]
[745,63,0,{"$f":"Endbetrag!$D$5*(1+Endbetrag!$D$6)^(B749-1)","v":13654.33772886149},0,0,{"$f":"F749*Endbetrag!$F$7","v":0},0,""]
[746,63,0,{"$f":"Endbetrag!$D$5*(1+Endbetrag!$D$6)^(B750-1)","v":13654.33772886149},0,0,{"$f":"F750*Endbetrag!$F$7","v":0},0,""]
[747,63,0,{"$f":"Endbetrag!$D$5*(1+Endbetrag!$D$6)^(B751-1)","v":13654.33772886149},0,0,{"$f":"F751*Endbetrag!$F$7","v":0},0,""]
[748,63,0,{"$f":"Endbetrag!$D$5*(1+Endbetrag!$D$6)^(B752-1)","v":13654.33772886149},0,0,{"$f":"F752*Endbetrag!$F$7","v":0},0,""]
[749,63,0,{"$f":"Endbetrag!$D$5*(1+Endbetrag!$D$6)^(B753-1)","v":13654.33772886149},0,0,{"$f":"F753*Endbetrag!$F$7","v":0},0,""]
[750,63,0,{"$f":"Endbetrag!$D$5*(1+Endbetrag!$D$6)^(B754-1)","v":13654.33772886149},0,0,{"$f":"F754*Endbetrag!$F$7","v":0},0,""]
[751,63,0,{"$f":"Endbetrag!$D$5*(1+Endbetrag!$D$6)^(B755-1)","v":13654.33772886149},0,0,{"$f":"F755*Endbetrag!$F$7","v":0},0,""]
[752,63,0,{"$f":"Endbetrag!$D$5*(1+Endbetrag!$D$6)^(B756-1)","v":13654.33772886149},0,0,{"$f":"F756*Endbetrag!$F$7","v":0},0,""]
[753,63,0,{"$f":"Endbetrag!$D$5*(1+Endbetrag!$D$6)^(B757-1)","v":13654.33772886149},0,0,{"$f":"F757*Endbetrag!$F$7","v":0},0,""]
[754,63,0,{"$f":"Endbetrag!$D$5*(1+Endbetrag!$D$6)^(B758-1)","v":13654.33772886149},0,0,{"$f":"F758*Endbetrag!$F$7","v":0},0,""]
[755,63,0,{"$f":"Endbetrag!$D$5*(1+Endbetrag!$D$6)^(B759-1)","v":13654.33772886149},0,0,{"$f":"F759*Endbetrag!$F$7","v":0},0,""]
[756,64,0,{"$f":"Endbetrag!$D$5*(1+Endbetrag!$D$6)^(B760-1)","v":13927.424483438717},0,0,{"$f":"F760*Endbetrag!$F$7","v":0},0,""]
[757,64,0,{"$f":"Endbetrag!$D$5*(1+Endbetrag!$D$6)^(B761-1)","v":13927.424483438717},0,0,{"$f":"F761*Endbetrag!$F$7","v":0},0,""]
[758,64,0,{"$f":"Endbetrag!$D$5*(1+Endbetrag!$D$6)^(B762-1)","v":13927.424483438717},0,0,{"$f":"F762*Endbetrag!$F$7","v":0},0,""]
[759,64,0,{"$f":"Endbetrag!$D$5*(1+Endbetrag!$D$6)^(B763-1)","v":13927.424483438717},0,0,{"$f":"F763*Endbetrag!$F$7","v":0},0,""]
[760,64,0,{"$f":"Endbetrag!$D$5*(1+Endbetrag!$D$6)^(B764-1)","v":13927.424483438717},0,0,{"$f":"F764*Endbetrag!$F$7","v":0},0,""]
[761,64,0,{"$f":"Endbetrag!$D$5*(1+Endbetrag!$D$6)^(B765-1)","v":13927.424483438717},0,0,{"$f":"F765*Endbetrag!$F$7","v":0},0,""]
[762,64,0,{"$f":"Endbetrag!$D$5*(1+Endbetrag!$D$6)^(B766-1)","v":13927.424483438717},0,0,{"$f":"F766*Endbetrag!$F$7","v":0},0,""]
[763,64,0,{"$f":"Endbetrag!$D$5*(1+Endbetrag!$D$6)^(B767-1)","v":13927.424483438717},0,0,{"$f":"F767*Endbetrag!$F$7","v":0},0,""]
[764,64,0,{"$f":"Endbetrag!$D$5*(1+Endbetrag!$D$6)^(B768-1)","v":13927.424483438717},0,0,{"$f":"F768*Endbetrag!$F$7","v":0},0,""]
[765,64,0,{"$f":"Endbetrag!$D$5*(1+Endbetrag!$D$6)^(B769-1)","v":13927.424483438717},0,0,{"$f":"F769*Endbetrag!$F$7","v":0},0,""]
[766,64,0,{"$f":"Endbetrag!$D$5*(1+Endbetrag!$D$6)^(B770-1)","v":13927.424483438717},0,0,{"$f":"F770*Endbetrag!$F$7","v":0},0,""]
[767,64,0,{"$f":"Endbetrag!$D$5*(1+Endbetrag!$D$6)^(B771-1)","v":13927.424483438717},0,0,{"$f":"F771*Endbetrag!$F$7","v":0},0,""]
[768,{"$f":"INT(A772/12)+1","v":65},0,{"$f":"Endbetrag!$D$5*(1+Endbetrag!$D$6)^(B772-1)","v":14205.972973107495},{"$f":"MIN(D772,C772)","v":0},{"$f":"C772-E772","v":0},{"$f":"F772*Endbetrag!$F$7","v":0},{"$f":"MAX(0,F772+G772)","v":0},{"$f":"IF(H772>0,A772,\"\")","v":""}]
[769,65,{"$f":"H772","v":0},{"$f":"Endbetrag!$D$5*(1+Endbetrag!$D$6)^(B773-1)","v":14205.972973107495},0,0,{"$f":"F773*Endbetrag!$F$7","v":0},0,""]
[770,65,0,{"$f":"Endbetrag!$D$5*(1+Endbetrag!$D$6)^(B774-1)","v":14205.972973107495},0,0,{"$f":"F774*Endbetrag!$F$7","v":0},0,""]
[771,65,0,{"$f":"Endbetrag!$D$5*(1+Endbetrag!$D$6)^(B775-1)","v":14205.972973107495},0,0,{"$f":"F775*Endbetrag!$F$7","v":0},0,""]
[772,65,0,{"$f":"Endbetrag!$D$5*(1+Endbetrag!$D$6)^(B776-1)","v":14205.972973107495},0,0,{"$f":"F776*Endbetrag!$F$7","v":0},0,""]
[773,65,0,{"$f":"Endbetrag!$D$5*(1+Endbetrag!$D$6)^(B777-1)","v":14205.972973107495},0,0,{"$f":"F777*Endbetrag!$F$7","v":0},0,""]
[774,65,0,{"$f":"Endbetrag!$D$5*(1+Endbetrag!$D$6)^(B778-1)","v":14205.972973107495},0,0,{"$f":"F778*Endbetrag!$F$7","v":0},0,""]
[775,65,0,{"$f":"Endbetrag!$D$5*(1+Endbetrag!$D$6)^(B779-1)","v":14205.972973107495},0,0,{"$f":"F779*Endbetrag!$F$7","v":0},0,""]
[776,65,0,{"$f":"Endbetrag!$D$5*(1+Endbetrag!$D$6)^(B780-1)","v":14205.972973107495},0,0,{"$f":"F780*Endbetrag!$F$7","v":0},0,""]
[777,65,0,{"$f":"Endbetrag!$D$5*(1+Endbetrag!$D$6)^(B781-1)","v":14205.972973107495},0,0,{"$f":"F781*Endbetrag!$F$7","v":0},0,""]
[778,65,0,{"$f":"Endbetrag!$D$5*(1+Endbetrag!$D$6)^(B782-1)","v":14205.972973107495},0,0,{"$f":"F782*Endbetrag!$F$7","v":0},0,""]
[779,65,0,{"$f":"Endbetrag!$D$5*(1+Endbetrag!$D$6)^(B783-1)","v":14205.972973107495},0,0,{"$f":"F783*Endbetrag!$F$7","v":0},0,""]
[780,66,0,{"$f":"Endbetrag!$D$5*(1+Endbetrag!$D$6)^(B784-1)","v":14490.092432569645},0,0,{"$f":"F784*Endbetrag!$F$7","v":0},0,""]
[781,66,0,{"$f":"Endbetrag!$D$5*(1+Endbetrag!$D$6)^(B785-1)","v":14490.092432569645},0,0,{"$f":"F785*Endbetrag!$F$7","v":0},0,""]
[782,66,0,{"$f":"Endbetrag!$D$5*(1+Endbetrag!$D$6)^(B786-1)","v":14490.092432569645},0,0,{"$f":"F786*Endbetrag!$F$7","v":0},0,""]
[783,66,0,{"$f":"Endbetrag!$D$5*(1+Endbetrag!$D$6)^(B787-1)","v":14490.092432569645},0,0,{"$f":"F787*Endbetrag!$F$7","v":0},0,""]
[784,66,0,{"$f":"Endbetrag!$D$5*(1+Endbetrag!$D$6)^(B788-1)","v":14490.092432569645},0,0,{"$f":"F788*Endbetrag!$F$7","v":0},0,""]
[785,66,0,{"$f":"Endbetrag!$D$5*(1+Endbetrag!$D$6)^(B789-1)","v":14490.092432569645},0,0,{"$f":"F789*Endbetrag!$F$7","v":0},0,""]
[786,66,0,{"$f":"Endbetrag!$D$5*(1+Endbetrag!$D$6)^(B790-1)","v":14490.092432569645},0,0,{"$f":"F790*Endbetrag!$F$7","v":0},0,""]
[787,66,0,{"$f":"Endbetrag!$D$5*(1+Endbetrag!$D$6)^(B791-1)","v":14490.092432569645},0,0,{"$f":"F791*Endbetrag!$F$7","v":0},0,""]
[788,66,0,{"$f":"Endbetrag!$D$5*(1+Endbetrag!$D$6)^(B792-1)","v":14490.092432569645},0,0,{"$f":"F792*Endbetrag!$F$7","v":0},0,""]
[789,66,0,{"$f":"Endbetrag!$D$5*(1+Endbetrag!$D$6)^(B793-1)","v":14490.092432569645},0,0,{"$f":"F793*Endbetrag!$F$7","v":0},0,""]
[790,66,0,{"$f":"Endbetrag!$D$5*(1+Endbetrag!$D$6)^(B794-1)","v":14490.092432569645},0,0,{"$f":"F794*Endbetrag!$F$7","v":0},0,""]
[791,66,0,{"$f":"Endbetrag!$D$5*(1+Endbetrag!$D$6)^(B795-1)","v":14490.092432569645},0,0,{"$f":"F795*Endbetrag!$F$7","v":0},0,""]
[792,67,0,{"$f":"Endbetrag!$D$5*(1+Endbetrag!$D$6)^(B796-1)","v":14779.894281221037},0,0,{"$f":"F796*Endbetrag!$F$7","v":0},0,""]
[793,67,0,{"$f":"Endbetrag!$D$5*(1+Endbetrag!$D$6)^(B797-1)","v":14779.894281221037},0,0,{"$f":"F797*Endbetrag!$F$7","v":0},0,""]
[794,67,0,{"$f":"Endbetrag!$D$5*(1+Endbetrag!$D$6)^(B798-1)","v":14779.894281221037},0,0,{"$f":"F798*Endbetrag!$F$7","v":0},0,""]
[795,67,0,{"$f":"Endbetrag!$D$5*(1+Endbetrag!$D$6)^(B799-1)","v":14779.894281221037},0,0,{"$f":"F799*Endbetrag!$F$7","v":0},0,""]
[796,67,0,{"$f":"Endbetrag!$D$5*(1+Endbetrag!$D$6)^(B800-1)","v":14779.894281221037},0,0,{"$f":"F800*Endbetrag!$F$7","v":0},0,""]
[797,67,0,{"$f":"Endbetrag!$D$5*(1+Endbetrag!$D$6)^(B801-1)","v":14779.894281221037},0,0,{"$f":"F801*Endbetrag!$F$7","v":0},0,""]
[798,67,0,{"$f":"Endbetrag!$D$5*(1+Endbetrag!$D$6)^(B802-1)","v":14779.894281221037},0,0,{"$f":"F802*Endbetrag!$F$7","v":0},0,""]
[799,67,0,{"$f":"Endbetrag!$D$5*(1+Endbetrag!$D$6)^(B803-1)","v":14779.894281221037},0,0,{"$f":"F803*Endbetrag!$F$7","v":0},0,""]
[800,67,0,{"$f":"Endbetrag!$D$5*(1+Endbetrag!$D$6)^(B804-1)","v":14779.894281221037},0,0,{"$f":"F804*Endbetrag!$F$7","v":0},0,""]
[801,67,0,{"$f":"Endbetrag!$D$5*(1+Endbetrag!$D$6)^(B805-1)","v":14779.894281221037},0,0,{"$f":"F805*Endbetrag!$F$7","v":0},0,""]
[802,67,0,{"$f":"Endbetrag!$D$5*(1+Endbetrag!$D$6)^(B806-1)","v":14779.894281221037},0,0,{"$f":"F806*Endbetrag!$F$7","v":0},0,""]
[803,67,0,{"$f":"Endbetrag!$D$5*(1+Endbetrag!$D$6)^(B807-1)","v":14779.894281221037},0,0,{"$f":"F807*Endbetrag!$F$7","v":0},0,""]
[804,68,0,{"$f":"Endbetrag!$D$5*(1+Endbetrag!$D$6)^(B808-1)","v":15075.492166845457},0,0,{"$f":"F808*Endbetrag!$F$7","v":0},0,""]
[805,68,0,{"$f":"Endbetrag!$D$5*(1+Endbetrag!$D$6)^(B809-1)","v":15075.492166845457},0,0,{"$f":"F809*Endbetrag!$F$7","v":0},0,""]
[806,68,0,{"$f":"Endbetrag!$D$5*(1+Endbetrag!$D$6)^(B810-1)","v":15075.492166845457},0,0,{"$f":"F810*Endbetrag!$F$7","v":0},0,""]
[807,68,0,{"$f":"Endbetrag!$D$5*(1+Endbetrag!$D$6)^(B811-1)","v":15075.492166845457},0,0,{"$f":"F811*Endbetrag!$F$7","v":0},0,""]
[808,68,0,{"$f":"Endbetrag!$D$5*(1+Endbetrag!$D$6)^(B812-1)","v":15075.492166845457},0,0,{"$f":"F812*Endbetrag!$F$7","v":0},0,""]
[809,68,0,{"$f":"Endbetrag!$D$5*(1+Endbetrag!$D$6)^(B813-1)","v":15075.492166845457},0,0,{"$f":"F813*Endbetrag!$F$7","v":0},0,""]
[810,68,0,{"$f":"Endbetrag!$D$5*(1+Endbetrag!$D$6)^(B814-1)","v":15075.492166845457},0,0,{"$f":"F814*Endbetrag!$F$7","v":0},0,""]
[811,68,0,{"$f":"Endbetrag!$D$5*(1+Endbetrag!$D$6)^(B815-1)","v":15075.492166845457},0,0,{"$f":"F815*Endbetrag!$F$7","v":0},0,""]
[812,68,0,{"$f":"Endbetrag!$D$5*(1+Endbetrag!$D$6)^(B816-1)","v":15075.492166845457},0,0,{"$f":"F816*Endbetrag!$F$7","v":0},0,""]
[813,68,0,{"$f":"Endbetrag!$D$5*(1+Endbetrag!$D$6)^(B817-1)","v":15075.492166845457},0,0,{"$f":"F817*Endbetrag!$F$7","v":0},0,""]
[814,68,0,{"$f":"Endbetrag!$D$5*(1+Endbetrag!$D$6)^(B818-1)","v":15075.492166845457},0,0,{"$f":"F818*Endbetrag!$F$7","v":0},0,""]
[815,68,0,{"$f":"Endbetrag!$D$5*(1+Endbetrag!$D$6)^(B819-1)","v":15075.492166845457},0,0,{"$f":"F819*Endbetrag!$F$7","v":0},0,""]
[816,69,0,{"$f":"Endbetrag!$D$5*(1+Endbetrag!$D$6)^(B820-1)","v":15377.002010182367},0,0,{"$f":"F820*Endbetrag!$F$7","v":0},0,""]
[817,69,0,{"$f":"Endbetrag!$D$5*(1+Endbetrag!$D$6)^(B821-1)","v":15377.002010182367},0,0,{"$f":"F821*Endbetrag!$F$7","v":0},0,""]
[818,69,0,{"$f":"Endbetrag!$D$5*(1+Endbetrag!$D$6)^(B822-1)","v":15377.002010182367},0,0,{"$f":"F822*Endbetrag!$F$7","v":0},0,""]
[819,69,0,{"$f":"Endbetrag!$D$5*(1+Endbetrag!$D$6)^(B823-1)","v":15377.002010182367},0,0,{"$f":"F823*Endbetrag!$F$7","v":0},0,""]
[820,69,0,{"$f":"Endbetrag!$D$5*(1+Endbetrag!$D$6)^(B824-1)","v":15377.002010182367},0,0,{"$f":"F824*Endbetrag!$F$7","v":0},0,""]
[821,69,0,{"$f":"Endbetrag!$D$5*(1+Endbetrag!$D$6)^(B825-1)","v":15377.002010182367},0,0,{"$f":"F825*Endbetrag!$F$7","v":0},0,""]
[822,69,0,{"$f":"Endbetrag!$D$5*(1+Endbetrag!$D$6)^(B826-1)","v":15377.002010182367},0,0,{"$f":"F826*Endbetrag!$F$7","v":0},0,""]
[823,69,0,{"$f":"Endbetrag!$D$5*(1+Endbetrag!$D$6)^(B827-1)","v":15377.002010182367},0,0,{"$f":"F827*Endbetrag!$F$7","v":0},0,""]
[824,69,0,{"$f":"Endbetrag!$D$5*(1+Endbetrag!$D$6)^(B828-1)","v":15377.002010182367},0,0,{"$f":"F828*Endbetrag!$F$7","v":0},0,""]
[825,69,0,{"$f":"Endbetrag!$D$5*(1+Endbetrag!$D$6)^(B829-1)","v":15377.002010182367},0,0,{"$f":"F829*Endbetrag!$F$7","v":0},0,""]
[826,69,0,{"$f":"Endbetrag!$D$5*(1+Endbetrag!$D$6)^(B830-1)","v":15377.002010182367},0,0,{"$f":"F830*Endbetrag!$F$7","v":0},0,""]
[827,69,0,{"$f":"Endbetrag!$D$5*(1+Endbetrag!$D$6)^(B831-1)","v":15377.002010182367},0,0,{"$f":"F831*Endbetrag!$F$7","v":0},0,""]
[828,70,0,{"$f":"Endbetrag!$D$5*(1+Endbetrag!$D$6)^(B832-1)","v":15684.542050386013},0,0,{"$f":"F832*Endbetrag!$F$7","v":0},0,""]
[829,70,0,{"$f":"Endbetrag!$D$5*(1+Endbetrag!$D$6)^(B833-1)","v":15684.542050386013},0,0,{"$f":"F833*Endbetrag!$F$7","v":0},0,""]
[830,70,0,{"$f":"Endbetrag!$D$5*(1+Endbetrag!$D$6)^(B834-1)","v":15684.542050386013},0,0,{"$f":"F834*Endbetrag!$F$7","v":0},0,""]
[831,70,0,{"$f":"Endbetrag!$D$5*(1+Endbetrag!$D$6)^(B835-1)","v":15684.542050386013},0,0,{"$f":"F835*Endbetrag!$F$7","v":0},0,""]
[832,{"$f":"INT(A836/12)+1","v":70},0,{"$f":"Endbetrag!$D$5*(1+Endbetrag!$D$6)^(B836-1)","v":15684.542050386013},{"$f":"MIN(D836,C836)","v":0},{"$f":"C836-E836","v":0},{"$f":"F836*Endbetrag!$F$7","v":0},{"$f":"MAX(0,F836+G836)","v":0},{"$f":"IF(H836>0,A836,\"\")","v":""}]
[833,70,{"$f":"H836","v":0},{"$f":"Endbetrag!$D$5*(1+Endbetrag!$D$6)^(B837-1)","v":15684.542050386013},0,0,{"$f":"F837*Endbetrag!$F$7","v":0},0,""]
[834,70,0,{"$f":"Endbetrag!$D$5*(1+Endbetrag!$D$6)^(B838-1)","v":15684.542050386013},0,0,{"$f":"F838*Endbetrag!$F$7","v":0},0,""]
[835,70,0,{"$f":"Endbetrag!$D$5*(1+Endbetrag!$D$6)^(B839-1)","v":15684.542050386013},0,0,{"$f":"F839*Endbetrag!$F$7","v":0},0,""]
[836,70,0,{"$f":"Endbetrag!$D$5*(1+Endbetrag!$D$6)^(B840-1)","v":15684.542050386013},0,0,{"$f":"F840*Endbetrag!$F$7","v":0},0,""]
[837,70,0,{"$f":"Endbetrag!$D$5*(1+Endbetrag!$D$6)^(B841-1)","v":15684.542050386013},0,0,{"$f":"F841*Endbetrag!$F$7","v":0},0,""]
[838,70,0,{"$f":"Endbetrag!$D$5*(1+Endbetrag!$D$6)^(B842-1)","v":15684.542050386013},0,0,{"$f":"F842*Endbetrag!$F$7","v":0},0,""]
[839,70,0,{"$f":"Endbetrag!$D$5*(1+Endbetrag!$D$6)^(B843-1)","v":15684.542050386013},0,0,{"$f":"F843*Endbetrag!$F$7","v":0},0,""]
[840,71,0,{"$f":"Endbetrag!$D$5*(1+Endbetrag!$D$6)^(B844-1)","v":15998.232891393736},0,0,{"$f":"F844*Endbetrag!$F$7","v":0},0,""]
[841,71,0,{"$f":"Endbetrag!$D$5*(1+Endbetrag!$D$6)^(B845-1)","v":15998.232891393736},0,0,{"$f":"F845*Endbetrag!$F$7","v":0},0,""]
[842,71,0,{"$f":"Endbetrag!$D$5*(1+Endbetrag!$D$6)^(B846-1)","v":15998.232891393736},0,0,{"$f":"F846*Endbetrag!$F$7","v":0},0,""]
[843,71,0,{"$f":"Endbetrag!$D$5*(1+Endbetrag!$D$6)^(B847-1)","v":15998.232891393736},0,0,{"$f":"F847*Endbetrag!$F$7","v":0},0,""]
[844,71,0,{"$f":"Endbetrag!$D$5*(1+Endbetrag!$D$6)^(B848-1)","v":15998.232891393736},0,0,{"$f":"F848*Endbetrag!$F$7","v":0},0,""]
[845,71,0,{"$f":"Endbetrag!$D$5*(1+Endbetrag!$D$6)^(B849-1)","v":15998.232891393736},0,0,{"$f":"F849*Endbetrag!$F$7","v":0},0,""]
[846,71,0,{"$f":"Endbetrag!$D$5*(1+Endbetrag!$D$6)^(B850-1)","v":15998.232891393736},0,0,{"$f":"F850*Endbetrag!$F$7","v":0},0,""]
[847,71,0,{"$f":"Endbetrag!$D$5*(1+Endbetrag!$D$6)^(B851-1)","v":15998.232891393736},0,0,{"$f":"F851*Endbetrag!$F$7","v":0},0,""]
[848,71,0,{"$f":"Endbetrag!$D$5*(1+Endbetrag!$D$6)^(B852-1)","v":15998.232891393736},0,0,{"$f":"F852*Endbetrag!$F$7","v":0},0,""]
[849,71,0,{"$f":"Endbetrag!$D$5*(1+Endbetrag!$D$6)^(B853-1)","v":15998.232891393736},0,0,{"$f":"F853*Endbetrag!$F$7","v":0},0,""]
[850,71,0,{"$f":"Endbetrag!$D$5*(1+Endbetrag!$D$6)^(B854-1)","v":15998.232891393736},0,0,{"$f":"F854*Endbetrag!$F$7","v":0},0,""]
[851,71,0,{"$f":"Endbetrag!$D$5*(1+Endbetrag!$D$6)^(B855-1)","v":15998.232891393736},0,0,{"$f":"F855*Endbetrag!$F$7","v":0},0,""]
[852,72,0,{"$f":"Endbetrag!$D$5*(1+Endbetrag!$D$6)^(B856-1)","v":16318.197549221608},0,0,{"$f":"F856*Endbetrag!$F$7","v":0},0,""]
[853,72,0,{"$f":"Endbetrag!$D$5*(1+Endbetrag!$D$6)^(B857-1)","v":16318.197549221608},0,0,{"$f":"F857*Endbetrag!$F$7","v":0},0,""]
[854,72,0,{"$f":"Endbetrag!$D$5*(1+Endbetrag!$D$6)^(B858-1)","v":16318.197549221608},0,0,{"$f":"F858*Endbetrag!$F$7","v":0},0,""]
[855,72,0,{"$f":"Endbetrag!$D$5*(1+Endbetrag!$D$6)^(B859-1)","v":16318.197549221608},0,0,{"$f":"F859*Endbetrag!$F$7","v":0},0,""]
[856,72,0,{"$f":"Endbetrag!$D$5*(1+Endbetrag!$D$6)^(B860-1)","v":16318.197549221608},0,0,{"$f":"F860*Endbetrag!$F$7","v":0},0,""]
[857,72,0,{"$f":"Endbetrag!$D$5*(1+Endbetrag!$D$6)^(B861-1)","v":16318.197549221608},0,0,{"$f":"F861*Endbetrag!$F$7","v":0},0,""]
[858,72,0,{"$f":"Endbetrag!$D$5*(1+Endbetrag!$D$6)^(B862-1)","v":16318.197549221608},0,0,{"$f":"F862*Endbetrag!$F$7","v":0},0,""]
[859,72,0,{"$f":"Endbetrag!$D$5*(1+Endbetrag!$D$6)^(B863-1)","v":16318.197549221608},0,0,{"$f":"F863*Endbetrag!$F$7","v":0},0,""]
[860,72,0,{"$f":"Endbetrag!$D$5*(1+Endbetrag!$D$6)^(B864-1)","v":16318.197549221608},0,0,{"$f":"F864*Endbetrag!$F$7","v":0},0,""]
[861,72,0,{"$f":"Endbetrag!$D$5*(1+Endbetrag!$D$6)^(B865-1)","v":16318.197549221608},0,0,{"$f":"F865*Endbetrag!$F$7","v":0},0,""]
[862,72,0,{"$f":"Endbetrag!$D$5*(1+Endbetrag!$D$6)^(B866-1)","v":16318.197549221608},0,0,{"$f":"F866*Endbetrag!$F$7","v":0},0,""]
[863,72,0,{"$f":"Endbetrag!$D$5*(1+Endbetrag!$D$6)^(B867-1)","v":16318.197549221608},0,0,{"$f":"F867*Endbetrag!$F$7","v":0},0,""]
[864,73,0,{"$f":"Endbetrag!$D$5*(1+Endbetrag!$D$6)^(B868-1)","v":16644.56150020604},0,0,{"$f":"F868*Endbetrag!$F$7","v":0},0,""]
[865,73,0,{"$f":"Endbetrag!$D$5*(1+Endbetrag!$D$6)^(B869-1)","v":16644.56150020604},0,0,{"$f":"F869*Endbetrag!$F$7","v":0},0,""]
[866,73,0,{"$f":"Endbetrag!$D$5*(1+Endbetrag!$D$6)^(B870-1)","v":16644.56150020604},0,0,{"$f":"F870*Endbetrag!$F$7","v":0},0,""]
[867,73,0,{"$f":"Endbetrag!$D$5*(1+Endbetrag!$D$6)^(B871-1)","v":16644.56150020604},0,0,{"$f":"F871*Endbetrag!$F$7","v":0},0,""]
[868,73,0,{"$f":"Endbetrag!$D$5*(1+Endbetrag!$D$6)^(B872-1)","v":16644.56150020604},0,0,{"$f":"F872*Endbetrag!$F$7","v":0},0,""]
[869,73,0,{"$f":"Endbetrag!$D$5*(1+Endbetrag!$D$6)^(B873-1)","v":16644.56150020604},0,0,{"$f":"F873*Endbetrag!$F$7","v":0},0,""]
[870,73,0,{"$f":"Endbetrag!$D$5*(1+Endbetrag!$D$6)^(B874-1)","v":16644.56150020604},0,0,{"$f":"F874*Endbetrag!$F$7","v":0},0,""]
[871,73,0,{"$f":"Endbetrag!$D$5*(1+Endbetrag!$D$6)^(B875-1)","v":16644.56150020604},0,0,{"$f":"F875*Endbetrag!$F$7","v":0},0,""]
[872,73,0,{"$f":"Endbetrag!$D$5*(1+Endbetrag!$D$6)^(B876-1)","v":16644.56150020604},0,0,{"$f":"F876*Endbetrag!$F$7","v":0},0,""]
[873,73,0,{"$f":"Endbetrag!$D$5*(1+Endbetrag!$D$6)^(B877-1)","v":16644.56150020604},0,0,{"$f":"F877*Endbetrag!$F$7","v":0},0,""]
[874,73,0,{"$f":"Endbetrag!$D$5*(1+Endbetrag!$D$6)^(B878-1)","v":16644.56150020604},0,0,{"$f":"F878*Endbetrag!$F$7","v":0},0,""]
[875,73,0,{"$f":"Endbetrag!$D$5*(1+Endbetrag!$D$6)^(B879-1)","v":16644.56150020604},0,0,{"$f":"F879*Endbetrag!$F$7","v":0},0,""]
[876,74,0,{"$f":"Endbetrag!$D$5*(1+Endbetrag!$D$6)^(B880-1)","v":16977.45273021016},0,0,{"$f":"F880*Endbetrag!$F$7","v":0},0,""]
[877,74,0,{"$f":"Endbetrag!$D$5*(1+Endbetrag!$D$6)^(B881-1)","v":16977.45273021016},0,0,{"$f":"F881*Endbetrag!$F$7","v":0},0,""]
[878,74,0,{"$f":"Endbetrag!$D$5*(1+Endbetrag!$D$6)^(B882-1)","v":16977.45273021016},0,0,{"$f":"F882*Endbetrag!$F$7","v":0},0,""]
[879,74,0,{"$f":"Endbetrag!$D$5*(1+Endbetrag!$D$6)^(B883-1)","v":16977.45273021016},0,0,{"$f":"F883*Endbetrag!$F$7","v":0},0,""]
[880,74,0,{"$f":"Endbetrag!$D$5*(1+Endbetrag!$D$6)^(B884-1)","v":16977.45273021016},0,0,{"$f":"F884*Endbetrag!$F$7","v":0},0,""]
[881,74,0,{"$f":"Endbetrag!$D$5*(1+Endbetrag!$D$6)^(B885-1)","v":16977.45273021016},0,0,{"$f":"F885*Endbetrag!$F$7","v":0},0,""]
[882,74,0,{"$f":"Endbetrag!$D$5*(1+Endbetrag!$D$6)^(B886-1)","v":16977.45273021016},0,0,{"$f":"F886*Endbetrag!$F$7","v":0},0,""]
[883,74,0,{"$f":"Endbetrag!$D$5*(1+Endbetrag!$D$6)^(B887-1)","v":16977.45273021016},0,0,{"$f":"F887*Endbetrag!$F$7","v":0},0,""]
[884,74,0,{"$f":"Endbetrag!$D$5*(1+Endbetrag!$D$6)^(B888-1)","v":16977.45273021016},0,0,{"$f":"F888*Endbetrag!$F$7","v":0},0,""]
[885,74,0,{"$f":"Endbetrag!$D$5*(1+Endbetrag!$D$6)^(B889-1)","v":16977.45273021016},0,0,{"$f":"F889*Endbetrag!$F$7","v":0},0,""]
[886,74,0,{"$f":"Endbetrag!$D$5*(1+Endbetrag!$D$6)^(B890-1)","v":16977.45273021016},0,0,{"$f":"F890*Endbetrag!$F$7","v":0},0,""]
[887,74,0,{"$f":"Endbetrag!$D$5*(1+Endbetrag!$D$6)^(B891-1)","v":16977.45273021016},0,0,{"$f":"F891*Endbetrag!$F$7","v":0},0,""]
[888,75,0,{"$f":"Endbetrag!$D$5*(1+Endbetrag!$D$6)^(B892-1)","v":17317.001784814365},0,0,{"$f":"F892*Endbetrag!$F$7","v":0},0,""]
[889,75,0,{"$f":"Endbetrag!$D$5*(1+Endbetrag!$D$6)^(B893-1)","v":17317.001784814365},0,0,{"$f":"F893*Endbetrag!$F$7","v":0},0,""]
[890,75,0,{"$f":"Endbetrag!$D$5*(1+Endbetrag!$D$6)^(B894-1)","v":17317.001784814365},0,0,{"$f":"F894*Endbetrag!$F$7","v":0},0,""]
[891,75,0,{"$f":"Endbetrag!$D$5*(1+Endbetrag!$D$6)^(B895-1)","v":17317.001784814365},0,0,{"$f":"F895*Endbetrag!$F$7","v":0},0,""]
[892,75,0,{"$f":"Endbetrag!$D$5*(1+Endbetrag!$D$6)^(B896-1)","v":17317.001784814365},0,0,{"$f":"F896*Endbetrag!$F$7","v":0},0,""]
[893,75,0,{"$f":"Endbetrag!$D$5*(1+Endbetrag!$D$6)^(B897-1)","v":17317.001784814365},0,0,{"$f":"F897*Endbetrag!$F$7","v":0},0,""]
[894,75,0,{"$f":"Endbetrag!$D$5*(1+Endbetrag!$D$6)^(B898-1)","v":17317.001784814365},0,0,{"$f":"F898*Endbetrag!$F$7","v":0},0,""]
[895,75,0,{"$f":"Endbetrag!$D$5*(1+Endbetrag!$D$6)^(B899-1)","v":17317.001784814365},0,0,{"$f":"F899*Endbetrag!$F$7","v":0},0,""]
[896,{"$f":"INT(A900/12)+1","v":75},0,{"$f":"Endbetrag!$D$5*(1+Endbetrag!$D$6)^(B900-1)","v":17317.001784814365},{"$f":"MIN(D900,C900)","v":0},{"$f":"C900-E900","v":0},{"$f":"F900*Endbetrag!$F$7","v":0},{"$f":"MAX(0,F900+G900)","v":0},{"$f":"IF(H900>0,A900,\"\")","v":""}]
[897,75,{"$f":"H900","v":0},{"$f":"Endbetrag!$D$5*(1+Endbetrag!$D$6)^(B901-1)","v":17317.001784814365},0,0,{"$f":"F901*Endbetrag!$F$7","v":0},0,""]
[898,75,0,{"$f":"Endbetrag!$D$5*(1+Endbetrag!$D$6)^(B902-1)","v":17317.001784814365},0,0,{"$f":"F902*Endbetrag!$F$7","v":0},0,""]
[899,75,0,{"$f":"Endbetrag!$D$5*(1+Endbetrag!$D$6)^(B903-1)","v":17317.001784814365},0,0,{"$f":"F903*Endbetrag!$F$7","v":0},0,""]
[900,76,0,{"$f":"Endbetrag!$D$5*(1+Endbetrag!$D$6)^(B904-1)","v":17663.34182051065},0,0,{"$f":"F904*Endbetrag!$F$7","v":0},0,""]
[901,76,0,{"$f":"Endbetrag!$D$5*(1+Endbetrag!$D$6)^(B905-1)","v":17663.34182051065},0,0,{"$f":"F905*Endbetrag!$F$7","v":0},0,""]
[902,76,0,{"$f":"Endbetrag!$D$5*(1+Endbetrag!$D$6)^(B906-1)","v":17663.34182051065},0,0,{"$f":"F906*Endbetrag!$F$7","v":0},0,""]
[903,76,0,{"$f":"Endbetrag!$D$5*(1+Endbetrag!$D$6)^(B907-1)","v":17663.34182051065},0,0,{"$f":"F907*Endbetrag!$F$7","v":0},0,""]
[904,76,0,{"$f":"Endbetrag!$D$5*(1+Endbetrag!$D$6)^(B908-1)","v":17663.34182051065},0,0,{"$f":"F908*Endbetrag!$F$7","v":0},0,""]
[905,76,0,{"$f":"Endbetrag!$D$5*(1+Endbetrag!$D$6)^(B909-1)","v":17663.34182051065},0,0,{"$f":"F909*Endbetrag!$F$7","v":0},0,""]
[906,76,0,{"$f":"Endbetrag!$D$5*(1+Endbetrag!$D$6)^(B910-1)","v":17663.34182051065},0,0,{"$f":"F910*Endbetrag!$F$7","v":0},0,""]
[907,76,0,{"$f":"Endbetrag!$D$5*(1+Endbetrag!$D$6)^(B911-1)","v":17663.34182051065},0,0,{"$f":"F911*Endbetrag!$F$7","v":0},0,""]
[908,76,0,{"$f":"Endbetrag!$D$5*(1+Endbetrag!$D$6)^(B912-1)","v":17663.34182051065},0,0,{"$f":"F912*Endbetrag!$F$7","v":0},0,""]
[909,76,0,{"$f":"Endbetrag!$D$5*(1+Endbetrag!$D$6)^(B913-1)","v":17663.34182051065},0,0,{"$f":"F913*Endbetrag!$F$7","v":0},0,""]
[910,76,0,{"$f":"Endbetrag!$D$5*(1+Endbetrag!$D$6)^(B914-1)","v":17663.34182051065},0,0,{"$f":"F914*Endbetrag!$F$7","v":0},0,""]
[911,76,0,{"$f":"Endbetrag!$D$5*(1+Endbetrag!$D$6)^(B915-1)","v":17663.34182051065},0,0,{"$f":"F915*Endbetrag!$F$7","v":0},0,""]
[912,77,0,{"$f":"Endbetrag!$D$5*(1+Endbetrag!$D$6)^(B916-1)","v":18016.608656920867},0,0,{"$f":"F916*Endbetrag!$F$7","v":0},0,""]
[913,77,0,{"$f":"Endbetrag!$D$5*(1+Endbetrag!$D$6)^(B917-1)","v":18016.608656920867},0,0,{"$f":"F917*Endbetrag!$F$7","v":0},0,""]
[914,77,0,{"$f":"Endbetrag!$D$5*(1+Endbetrag!$D$6)^(B918-1)","v":18016.608656920867},0,0,{"$f":"F918*Endbetrag!$F$7","v":0},0,""]
[915,77,0,{"$f":"Endbetrag!$D$5*(1+Endbetrag!$D$6)^(B919-1)","v":18016.608656920867},0,0,{"$f":"F919*Endbetrag!$F$7","v":0},0,""]
[916,77,0,{"$f":"Endbetrag!$D$5*(1+Endbetrag!$D$6)^(B920-1)","v":18016.608656920867},0,0,{"$f":"F920*Endbetrag!$F$7","v":0},0,""]
[917,77,0,{"$f":"Endbetrag!$D$5*(1+Endbetrag!$D$6)^(B921-1)","v":18016.608656920867},0,0,{"$f":"F921*Endbetrag!$F$7","v":0},0,""]
[918,77,0,{"$f":"Endbetrag!$D$5*(1+Endbetrag!$D$6)^(B922-1)","v":18016.608656920867},0,0,{"$f":"F922*Endbetrag!$F$7","v":0},0,""]
[919,77,0,{"$f":"Endbetrag!$D$5*(1+Endbetrag!$D$6)^(B923-1)","v":18016.608656920867},0,0,{"$f":"F923*Endbetrag!$F$7","v":0},0,""]
[920,77,0,{"$f":"Endbetrag!$D$5*(1+Endbetrag!$D$6)^(B924-1)","v":18016.608656920867},0,0,{"$f":"F924*Endbetrag!$F$7","v":0},0,""]
[921,77,0,{"$f":"Endbetrag!$D$5*(1+Endbetrag!$D$6)^(B925-1)","v":18016.608656920867},0,0,{"$f":"F925*Endbetrag!$F$7","v":0},0,""]
[922,77,0,{"$f":"Endbetrag!$D$5*(1+Endbetrag!$D$6)^(B926-1)","v":18016.608656920867},0,0,{"$f":"F926*Endbetrag!$F$7","v":0},0,""]
[923,77,0,{"$f":"Endbetrag!$D$5*(1+Endbetrag!$D$6)^(B927-1)","v":18016.608656920867},0,0,{"$f":"F927*Endbetrag!$F$7","v":0},0,""]
[924,78,0,{"$f":"Endbetrag!$D$5*(1+Endbetrag!$D$6)^(B928-1)","v":18376.940830059284},0,0,{"$f":"F928*Endbetrag!$F$7","v":0},0,""]
[925,78,0,{"$f":"Endbetrag!$D$5*(1+Endbetrag!$D$6)^(B929-1)","v":18376.940830059284},0,0,{"$f":"F929*Endbetrag!$F$7","v":0},0,""]
[926,78,0,{"$f":"Endbetrag!$D$5*(1+Endbetrag!$D$6)^(B930-1)","v":18376.940830059284},0,0,{"$f":"F930*Endbetrag!$F$7","v":0},0,""]
[927,78,0,{"$f":"Endbetrag!$D$5*(1+Endbetrag!$D$6)^(B931-1)","v":18376.940830059284},0,0,{"$f":"F931*Endbetrag!$F$7","v":0},0,""]
[928,78,0,{"$f":"Endbetrag!$D$5*(1+Endbetrag!$D$6)^(B932-1)","v":18376.940830059284},0,0,{"$f":"F932*Endbetrag!$F$7","v":0},0,""]
[929,78,0,{"$f":"Endbetrag!$D$5*(1+Endbetrag!$D$6)^(B933-1)","v":18376.940830059284},0,0,{"$f":"F933*Endbetrag!$F$7","v":0},0,""]
[930,78,0,{"$f":"Endbetrag!$D$5*(1+Endbetrag!$D$6)^(B934-1)","v":18376.940830059284},0,0,{"$f":"F934*Endbetrag!$F$7","v":0},0,""]
[931,78,0,{"$f":"Endbetrag!$D$5*(1+Endbetrag!$D$6)^(B935-1)","v":18376.940830059284},0,0,{"$f":"F935*Endbetrag!$F$7","v":0},0,""]
[932,78,0,{"$f":"Endbetrag!$D$5*(1+Endbetrag!$D$6)^(B936-1)","v":18376.940830059284},0,0,{"$f":"F936*Endbetrag!$F$7","v":0},0,""]
[933,78,0,{"$f":"Endbetrag!$D$5*(1+Endbetrag!$D$6)^(B937-1)","v":18376.940830059284},0,0,{"$f":"F937*Endbetrag!$F$7","v":0},0,""]
[934,78,0,{"$f":"Endbetrag!$D$5*(1+Endbetrag!$D$6)^(B938-1)","v":18376.940830059284},0,0,{"$f":"F938*Endbetrag!$F$7","v":0},0,""]
[935,78,0,{"$f":"Endbetrag!$D$5*(1+Endbetrag!$D$6)^(B939-1)","v":18376.940830059284},0,0,{"$f":"F939*Endbetrag!$F$7","v":0},0,""]
[936,79,0,{"$f":"Endbetrag!$D$5*(1+Endbetrag!$D$6)^(B940-1)","v":18744.479646660468},0,0,{"$f":"F940*Endbetrag!$F$7","v":0},0,""]
[937,79,0,{"$f":"Endbetrag!$D$5*(1+Endbetrag!$D$6)^(B941-1)","v":18744.479646660468},0,0,{"$f":"F941*Endbetrag!$F$7","v":0},0,""]
[938,79,0,{"$f":"Endbetrag!$D$5*(1+Endbetrag!$D$6)^(B942-1)","v":18744.479646660468},0,0,{"$f":"F942*Endbetrag!$F$7","v":0},0,""]
[939,79,0,{"$f":"Endbetrag!$D$5*(1+Endbetrag!$D$6)^(B943-1)","v":18744.479646660468},0,0,{"$f":"F943*Endbetrag!$F$7","v":0},0,""]
[940,79,0,{"$f":"Endbetrag!$D$5*(1+Endbetrag!$D$6)^(B944-1)","v":18744.479646660468},0,0,{"$f":"F944*Endbetrag!$F$7","v":0},0,""]
[941,79,0,{"$f":"Endbetrag!$D$5*(1+Endbetrag!$D$6)^(B945-1)","v":18744.479646660468},0,0,{"$f":"F945*Endbetrag!$F$7","v":0},0,""]
[942,79,0,{"$f":"Endbetrag!$D$5*(1+Endbetrag!$D$6)^(B946-1)","v":18744.479646660468},0,0,{"$f":"F946*Endbetrag!$F$7","v":0},0,""]
[943,79,0,{"$f":"Endbetrag!$D$5*(1+Endbetrag!$D$6)^(B947-1)","v":18744.479646660468},0,0,{"$f":"F947*Endbetrag!$F$7","v":0},0,""]
[944,79,0,{"$f":"Endbetrag!$D$5*(1+Endbetrag!$D$6)^(B948-1)","v":18744.479646660468},0,0,{"$f":"F948*Endbetrag!$F$7","v":0},0,""]
[945,79,0,{"$f":"Endbetrag!$D$5*(1+Endbetrag!$D$6)^(B949-1)","v":18744.479646660468},0,0,{"$f":"F949*Endbetrag!$F$7","v":0},0,""]
[946,79,0,{"$f":"Endbetrag!$D$5*(1+Endbetrag!$D$6)^(B950-1)","v":18744.479646660468},0,0,{"$f":"F950*Endbetrag!$F$7","v":0},0,""]
[947,79,0,{"$f":"Endbetrag!$D$5*(1+Endbetrag!$D$6)^(B951-1)","v":18744.479646660468},0,0,{"$f":"F951*Endbetrag!$F$7","v":0},0,""]
[948,80,0,{"$f":"Endbetrag!$D$5*(1+Endbetrag!$D$6)^(B952-1)","v":19119.369239593674},0,0,{"$f":"F952*Endbetrag!$F$7","v":0},0,""]
[949,80,0,{"$f":"Endbetrag!$D$5*(1+Endbetrag!$D$6)^(B953-1)","v":19119.369239593674},0,0,{"$f":"F953*Endbetrag!$F$7","v":0},0,""]
[950,80,0,{"$f":"Endbetrag!$D$5*(1+Endbetrag!$D$6)^(B954-1)","v":19119.369239593674},0,0,{"$f":"F954*Endbetrag!$F$7","v":0},0,""]
[951,80,0,{"$f":"Endbetrag!$D$5*(1+Endbetrag!$D$6)^(B955-1)","v":19119.369239593674},0,0,{"$f":"F955*Endbetrag!$F$7","v":0},0,""]
[952,80,0,{"$f":"Endbetrag!$D$5*(1+Endbetrag!$D$6)^(B956-1)","v":19119.369239593674},0,0,{"$f":"F956*Endbetrag!$F$7","v":0},0,""]
[953,80,0,{"$f":"Endbetrag!$D$5*(1+Endbetrag!$D$6)^(B957-1)","v":19119.369239593674},0,0,{"$f":"F957*Endbetrag!$F$7","v":0},0,""]
[954,80,0,{"$f":"Endbetrag!$D$5*(1+Endbetrag!$D$6)^(B958-1)","v":19119.369239593674},0,0,{"$f":"F958*Endbetrag!$F$7","v":0},0,""]
[955,80,0,{"$f":"Endbetrag!$D$5*(1+Endbetrag!$D$6)^(B959-1)","v":19119.369239593674},0,0,{"$f":"F959*Endbetrag!$F$7","v":0},0,""]
[956,80,0,{"$f":"Endbetrag!$D$5*(1+Endbetrag!$D$6)^(B960-1)","v":19119.369239593674},0,0,{"$f":"F960*Endbetrag!$F$7","v":0},0,""]
[957,80,0,{"$f":"Endbetrag!$D$5*(1+Endbetrag!$D$6)^(B961-1)","v":19119.369239593674},0,0,{"$f":"F961*Endbetrag!$F$7","v":0},0,""]
[958,80,0,{"$f":"Endbetrag!$D$5*(1+Endbetrag!$D$6)^(B962-1)","v":19119.369239593674},0,0,{"$f":"F962*Endbetrag!$F$7","v":0},0,""]
[959,80,0,{"$f":"Endbetrag!$D$5*(1+Endbetrag!$D$6)^(B963-1)","v":19119.369239593674},0,0,{"$f":"F963*Endbetrag!$F$7","v":0},0,""]
[960,{"$f":"INT(A964/12)+1","v":81},0,{"$f":"Endbetrag!$D$5*(1+Endbetrag!$D$6)^(B964-1)","v":19501.756624385551},{"$f":"MIN(D964,C964)","v":0},{"$f":"C964-E964","v":0},{"$f":"F964*Endbetrag!$F$7","v":0},{"$f":"MAX(0,F964+G964)","v":0},{"$f":"IF(H964>0,A964,\"\")","v":""}]
[961,81,{"$f":"H964","v":0},{"$f":"Endbetrag!$D$5*(1+Endbetrag!$D$6)^(B965-1)","v":19501.756624385551},0,0,{"$f":"F965*Endbetrag!$F$7","v":0},0,""]
[962,81,0,{"$f":"Endbetrag!$D$5*(1+Endbetrag!$D$6)^(B966-1)","v":19501.756624385551},0,0,{"$f":"F966*Endbetrag!$F$7","v":0},0,""]
[963,81,0,{"$f":"Endbetrag!$D$5*(1+Endbetrag!$D$6)^(B967-1)","v":19501.756624385551},0,0,{"$f":"F967*Endbetrag!$F$7","v":0},0,""]
[964,81,0,{"$f":"Endbetrag!$D$5*(1+Endbetrag!$D$6)^(B968-1)","v":19501.756624385551},0,0,{"$f":"F968*Endbetrag!$F$7","v":0},0,""]
[965,81,0,{"$f":"Endbetrag!$D$5*(1+Endbetrag!$D$6)^(B969-1)","v":19501.756624385551},0,0,{"$f":"F969*Endbetrag!$F$7","v":0},0,""]
[966,81,0,{"$f":"Endbetrag!$D$5*(1+Endbetrag!$D$6)^(B970-1)","v":19501.756624385551},0,0,{"$f":"F970*Endbetrag!$F$7","v":0},0,""]
[967,81,0,{"$f":"Endbetrag!$D$5*(1+Endbetrag!$D$6)^(B971-1)","v":19501.756624385551},0,0,{"$f":"F971*Endbetrag!$F$7","v":0},0,""]
[968,81,0,{"$f":"Endbetrag!$D$5*(1+Endbetrag!$D$6)^(B972-1)","v":19501.756624385551},0,0,{"$f":"F972*Endbetrag!$F$7","v":0},0,""]
[969,81,0,{"$f":"Endbetrag!$D$5*(1+Endbetrag!$D$6)^(B973-1)","v":19501.756624385551},0,0,{"$f":"F973*Endbetrag!$F$7","v":0},0,""]
[970,81,0,{"$f":"Endbetrag!$D$5*(1+Endbetrag!$D$6)^(B974-1)","v":19501.756624385551},0,0,{"$f":"F974*Endbetrag!$F$7","v":0},0,""]
[971,81,0,{"$f":"Endbetrag!$D$5*(1+Endbetrag!$D$6)^(B975-1)","v":19501.756624385551},0,0,{"$f":"F975*Endbetrag!$F$7","v":0},0,""]
[972,82,0,{"$f":"Endbetrag!$D$5*(1+Endbetrag!$D$6)^(B976-1)","v":19891.791756873259},0,0,{"$f":"F976*Endbetrag!$F$7","v":0},0,""]
[973,82,0,{"$f":"Endbetrag!$D$5*(1+Endbetrag!$D$6)^(B977-1)","v":19891.791756873259},0,0,{"$f":"F977*Endbetrag!$F$7","v":0},0,""]
[974,82,0,{"$f":"Endbetrag!$D$5*(1+Endbetrag!$D$6)^(B978-1)","v":19891.791756873259},0,0,{"$f":"F978*Endbetrag!$F$7","v":0},0,""]
[975,82,0,{"$f":"Endbetrag!$D$5*(1+Endbetrag!$D$6)^(B979-1)","v":19891.791756873259},0,0,{"$f":"F979*Endbetrag!$F$7","v":0},0,""]
[976,82,0,{"$f":"Endbetrag!$D$5*(1+Endbetrag!$D$6)^(B980-1)","v":19891.791756873259},0,0,{"$f":"F980*Endbetrag!$F$7","v":0},0,""]
[977,82,0,{"$f":"Endbetrag!$D$5*(1+Endbetrag!$D$6)^(B981-1)","v":19891.791756873259},0,0,{"$f":"F981*Endbetrag!$F$7","v":0},0,""]
[978,82,0,{"$f":"Endbetrag!$D$5*(1+Endbetrag!$D$6)^(B982-1)","v":19891.791756873259},0,0,{"$f":"F982*Endbetrag!$F$7","v":0},0,""]
[979,82,0,{"$f":"Endbetrag!$D$5*(1+Endbetrag!$D$6)^(B983-1)","v":19891.791756873259},0,0,{"$f":"F983*Endbetrag!$F$7","v":0},0,""]
[980,82,0,{"$f":"Endbetrag!$D$5*(1+Endbetrag!$D$6)^(B984-1)","v":19891.791756873259},0,0,{"$f":"F984*Endbetrag!$F$7","v":0},0,""]
[981,82,0,{"$f":"Endbetrag!$D$5*(1+Endbetrag!$D$6)^(B985-1)","v":19891.791756873259},0,0,{"$f":"F985*Endbetrag!$F$7","v":0},0,""]
[982,82,0,{"$f":"Endbetrag!$D$5*(1+Endbetrag!$D$6)^(B986-1)","v":19891.791756873259},0,0,{"$f":"F986*Endbetrag!$F$7","v":0},0,""]
[983,82,0,{"$f":"Endbetrag!$D$5*(1+Endbetrag!$D$6)^(B987-1)","v":19891.791756873259},0,0,{"$f":"F987*Endbetrag!$F$7","v":0},0,""]
[984,83,0,{"$f":"Endbetrag!$D$5*(1+Endbetrag!$D$6)^(B988-1)","v":20289.627592010725},0,0,{"$f":"F988*Endbetrag!$F$7","v":0},0,""]
[985,83,0,{"$f":"Endbetrag!$D$5*(1+Endbetrag!$D$6)^(B989-1)","v":20289.627592010725},0,0,{"$f":"F989*Endbetrag!$F$7","v":0},0,""]
[986,83,0,{"$f":"Endbetrag!$D$5*(1+Endbetrag!$D$6)^(B990-1)","v":20289.627592010725},0,0,{"$f":"F990*Endbetrag!$F$7","v":0},0,""]
[987,83,0,{"$f":"Endbetrag!$D$5*(1+Endbetrag!$D$6)^(B991-1)","v":20289.627592010725},0,0,{"$f":"F991*Endbetrag!$F$7","v":0},0,""]
[988,83,0,{"$f":"Endbetrag!$D$5*(1+Endbetrag!$D$6)^(B992-1)","v":20289.627592010725},0,0,{"$f":"F992*Endbetrag!$F$7","v":0},0,""]
[989,83,0,{"$f":"Endbetrag!$D$5*(1+Endbetrag!$D$6)^(B993-1)","v":20289.627592010725},0,0,{"$f":"F993*Endbetrag!$F$7","v":0},0,""]
[990,83,0,{"$f":"Endbetrag!$D$5*(1+Endbetrag!$D$6)^(B994-1)","v":20289.627592010725},0,0,{"$f":"F994*Endbetrag!$F$7","v":0},0,""]
[991,83,0,{"$f":"Endbetrag!$D$5*(1+Endbetrag!$D$6)^(B995-1)","v":20289.627592010725},0,0,{"$f":"F995*Endbetrag!$F$7","v":0},0,""]
[992,83,0,{"$f":"Endbetrag!$D$5*(1+Endbetrag!$D$6)^(B996-1)","v":20289.627592010725},0,0,{"$f":"F996*Endbetrag!$F$7","v":0},0,""]
[993,83,0,{"$f":"Endbetrag!$D$5*(1+Endbetrag!$D$6)^(B997-1)","v":20289.627592010725},0,0,{"$f":"F997*Endbetrag!$F$7","v":0},0,""]
[994,83,0,{"$f":"Endbetrag!$D$5*(1+Endbetrag!$D$6)^(B998-1)","v":20289.627592010725},0,0,{"$f":"F998*Endbetrag!$F$7","v":0},0,""]
[995,83,0,{"$f":"Endbetrag!$D$5*(1+Endbetrag!$D$6)^(B999-1)","v":20289.627592010725},0,0,{"$f":"F999*Endbetrag!$F$7","v":0},0,""]
[996,84,0,{"$f":"Endbetrag!$D$5*(1+Endbetrag!$D$6)^(B1000-1)","v":20695.420143850937},0,0,{"$f":"F1000*Endbetrag!$F$7","v":0},0,""]
[997,84,0,{"$f":"Endbetrag!$D$5*(1+Endbetrag!$D$6)^(B1001-1)","v":20695.420143850937},0,0,{"$f":"F1001*Endbetrag!$F$7","v":0},0,""]
[998,84,0,{"$f":"Endbetrag!$D$5*(1+Endbetrag!$D$6)^(B1002-1)","v":20695.420143850937},0,0,{"$f":"F1002*Endbetrag!$F$7","v":0},0,""]
[999,84,0,{"$f":"Endbetrag!$D$5*(1+Endbetrag!$D$6)^(B1003-1)","v":20695.420143850937},0,0,{"$f":"F1003*Endbetrag!$F$7","v":0},0,""]
[1000,84,0,{"$f":"Endbetrag!$D$5*(1+Endbetrag!$D$6)^(B1004-1)","v":20695.420143850937},0,0,{"$f":"F1004*Endbetrag!$F$7","v":0},0,""]
[1001,84,0,{"$f":"Endbetrag!$D$5*(1+Endbetrag!$D$6)^(B1005-1)","v":20695.420143850937},0,0,{"$f":"F1005*Endbetrag!$F$7","v":0},0,""]
[1002,84,0,{"$f":"Endbetrag!$D$5*(1+Endbetrag!$D$6)^(B1006-1)","v":20695.420143850937},0,0,{"$f":"F1006*Endbetrag!$F$7","v":0},0,""]
[1003,84,0,{"$f":"Endbetrag!$D$5*(1+Endbetrag!$D$6)^(B1007-1)","v":20695.420143850937},0,0,{"$f":"F1007*Endbetrag!$F$7","v":0},0,""]
[1004,84,0,{"$f":"Endbetrag!$D$5*(1+Endbetrag!$D$6)^(B1008-1)","v":20695.420143850937},0,0,{"$f":"F1008*Endbetrag!$F$7","v":0},0,""]
[1005,84,0,{"$f":"Endbetrag!$D$5*(1+Endbetrag!$D$6)^(B1009-1)","v":20695.420143850937},0,0,{"$f":"F1009*Endbetrag!$F$7","v":0},0,""]
[1006,84,0,{"$f":"Endbetrag!$D$5*(1+Endbetrag!$D$6)^(B1010-1)","v":20695.420143850937},0,0,{"$f":"F1010*Endbetrag!$F$7","v":0},0,""]
[1007,84,0,{"$f":"Endbetrag!$D$5*(1+Endbetrag!$D$6)^(B1011-1)","v":20695.420143850937},0,0,{"$f":"F1011*Endbetrag!$F$7","v":0},0,""]
[1008,85,0,{"$f":"Endbetrag!$D$5*(1+Endbetrag!$D$6)^(B1012-1)","v":21109.32854672796},0,0,{"$f":"F1012*Endbetrag!$F$7","v":0},0,""]
[1009,85,0,{"$f":"Endbetrag!$D$5*(1+Endbetrag!$D$6)^(B1013-1)","v":21109.32854672796},0,0,{"$f":"F1013*Endbetrag!$F$7","v":0},0,""]
[1010,85,0,{"$f":"Endbetrag!$D$5*(1+Endbetrag!$D$6)^(B1014-1)","v":21109.32854672796},0,0,{"$f":"F1014*Endbetrag!$F$7","v":0},0,""]
[1011,85,0,{"$f":"Endbetrag!$D$5*(1+Endbetrag!$D$6)^(B1015-1)","v":21109.32854672796},0,0,{"$f":"F1015*Endbetrag!$F$7","v":0},0,""]
[1012,85,0,{"$f":"Endbetrag!$D$5*(1+Endbetrag!$D$6)^(B1016-1)","v":21109.32854672796},0,0,{"$f":"F1016*Endbetrag!$F$7","v":0},0,""]
[1013,85,0,{"$f":"Endbetrag!$D$5*(1+Endbetrag!$D$6)^(B1017-1)","v":21109.32854672796},0,0,{"$f":"F1017*Endbetrag!$F$7","v":0},0,""]
[1014,85,0,{"$f":"Endbetrag!$D$5*(1+Endbetrag!$D$6)^(B1018-1)","v":21109.32854672796},0,0,{"$f":"F1018*Endbetrag!$F$7","v":0},0,""]
[1015,85,0,{"$f":"Endbetrag!$D$5*(1+Endbetrag!$D$6)^(B1019-1)","v":21109.32854672796},0,0,{"$f":"F1019*Endbetrag!$F$7","v":0},0,""]
[1016,85,0,{"$f":"Endbetrag!$D$5*(1+Endbetrag!$D$6)^(B1020-1)","v":21109.32854672796},0,0,{"$f":"F1020*Endbetrag!$F$7","v":0},0,""]
[1017,85,0,{"$f":"Endbetrag!$D$5*(1+Endbetrag!$D$6)^(B1021-1)","v":21109.32854672796},0,0,{"$f":"F1021*Endbetrag!$F$7","v":0},0,""]
[1018,85,0,{"$f":"Endbetrag!$D$5*(1+Endbetrag!$D$6)^(B1022-1)","v":21109.32854672796},0,0,{"$f":"F1022*Endbetrag!$F$7","v":0},0,""]
[1019,85,0,{"$f":"Endbetrag!$D$5*(1+Endbetrag!$D$6)^(B1023-1)","v":21109.32854672796},0,0,{"$f":"F1023*Endbetrag!$F$7","v":0},0,""]
[1020,86,0,{"$f":"Endbetrag!$D$5*(1+Endbetrag!$D$6)^(B1024-1)","v":21531.515117662519},0,0,{"$f":"F1024*Endbetrag!$F$7","v":0},0,""]
[1021,86,0,{"$f":"Endbetrag!$D$5*(1+Endbetrag!$D$6)^(B1025-1)","v":21531.515117662519},0,0,{"$f":"F1025*Endbetrag!$F$7","v":0},0,""]
[1022,86,0,{"$f":"Endbetrag!$D$5*(1+Endbetrag!$D$6)^(B1026-1)","v":21531.515117662519},0,0,{"$f":"F1026*Endbetrag!$F$7","v":0},0,""]
[1023,86,0,{"$f":"Endbetrag!$D$5*(1+Endbetrag!$D$6)^(B1027-1)","v":21531.515117662519},0,0,{"$f":"F1027*Endbetrag!$F$7","v":0},0,""]
[1024,{"$f":"INT(A1028/12)+1","v":86},0,{"$f":"Endbetrag!$D$5*(1+Endbetrag!$D$6)^(B1028-1)","v":21531.515117662519},{"$f":"MIN(D1028,C1028)","v":0},{"$f":"C1028-E1028","v":0},{"$f":"F1028*Endbetrag!$F$7","v":0},{"$f":"MAX(0,F1028+G1028)","v":0},{"$f":"IF(H1028>0,A1028,\"\")","v":""}]
[1025,86,{"$f":"H1028","v":0},{"$f":"Endbetrag!$D$5*(1+Endbetrag!$D$6)^(B1029-1)","v":21531.515117662519},0,0,{"$f":"F1029*Endbetrag!$F$7","v":0},0,""]
[1026,86,0,{"$f":"Endbetrag!$D$5*(1+Endbetrag!$D$6)^(B1030-1)","v":21531.515117662519},0,0,{"$f":"F1030*Endbetrag!$F$7","v":0},0,""]
[1027,86,0,{"$f":"Endbetrag!$D$5*(1+Endbetrag!$D$6)^(B1031-1)","v":21531.515117662519},0,0,{"$f":"F1031*Endbetrag!$F$7","v":0},0,""]
[1028,86,0,{"$f":"Endbetrag!$D$5*(1+Endbetrag!$D$6)^(B1032-1)","v":21531.515117662519},0,0,{"$f":"F1032*Endbetrag!$F$7","v":0},0,""]
[1029,86,0,{"$f":"Endbetrag!$D$5*(1+Endbetrag!$D$6)^(B1033-1)","v":21531.515117662519},0,0,{"$f":"F1033*Endbetrag!$F$7","v":0},0,""]
[1030,86,0,{"$f":"Endbetrag!$D$5*(1+Endbetrag!$D$6)^(B1034-1)","v":21531.515117662519},0,0,{"$f":"F1034*Endbetrag!$F$7","v":0},0,""]
[1031,86,0,{"$f":"Endbetrag!$D$5*(1+Endbetrag!$D$6)^(B1035-1)","v":21531.515117662519},0,0,{"$f":"F1035*Endbetrag!$F$7","v":0},0,""]
[1032,87,0,{"$f":"Endbetrag!$D$5*(1+Endbetrag!$D$6)^(B1036-1)","v":21962.145420015768},0,0,{"$f":"F1036*Endbetrag!$F$7","v":0},0,""]
[1033,87,0,{"$f":"Endbetrag!$D$5*(1+Endbetrag!$D$6)^(B1037-1)","v":21962.145420015768},0,0,{"$f":"F1037*Endbetrag!$F$7","v":0},0,""]
[1034,87,0,{"$f":"Endbetrag!$D$5*(1+Endbetrag!$D$6)^(B1038-1)","v":21962.145420015768},0,0,{"$f":"F1038*Endbetrag!$F$7","v":0},0,""]
[1035,87,0,{"$f":"Endbetrag!$D$5*(1+Endbetrag!$D$6)^(B1039-1)","v":21962.145420015768},0,0,{"$f":"F1039*Endbetrag!$F$7","v":0},0,""]
[1036,87,0,{"$f":"Endbetrag!$D$5*(1+Endbetrag!$D$6)^(B1040-1)","v":21962.145420015768},0,0,{"$f":"F1040*Endbetrag!$F$7","v":0},0,""]
[1037,87,0,{"$f":"Endbetrag!$D$5*(1+Endbetrag!$D$6)^(B1041-1)","v":21962.145420015768},0,0,{"$f":"F1041*Endbetrag!$F$7","v":0},0,""]
[1038,87,0,{"$f":"Endbetrag!$D$5*(1+Endbetrag!$D$6)^(B1042-1)","v":21962.145420015768},0,0,{"$f":"F1042*Endbetrag!$F$7","v":0},0,""]
[1039,87,0,{"$f":"Endbetrag!$D$5*(1+Endbetrag!$D$6)^(B1043-1)","v":21962.145420015768},0,0,{"$f":"F1043*Endbetrag!$F$7","v":0},0,""]
[1040,87,0,{"$f":"Endbetrag!$D$5*(1+Endbetrag!$D$6)^(B1044-1)","v":21962.145420015768},0,0,{"$f":"F1044*Endbetrag!$F$7","v":0},0,""]
[1041,87,0,{"$f":"Endbetrag!$D$5*(1+Endbetrag!$D$6)^(B1045-1)","v":21962.145420015768},0,0,{"$f":"F1045*Endbetrag!$F$7","v":0},0,""]
[1042,87,0,{"$f":"Endbetrag!$D$5*(1+Endbetrag!$D$6)^(B1046-1)","v":21962.145420015768},0,0,{"$f":"F1046*Endbetrag!$F$7","v":0},0,""]
[1043,87,0,{"$f":"Endbetrag!$D$5*(1+Endbetrag!$D$6)^(B1047-1)","v":21962.145420015768},0,0,{"$f":"F1047*Endbetrag!$F$7","v":0},0,""]
[1044,88,0,{"$f":"Endbetrag!$D$5*(1+Endbetrag!$D$6)^(B1048-1)","v":22401.38832841608},0,0,{"$f":"F1048*Endbetrag!$F$7","v":0},0,""]
[1045,88,0,{"$f":"Endbetrag!$D$5*(1+Endbetrag!$D$6)^(B1049-1)","v":22401.38832841608},0,0,{"$f":"F1049*Endbetrag!$F$7","v":0},0,""]
[1046,88,0,{"$f":"Endbetrag!$D$5*(1+Endbetrag!$D$6)^(B1050-1)","v":22401.38832841608},0,0,{"$f":"F1050*Endbetrag!$F$7","v":0},0,""]
[1047,88,0,{"$f":"Endbetrag!$D$5*(1+Endbetrag!$D$6)^(B1051-1)","v":22401.38832841608},0,0,{"$f":"F1051*Endbetrag!$F$7","v":0},0,""]
[1048,88,0,{"$f":"Endbetrag!$D$5*(1+Endbetrag!$D$6)^(B1052-1)","v":22401.38832841608},0,0,{"$f":"F1052*Endbetrag!$F$7","v":0},0,""]
[1049,88,0,{"$f":"Endbetrag!$D$5*(1+Endbetrag!$D$6)^(B1053-1)","v":22401.38832841608},0,0,{"$f":"F1053*Endbetrag!$F$7","v":0},0,""]
[1050,88,0,{"$f":"Endbetrag!$D$5*(1+Endbetrag!$D$6)^(B1054-1)","v":22401.38832841608},0,0,{"$f":"F1054*Endbetrag!$F$7","v":0},0,""]
[1051,88,0,{"$f":"Endbetrag!$D$5*(1+Endbetrag!$D$6)^(B1055-1)","v":22401.38832841608},0,0,{"$f":"F1055*Endbetrag!$F$7","v":0},0,""]
[1052,88,0,{"$f":"Endbetrag!$D$5*(1+Endbetrag!$D$6)^(B1056-1)","v":22401.38832841608},0,0,{"$f":"F1056*Endbetrag!$F$7","v":0},0,""]
[1053,88,0,{"$f":"Endbetrag!$D$5*(1+Endbetrag!$D$6)^(B1057-1)","v":22401.38832841608},0,0,{"$f":"F1057*Endbetrag!$F$7","v":0},0,""]
[1054,88,0,{"$f":"Endbetrag!$D$5*(1+Endbetrag!$D$6)^(B1058-1)","v":22401.38832841608},0,0,{"$f":"F1058*Endbetrag!$F$7","v":0},0,""]
[1055,88,0,{"$f":"Endbetrag!$D$5*(1+Endbetrag!$D$6)^(B1059-1)","v":22401.38832841608},0,0,{"$f":"F1059*Endbetrag!$F$7","v":0},0,""]
[1056,89,0,{"$f":"Endbetrag!$D$5*(1+Endbetrag!$D$6)^(B1060-1)","v":22849.416094984401},0,0,{"$f":"F1060*Endbetrag!$F$7","v":0},0,""]
[1057,89,0,{"$f":"Endbetrag!$D$5*(1+Endbetrag!$D$6)^(B1061-1)","v":22849.416094984401},0,0,{"$f":"F1061*Endbetrag!$F$7","v":0},0,""]
[1058,89,0,{"$f":"Endbetrag!$D$5*(1+Endbetrag!$D$6)^(B1062-1)","v":22849.416094984401},0,0,{"$f":"F1062*Endbetrag!$F$7","v":0},0,""]
[1059,89,0,{"$f":"Endbetrag!$D$5*(1+Endbetrag!$D$6)^(B1063-1)","v":22849.416094984401},0,0,{"$f":"F1063*Endbetrag!$F$7","v":0},0,""]
[1060,89,0,{"$f":"Endbetrag!$D$5*(1+Endbetrag!$D$6)^(B1064-1)","v":22849.416094984401},0,0,{"$f":"F1064*Endbetrag!$F$7","v":0},0,""]
[1061,89,0,{"$f":"Endbetrag!$D$5*(1+Endbetrag!$D$6)^(B1065-1)","v":22849.416094984401},0,0,{"$f":"F1065*Endbetrag!$F$7","v":0},0,""]
[1062,89,0,{"$f":"Endbetrag!$D$5*(1+Endbetrag!$D$6)^(B1066-1)","v":22849.416094984401},0,0,{"$f":"F1066*Endbetrag!$F$7","v":0},0,""]
[1063,89,0,{"$f":"Endbetrag!$D$5*(1+Endbetrag!$D$6)^(B1067-1)","v":22849.416094984401},0,0,{"$f":"F1067*Endbetrag!$F$7","v":0},0,""]
[1064,89,0,{"$f":"Endbetrag!$D$5*(1+Endbetrag!$D$6)^(B1068-1)","v":22849.416094984401},0,0,{"$f":"F1068*Endbetrag!$F$7","v":0},0,""]
[1065,89,0,{"$f":"Endbetrag!$D$5*(1+Endbetrag!$D$6)^(B1069-1)","v":22849.416094984401},0,0,{"$f":"F1069*Endbetrag!$F$7","v":0},0,""]
[1066,89,0,{"$f":"Endbetrag!$D$5*(1+Endbetrag!$D$6)^(B1070-1)","v":22849.416094984401},0,0,{"$f":"F1070*Endbetrag!$F$7","v":0},0,""]
[1067,89,0,{"$f":"Endbetrag!$D$5*(1+Endbetrag!$D$6)^(B1071-1)","v":22849.416094984401},0,0,{"$f":"F1071*Endbetrag!$F$7","v":0},0,""]
[1068,90,0,{"$f":"Endbetrag!$D$5*(1+Endbetrag!$D$6)^(B1072-1)","v":23306.404416884092},0,0,{"$f":"F1072*Endbetrag!$F$7","v":0},0,""]
[1069,90,0,{"$f":"Endbetrag!$D$5*(1+Endbetrag!$D$6)^(B1073-1)","v":23306.404416884092},0,0,{"$f":"F1073*Endbetrag!$F$7","v":0},0,""]
[1070,90,0,{"$f":"Endbetrag!$D$5*(1+Endbetrag!$D$6)^(B1074-1)","v":23306.404416884092},0,0,{"$f":"F1074*Endbetrag!$F$7","v":0},0,""]
[1071,90,0,{"$f":"Endbetrag!$D$5*(1+Endbetrag!$D$6)^(B1075-1)","v":23306.404416884092},0,0,{"$f":"F1075*Endbetrag!$F$7","v":0},0,""]
[1072,90,0,{"$f":"Endbetrag!$D$5*(1+Endbetrag!$D$6)^(B1076-1)","v":23306.404416884092},0,0,{"$f":"F1076*Endbetrag!$F$7","v":0},0,""]
[1073,90,0,{"$f":"Endbetrag!$D$5*(1+Endbetrag!$D$6)^(B1077-1)","v":23306.404416884092},0,0,{"$f":"F1077*Endbetrag!$F$7","v":0},0,""]
[1074,90,0,{"$f":"Endbetrag!$D$5*(1+Endbetrag!$D$6)^(B1078-1)","v":23306.404416884092},0,0,{"$f":"F1078*Endbetrag!$F$7","v":0},0,""]
[1075,90,0,{"$f":"Endbetrag!$D$5*(1+Endbetrag!$D$6)^(B1079-1)","v":23306.404416884092},0,0,{"$f":"F1079*Endbetrag!$F$7","v":0},0,""]
[1076,90,0,{"$f":"Endbetrag!$D$5*(1+Endbetrag!$D$6)^(B1080-1)","v":23306.404416884092},0,0,{"$f":"F1080*Endbetrag!$F$7","v":0},0,""]
[1077,90,0,{"$f":"Endbetrag!$D$5*(1+Endbetrag!$D$6)^(B1081-1)","v":23306.404416884092},0,0,{"$f":"F1081*Endbetrag!$F$7","v":0},0,""]
[1078,90,0,{"$f":"Endbetrag!$D$5*(1+Endbetrag!$D$6)^(B1082-1)","v":23306.404416884092},0,0,{"$f":"F1082*Endbetrag!$F$7","v":0},0,""]
[1079,90,0,{"$f":"Endbetrag!$D$5*(1+Endbetrag!$D$6)^(B1083-1)","v":23306.404416884092},0,0,{"$f":"F1083*Endbetrag!$F$7","v":0},0,""]
[1080,91,0,{"$f":"Endbetrag!$D$5*(1+Endbetrag!$D$6)^(B1084-1)","v":23772.532505221774},0,0,{"$f":"F1084*Endbetrag!$F$7","v":0},0,""]
[1081,91,0,{"$f":"Endbetrag!$D$5*(1+Endbetrag!$D$6)^(B1085-1)","v":23772.532505221774},0,0,{"$f":"F1085*Endbetrag!$F$7","v":0},0,""]
[1082,91,0,{"$f":"Endbetrag!$D$5*(1+Endbetrag!$D$6)^(B1086-1)","v":23772.532505221774},0,0,{"$f":"F1086*Endbetrag!$F$7","v":0},0,""]
[1083,91,0,{"$f":"Endbetrag!$D$5*(1+Endbetrag!$D$6)^(B1087-1)","v":23772.532505221774},0,0,{"$f":"F1087*Endbetrag!$F$7","v":0},0,""]
[1084,91,0,{"$f":"Endbetrag!$D$5*(1+Endbetrag!$D$6)^(B1088-1)","v":23772.532505221774},0,0,{"$f":"F1088*Endbetrag!$F$7","v":0},0,""]
[1085,91,0,{"$f":"Endbetrag!$D$5*(1+Endbetrag!$D$6)^(B1089-1)","v":23772.532505221774},0,0,{"$f":"F1089*Endbetrag!$F$7","v":0},0,""]
[1086,91,0,{"$f":"Endbetrag!$D$5*(1+Endbetrag!$D$6)^(B1090-1)","v":23772.532505221774},0,0,{"$f":"F1090*Endbetrag!$F$7","v":0},0,""]
[1087,91,0,{"$f":"Endbetrag!$D$5*(1+Endbetrag!$D$6)^(B1091-1)","v":23772.532505221774},0,0,{"$f":"F1091*Endbetrag!$F$7","v":0},0,""]
[1088,{"$f":"INT(A1092/12)+1","v":91},0,{"$f":"Endbetrag!$D$5*(1+Endbetrag!$D$6)^(B1092-1)","v":23772.532505221774},{"$f":"MIN(D1092,C1092)","v":0},{"$f":"C1092-E1092","v":0},{"$f":"F1092*Endbetrag!$F$7","v":0},{"$f":"MAX(0,F1092+G1092)","v":0},{"$f":"IF(H1092>0,A1092,\"\")","v":""}]
[1089,91,{"$f":"H1092","v":0},{"$f":"Endbetrag!$D$5*(1+Endbetrag!$D$6)^(B1093-1)","v":23772.532505221774},0,0,{"$f":"F1093*Endbetrag!$F$7","v":0},0,""]
[1090,91,0,{"$f":"Endbetrag!$D$5*(1+Endbetrag!$D$6)^(B1094-1)","v":23772.532505221774},0,0,{"$f":"F1094*Endbetrag!$F$7","v":0},0,""]
[1091,91,0,{"$f":"Endbetrag!$D$5*(1+Endbetrag!$D$6)^(B1095-1)","v":23772.532505221774},0,0,{"$f":"F1095*Endbetrag!$F$7","v":0},0,""]
[1092,92,0,{"$f":"Endbetrag!$D$5*(1+Endbetrag!$D$6)^(B1096-1)","v":24247.983155326208},0,0,{"$f":"F1096*Endbetrag!$F$7","v":0},0,""]
[1093,92,0,{"$f":"Endbetrag!$D$5*(1+Endbetrag!$D$6)^(B1097-1)","v":24247.983155326208},0,0,{"$f":"F1097*Endbetrag!$F$7","v":0},0,""]
[1094,92,0,{"$f":"Endbetrag!$D$5*(1+Endbetrag!$D$6)^(B1098-1)","v":24247.983155326208},0,0,{"$f":"F1098*Endbetrag!$F$7","v":0},0,""]
[1095,92,0,{"$f":"Endbetrag!$D$5*(1+Endbetrag!$D$6)^(B1099-1)","v":24247.983155326208},0,0,{"$f":"F1099*Endbetrag!$F$7","v":0},0,""]
[1096,92,0,{"$f":"Endbetrag!$D$5*(1+Endbetrag!$D$6)^(B1100-1)","v":24247.983155326208},0,0,{"$f":"F1100*Endbetrag!$F$7","v":0},0,""]
[1097,92,0,{"$f":"Endbetrag!$D$5*(1+Endbetrag!$D$6)^(B1101-1)","v":24247.983155326208},0,0,{"$f":"F1101*Endbetrag!$F$7","v":0},0,""]
[1098,92,0,{"$f":"Endbetrag!$D$5*(1+Endbetrag!$D$6)^(B1102-1)","v":24247.983155326208},0,0,{"$f":"F1102*Endbetrag!$F$7","v":0},0,""]
[1099,92,0,{"$f":"Endbetrag!$D$5*(1+Endbetrag!$D$6)^(B1103-1)","v":24247.983155326208},0,0,{"$f":"F1103*Endbetrag!$F$7","v":0},0,""]
[1100,92,0,{"$f":"Endbetrag!$D$5*(1+Endbetrag!$D$6)^(B1104-1)","v":24247.983155326208},0,0,{"$f":"F1104*Endbetrag!$F$7","v":0},0,""]
[1101,92,0,{"$f":"Endbetrag!$D$5*(1+Endbetrag!$D$6)^(B1105-1)","v":24247.983155326208},0,0,{"$f":"F1105*Endbetrag!$F$7","v":0},0,""]
[1102,92,0,{"$f":"Endbetrag!$D$5*(1+Endbetrag!$D$6)^(B1106-1)","v":24247.983155326208},0,0,{"$f":"F1106*Endbetrag!$F$7","v":0},0,""]
[1103,92,0,{"$f":"Endbetrag!$D$5*(1+Endbetrag!$D$6)^(B1107-1)","v":24247.983155326208},0,0,{"$f":"F1107*Endbetrag!$F$7","v":0},0,""]
[1104,93,0,{"$f":"Endbetrag!$D$5*(1+Endbetrag!$D$6)^(B1108-1)","v":24732.942818432737},0,0,{"$f":"F1108*Endbetrag!$F$7","v":0},0,""]
[1105,93,0,{"$f":"Endbetrag!$D$5*(1+Endbetrag!$D$6)^(B1109-1)","v":24732.942818432737},0,0,{"$f":"F1109*Endbetrag!$F$7","v":0},0,""]
[1106,93,0,{"$f":"Endbetrag!$D$5*(1+Endbetrag!$D$6)^(B1110-1)","v":24732.942818432737},0,0,{"$f":"F1110*Endbetrag!$F$7","v":0},0,""]
[1107,93,0,{"$f":"Endbetrag!$D$5*(1+Endbetrag!$D$6)^(B1111-1)","v":24732.942818432737},0,0,{"$f":"F1111*Endbetrag!$F$7","v":0},0,""]
[1108,93,0,{"$f":"Endbetrag!$D$5*(1+Endbetrag!$D$6)^(B1112-1)","v":24732.942818432737},0,0,{"$f":"F1112*Endbetrag!$F$7","v":0},0,""]
[1109,93,0,{"$f":"Endbetrag!$D$5*(1+Endbetrag!$D$6)^(B1113-1)","v":24732.942818432737},0,0,{"$f":"F1113*Endbetrag!$F$7","v":0},0,""]
[1110,93,0,{"$f":"Endbetrag!$D$5*(1+Endbetrag!$D$6)^(B1114-1)","v":24732.942818432737},0,0,{"$f":"F1114*Endbetrag!$F$7","v":0},0,""]
[1111,93,0,{"$f":"Endbetrag!$D$5*(1+Endbetrag!$D$6)^(B1115-1)","v":24732.942818432737},0,0,{"$f":"F1115*Endbetrag!$F$7","v":0},0,""]
[1112,93,0,{"$f":"Endbetrag!$D$5*(1+Endbetrag!$D$6)^(B1116-1)","v":24732.942818432737},0,0,{"$f":"F1116*Endbetrag!$F$7","v":0},0,""]
[1113,93,0,{"$f":"Endbetrag!$D$5*(1+Endbetrag!$D$6)^(B1117-1)","v":24732.942818432737},0,0,{"$f":"F1117*Endbetrag!$F$7","v":0},0,""]
[1114,93,0,{"$f":"Endbetrag!$D$5*(1+Endbetrag!$D$6)^(B1118-1)","v":24732.942818432737},0,0,{"$f":"F1118*Endbetrag!$F$7","v":0},0,""]
[1115,93,0,{"$f":"Endbetrag!$D$5*(1+Endbetrag!$D$6)^(B1119-1)","v":24732.942818432737},0,0,{"$f":"F1119*Endbetrag!$F$7","v":0},0,""]
[1116,94,0,{"$f":"Endbetrag!$D$5*(1+Endbetrag!$D$6)^(B1120-1)","v":25227.601674801386},0,0,{"$f":"F1120*Endbetrag!$F$7","v":0},0,""]
[1117,94,0,{"$f":"Endbetrag!$D$5*(1+Endbetrag!$D$6)^(B1121-1)","v":25227.601674801386},0,0,{"$f":"F1121*Endbetrag!$F$7","v":0},0,""]
[1118,94,0,{"$f":"Endbetrag!$D$5*(1+Endbetrag!$D$6)^(B1122-1)","v":25227.601674801386},0,0,{"$f":"F1122*Endbetrag!$F$7","v":0},0,""]
[1119,94,0,{"$f":"Endbetrag!$D$5*(1+Endbetrag!$D$6)^(B1123-1)","v":25227.601674801386},0,0,{"$f":"F1123*Endbetrag!$F$7","v":0},0,""]
[1120,94,0,{"$f":"Endbetrag!$D$5*(1+Endbetrag!$D$6)^(B1124-1)","v":25227.601674801386},0,0,{"$f":"F1124*Endbetrag!$F$7","v":0},0,""]
[1121,94,0,{"$f":"Endbetrag!$D$5*(1+Endbetrag!$D$6)^(B1125-1)","v":25227.601674801386},0,0,{"$f":"F1125*Endbetrag!$F$7","v":0},0,""]
[1122,94,0,{"$f":"Endbetrag!$D$5*(1+Endbetrag!$D$6)^(B1126-1)","v":25227.601674801386},0,0,{"$f":"F1126*Endbetrag!$F$7","v":0},0,""]
[1123,94,0,{"$f":"Endbetrag!$D$5*(1+Endbetrag!$D$6)^(B1127-1)","v":25227.601674801386},0,0,{"$f":"F1127*Endbetrag!$F$7","v":0},0,""]
[1124,94,0,{"$f":"Endbetrag!$D$5*(1+Endbetrag!$D$6)^(B1128-1)","v":25227.601674801386},0,0,{"$f":"F1128*Endbetrag!$F$7","v":0},0,""]
[1125,94,0,{"$f":"Endbetrag!$D$5*(1+Endbetrag!$D$6)^(B1129-1)","v":25227.601674801386},0,0,{"$f":"F1129*Endbetrag!$F$7","v":0},0,""]
[1126,94,0,{"$f":"Endbetrag!$D$5*(1+Endbetrag!$D$6)^(B1130-1)","v":25227.601674801386},0,0,{"$f":"F1130*Endbetrag!$F$7","v":0},0,""]
[1127,94,0,{"$f":"Endbetrag!$D$5*(1+Endbetrag!$D$6)^(B1131-1)","v":25227.601674801386},0,0,{"$f":"F1131*Endbetrag!$F$7","v":0},0,""]
[1128,95,0,{"$f":"Endbetrag!$D$5*(1+Endbetrag!$D$6)^(B1132-1)","v":25732.153708297417},0,0,{"$f":"F1132*Endbetrag!$F$7","v":0},0,""]
[1129,95,0,{"$f":"Endbetrag!$D$5*(1+Endbetrag!$D$6)^(B1133-1)","v":25732.153708297417},0,0,{"$f":"F1133*Endbetrag!$F$7","v":0},0,""]
[1130,95,0,{"$f":"Endbetrag!$D$5*(1+Endbetrag!$D$6)^(B1134-1)","v":25732.153708297417},0,0,{"$f":"F1134*Endbetrag!$F$7","v":0},0,""]
[1131,95,0,{"$f":"Endbetrag!$D$5*(1+Endbetrag!$D$6)^(B1135-1)","v":25732.153708297417},0,0,{"$f":"F1135*Endbetrag!$F$7","v":0},0,""]
[1132,95,0,{"$f":"Endbetrag!$D$5*(1+Endbetrag!$D$6)^(B1136-1)","v":25732.153708297417},0,0,{"$f":"F1136*Endbetrag!$F$7","v":0},0,""]
[1133,95,0,{"$f":"Endbetrag!$D$5*(1+Endbetrag!$D$6)^(B1137-1)","v":25732.153708297417},0,0,{"$f":"F1137*Endbetrag!$F$7","v":0},0,""]
[1134,95,0,{"$f":"Endbetrag!$D$5*(1+Endbetrag!$D$6)^(B1138-1)","v":25732.153708297417},0,0,{"$f":"F1138*Endbetrag!$F$7","v":0},0,""]
[1135,95,0,{"$f":"Endbetrag!$D$5*(1+Endbetrag!$D$6)^(B1139-1)","v":25732.153708297417},0,0,{"$f":"F1139*Endbetrag!$F$7","v":0},0,""]
[1136,95,0,{"$f":"Endbetrag!$D$5*(1+Endbetrag!$D$6)^(B1140-1)","v":25732.153708297417},0,0,{"$f":"F1140*Endbetrag!$F$7","v":0},0,""]
[1137,95,0,{"$f":"Endbetrag!$D$5*(1+Endbetrag!$D$6)^(B1141-1)","v":25732.153708297417},0,0,{"$f":"F1141*Endbetrag!$F$7","v":0},0,""]
[1138,95,0,{"$f":"Endbetrag!$D$5*(1+Endbetrag!$D$6)^(B1142-1)","v":25732.153708297417},0,0,{"$f":"F1142*Endbetrag!$F$7","v":0},0,""]
[1139,95,0,{"$f":"Endbetrag!$D$5*(1+Endbetrag!$D$6)^(B1143-1)","v":25732.153708297417},0,0,{"$f":"F1143*Endbetrag!$F$7","v":0},0,""]
[1140,96,0,{"$f":"Endbetrag!$D$5*(1+Endbetrag!$D$6)^(B1144-1)","v":26246.79678246336},0,0,{"$f":"F1144*Endbetrag!$F$7","v":0},0,""]
[1141,96,0,{"$f":"Endbetrag!$D$5*(1+Endbetrag!$D$6)^(B1145-1)","v":26246.79678246336},0,0,{"$f":"F1145*Endbetrag!$F$7","v":0},0,""]
[1142,96,0,{"$f":"Endbetrag!$D$5*(1+Endbetrag!$D$6)^(B1146-1)","v":26246.79678246336},0,0,{"$f":"F1146*Endbetrag!$F$7","v":0},0,""]
[1143,96,0,{"$f":"Endbetrag!$D$5*(1+Endbetrag!$D$6)^(B1147-1)","v":26246.79678246336},0,0,{"$f":"F1147*Endbetrag!$F$7","v":0},0,""]
[1144,96,0,{"$f":"Endbetrag!$D$5*(1+Endbetrag!$D$6)^(B1148-1)","v":26246.79678246336},0,0,{"$f":"F1148*Endbetrag!$F$7","v":0},0,""]
[1145,96,0,{"$f":"Endbetrag!$D$5*(1+Endbetrag!$D$6)^(B1149-1)","v":26246.79678246336},0,0,{"$f":"F1149*Endbetrag!$F$7","v":0},0,""]
[1146,96,0,{"$f":"Endbetrag!$D$5*(1+Endbetrag!$D$6)^(B1150-1)","v":26246.79678246336},0,0,{"$f":"F1150*Endbetrag!$F$7","v":0},0,""]
[1147,96,0,{"$f":"Endbetrag!$D$5*(1+Endbetrag!$D$6)^(B1151-1)","v":26246.79678246336},0,0,{"$f":"F1151*Endbetrag!$F$7","v":0},0,""]
[1148,96,0,{"$f":"Endbetrag!$D$5*(1+Endbetrag!$D$6)^(B1152-1)","v":26246.79678246336},0,0,{"$f":"F1152*Endbetrag!$F$7","v":0},0,""]
[1149,96,0,{"$f":"Endbetrag!$D$5*(1+Endbetrag!$D$6)^(B1153-1)","v":26246.79678246336},0,0,{"$f":"F1153*Endbetrag!$F$7","v":0},0,""]
[1150,96,0,{"$f":"Endbetrag!$D$5*(1+Endbetrag!$D$6)^(B1154-1)","v":26246.79678246336},0,0,{"$f":"F1154*Endbetrag!$F$7","v":0},0,""]
[1151,96,0,{"$f":"Endbetrag!$D$5*(1+Endbetrag!$D$6)^(B1155-1)","v":26246.79678246336},0,0,{"$f":"F1155*Endbetrag!$F$7","v":0},0,""]
[1152,{"$f":"INT(A1156/12)+1","v":97},0,{"$f":"Endbetrag!$D$5*(1+Endbetrag!$D$6)^(B1156-1)","v":26771.732718112631},{"$f":"MIN(D1156,C1156)","v":0},{"$f":"C1156-E1156","v":0},{"$f":"F1156*Endbetrag!$F$7","v":0},{"$f":"MAX(0,F1156+G1156)","v":0},{"$f":"IF(H1156>0,A1156,\"\")","v":""}]
[1153,97,{"$f":"H1156","v":0},{"$f":"Endbetrag!$D$5*(1+Endbetrag!$D$6)^(B1157-1)","v":26771.732718112631},0,0,{"$f":"F1157*Endbetrag!$F$7","v":0},0,""]
[1154,97,0,{"$f":"Endbetrag!$D$5*(1+Endbetrag!$D$6)^(B1158-1)","v":26771.732718112631},0,0,{"$f":"F1158*Endbetrag!$F$7","v":0},0,""]
[1155,97,0,{"$f":"Endbetrag!$D$5*(1+Endbetrag!$D$6)^(B1159-1)","v":26771.732718112631},0,0,{"$f":"F1159*Endbetrag!$F$7","v":0},0,""]
[1156,97,0,{"$f":"Endbetrag!$D$5*(1+Endbetrag!$D$6)^(B1160-1)","v":26771.732718112631},0,0,{"$f":"F1160*Endbetrag!$F$7","v":0},0,""]
[1157,97,0,{"$f":"Endbetrag!$D$5*(1+Endbetrag!$D$6)^(B1161-1)","v":26771.732718112631},0,0,{"$f":"F1161*Endbetrag!$F$7","v":0},0,""]
[1158,97,0,{"$f":"Endbetrag!$D$5*(1+Endbetrag!$D$6)^(B1162-1)","v":26771.732718112631},0,0,{"$f":"F1162*Endbetrag!$F$7","v":0},0,""]
[1159,97,0,{"$f":"Endbetrag!$D$5*(1+Endbetrag!$D$6)^(B1163-1)","v":26771.732718112631},0,0,{"$f":"F1163*Endbetrag!$F$7","v":0},0,""]
[1160,97,0,{"$f":"Endbetrag!$D$5*(1+Endbetrag!$D$6)^(B1164-1)","v":26771.732718112631},0,0,{"$f":"F1164*Endbetrag!$F$7","v":0},0,""]
[1161,97,0,{"$f":"Endbetrag!$D$5*(1+Endbetrag!$D$6)^(B1165-1)","v":26771.732718112631},0,0,{"$f":"F1165*Endbetrag!$F$7","v":0},0,""]
[1162,97,0,{"$f":"Endbetrag!$D$5*(1+Endbetrag!$D$6)^(B1166-1)","v":26771.732718112631},0,0,{"$f":"F1166*Endbetrag!$F$7","v":0},0,""]
[1163,97,0,{"$f":"Endbetrag!$D$5*(1+Endbetrag!$D$6)^(B1167-1)","v":26771.732718112631},0,0,{"$f":"F1167*Endbetrag!$F$7","v":0},0,""]
[1164,98,0,{"$f":"Endbetrag!$D$5*(1+Endbetrag!$D$6)^(B1168-1)","v":27307.167372474887},0,0,{"$f":"F1168*Endbetrag!$F$7","v":0},0,""]
[1165,98,0,{"$f":"Endbetrag!$D$5*(1+Endbetrag!$D$6)^(B1169-1)","v":27307.167372474887},0,0,{"$f":"F1169*Endbetrag!$F$7","v":0},0,""]
[1166,98,0,{"$f":"Endbetrag!$D$5*(1+Endbetrag!$D$6)^(B1170-1)","v":27307.167372474887},0,0,{"$f":"F1170*Endbetrag!$F$7","v":0},0,""]
[1167,98,0,{"$f":"Endbetrag!$D$5*(1+Endbetrag!$D$6)^(B1171-1)","v":27307.167372474887},0,0,{"$f":"F1171*Endbetrag!$F$7","v":0},0,""]
[1168,98,0,{"$f":"Endbetrag!$D$5*(1+Endbetrag!$D$6)^(B1172-1)","v":27307.167372474887},0,0,{"$f":"F1172*Endbetrag!$F$7","v":0},0,""]
[1169,98,0,{"$f":"Endbetrag!$D$5*(1+Endbetrag!$D$6)^(B1173-1)","v":27307.167372474887},0,0,{"$f":"F1173*Endbetrag!$F$7","v":0},0,""]
[1170,98,0,{"$f":"Endbetrag!$D$5*(1+Endbetrag!$D$6)^(B1174-1)","v":27307.167372474887},0,0,{"$f":"F1174*Endbetrag!$F$7","v":0},0,""]
[1171,98,0,{"$f":"Endbetrag!$D$5*(1+Endbetrag!$D$6)^(B1175-1)","v":27307.167372474887},0,0,{"$f":"F1175*Endbetrag!$F$7","v":0},0,""]
[1172,98,0,{"$f":"Endbetrag!$D$5*(1+Endbetrag!$D$6)^(B1176-1)","v":27307.167372474887},0,0,{"$f":"F1176*Endbetrag!$F$7","v":0},0,""]
[1173,98,0,{"$f":"Endbetrag!$D$5*(1+Endbetrag!$D$6)^(B1177-1)","v":27307.167372474887},0,0,{"$f":"F1177*Endbetrag!$F$7","v":0},0,""]
[1174,98,0,{"$f":"Endbetrag!$D$5*(1+Endbetrag!$D$6)^(B1178-1)","v":27307.167372474887},0,0,{"$f":"F1178*Endbetrag!$F$7","v":0},0,""]
[1175,98,0,{"$f":"Endbetrag!$D$5*(1+Endbetrag!$D$6)^(B1179-1)","v":27307.167372474887},0,0,{"$f":"F1179*Endbetrag!$F$7","v":0},0,""]
[1176,99,0,{"$f":"Endbetrag!$D$5*(1+Endbetrag!$D$6)^(B1180-1)","v":27853.310719924379},0,0,{"$f":"F1180*Endbetrag!$F$7","v":0},0,""]
[1177,99,0,{"$f":"Endbetrag!$D$5*(1+Endbetrag!$D$6)^(B1181-1)","v":27853.310719924379},0,0,{"$f":"F1181*Endbetrag!$F$7","v":0},0,""]
[1178,99,0,{"$f":"Endbetrag!$D$5*(1+Endbetrag!$D$6)^(B1182-1)","v":27853.310719924379},0,0,{"$f":"F1182*Endbetrag!$F$7","v":0},0,""]
[1179,99,0,{"$f":"Endbetrag!$D$5*(1+Endbetrag!$D$6)^(B1183-1)","v":27853.310719924379},0,0,{"$f":"F1183*Endbetrag!$F$7","v":0},0,""]
[1180,99,0,{"$f":"Endbetrag!$D$5*(1+Endbetrag!$D$6)^(B1184-1)","v":27853.310719924379},0,0,{"$f":"F1184*Endbetrag!$F$7","v":0},0,""]
[1181,99,0,{"$f":"Endbetrag!$D$5*(1+Endbetrag!$D$6)^(B1185-1)","v":27853.310719924379},0,0,{"$f":"F1185*Endbetrag!$F$7","v":0},0,""]
[1182,99,0,{"$f":"Endbetrag!$D$5*(1+Endbetrag!$D$6)^(B1186-1)","v":27853.310719924379},0,0,{"$f":"F1186*Endbetrag!$F$7","v":0},0,""]
[1183,99,0,{"$f":"Endbetrag!$D$5*(1+Endbetrag!$D$6)^(B1187-1)","v":27853.310719924379},0,0,{"$f":"F1187*Endbetrag!$F$7","v":0},0,""]
[1184,99,0,{"$f":"Endbetrag!$D$5*(1+Endbetrag!$D$6)^(B1188-1)","v":27853.310719924379},0,0,{"$f":"F1188*Endbetrag!$F$7","v":0},0,""]
[1185,99,0,{"$f":"Endbetrag!$D$5*(1+Endbetrag!$D$6)^(B1189-1)","v":27853.310719924379},0,0,{"$f":"F1189*Endbetrag!$F$7","v":0},0,""]
[1186,99,0,{"$f":"Endbetrag!$D$5*(1+Endbetrag!$D$6)^(B1190-1)","v":27853.310719924379},0,0,{"$f":"F1190*Endbetrag!$F$7","v":0},0,""]
[1187,99,0,{"$f":"Endbetrag!$D$5*(1+Endbetrag!$D$6)^(B1191-1)","v":27853.310719924379},0,0,{"$f":"F1191*Endbetrag!$F$7","v":0},0,""]
[1188,100,0,{"$f":"Endbetrag!$D$5*(1+Endbetrag!$D$6)^(B1192-1)","v":28410.376934322871},0,0,{"$f":"F1192*Endbetrag!$F$7","v":0},0,""]
[1189,100,0,{"$f":"Endbetrag!$D$5*(1+Endbetrag!$D$6)^(B1193-1)","v":28410.376934322871},0,0,{"$f":"F1193*Endbetrag!$F$7","v":0},0,""]
[1190,100,0,{"$f":"Endbetrag!$D$5*(1+Endbetrag!$D$6)^(B1194-1)","v":28410.376934322871},0,0,{"$f":"F1194*Endbetrag!$F$7","v":0},0,""]
[1191,100,0,{"$f":"Endbetrag!$D$5*(1+Endbetrag!$D$6)^(B1195-1)","v":28410.376934322871},0,0,{"$f":"F1195*Endbetrag!$F$7","v":0},0,""]
[1192,100,0,{"$f":"Endbetrag!$D$5*(1+Endbetrag!$D$6)^(B1196-1)","v":28410.376934322871},0,0,{"$f":"F1196*Endbetrag!$F$7","v":0},0,""]
[1193,100,0,{"$f":"Endbetrag!$D$5*(1+Endbetrag!$D$6)^(B1197-1)","v":28410.376934322871},0,0,{"$f":"F1197*Endbetrag!$F$7","v":0},0,""]
[1194,100,0,{"$f":"Endbetrag!$D$5*(1+Endbetrag!$D$6)^(B1198-1)","v":28410.376934322871},0,0,{"$f":"F1198*Endbetrag!$F$7","v":0},0,""]
[1195,100,0,{"$f":"Endbetrag!$D$5*(1+Endbetrag!$D$6)^(B1199-1)","v":28410.376934322871},0,0,{"$f":"F1199*Endbetrag!$F$7","v":0},0,""]
[1196,100,0,{"$f":"Endbetrag!$D$5*(1+Endbetrag!$D$6)^(B1200-1)","v":28410.376934322871},0,0,{"$f":"F1200*Endbetrag!$F$7","v":0},0,""]
[1197,100,0,{"$f":"Endbetrag!$D$5*(1+Endbetrag!$D$6)^(B1201-1)","v":28410.376934322871},0,0,{"$f":"F1201*Endbetrag!$F$7","v":0},0,""]
[1198,100,{"$f":"H1201","v":0},{"$f":"Endbetrag!$D$5*(1+Endbetrag!$D$6)^(B1202-1)","v":28410.376934322871},{"$f":"MIN(D1202,C1202)","v":0},{"$f":"C1202-E1202","v":0},{"$f":"F1202*Endbetrag!$F$7","v":0},{"$f":"MAX(0,F1202+G1202)","v":0},{"$f":"IF(H1202>0,A1202,\"\")","v":""}]
[1199,100,0,{"$f":"Endbetrag!$D$5*(1+Endbetrag!$D$6)^(B1203-1)","v":28410.376934322871},0,0,{"$f":"F1203*Endbetrag!$F$7","v":0},0,""]
["Formelende",null,null,"Formelende"]

{"sheet":"EB-Jahre","index":6,"n_rows":105,"n_cols":14,"rows_kept":105,"cut":false,"hidden":true,"merged":[]}
["Endwert: Jahreswerte (aus Monatssimulation abgeleitet)",null,null,null,null,null,null,null,null,null,null,"Dynamische Rohdaten für Grafik"]
[]
[{"$f":"\"Nach dem \" &EB_Zeitr &\" jährigen Auszahlungszeitraum bleiben noch \" &TEXT(EB_E_Kap,\"#.##0\") &\" EUR\"","v":"Nach dem 15 jährigen Auszahlungszeitraum bleiben noch 182.291 EUR"},null,null,null,null,null,null,null,null,null,null,"Jahr","Kap. rel.","Endwert"]
["Jahr","Kapital\nJahresende","Kapital relativ\n(Start=1)","Jahresentnahme\n(nominal, infl.)","Beschr.",null,null,null,null,null,"Namen =>","EB_Jahre","EB_Kap_rel","EB_Wert"]
[0,{"$f":"Endbetrag!$D$4","v":750000},{"$f":"IF(Endbetrag!$D$4=0,0,B5/Endbetrag!$D$4)","v":1},{"$f":"12*Endbetrag!$D$5","v":48000},{"$f":"IF(A5=1,$B$5,IF(A5=EB_Zeitr,B5,0))","v":0},null,null,null,null,null,null,{"$f":"_xlfn.SEQUENCE(EB_Zeitr)","v":1},{"$f":"_xlfn._xlws.FILTER($C$6:$C$105,NOT(ISERROR($C$6:$C$105)))","v":0.96979304354522655},{"$f":"_xlfn._xlws.FILTER($E$6:$E$105,NOT(ISERROR($C$6:$C$105)))","v":750000}]
[1,{"$f":"IF(A6>EB_Zeitr,0,IFERROR(INDEX('EB-Monate'!$H$4:$H$1203, A6*12),0))","v":727344.78265891992},{"$f":"IF(A6>EB_Zeitr,NA(),IF(Endbetrag!$D$4=0,0,B6/Endbetrag!$D$4))","v":0.96979304354522655},{"$f":"IF(A6>EB_Zeitr,0,12*Endbetrag!$D$5*(1+Endbetrag!$D$6)^(A6-1))","v":48000},750000,null,null,null,null,null,null,2,0.93722470448544104,0]
[2,{"$f":"IF(A7>EB_Zeitr,0,IFERROR(INDEX('EB-Monate'!$H$4:$H$1203, A7*12),0))","v":702918.52836408082},{"$f":"IF(A7>EB_Zeitr,NA(),IF(Endbetrag!$D$4=0,0,B7/Endbetrag!$D$4))","v":0.93722470448544104},{"$f":"IF(A7>EB_Zeitr,0,12*Endbetrag!$D$5*(1+Endbetrag!$D$6)^(A7-1))","v":48960},0,null,null,null,null,null,null,3,0.90218625164688593,0]
[3,{"$f":"IF(A8>EB_Zeitr,0,IFERROR(INDEX('EB-Monate'!$H$4:$H$1203, A8*12),0))","v":676639.68873516447},{"$f":"IF(A8>EB_Zeitr,NA(),IF(Endbetrag!$D$4=0,0,B8/Endbetrag!$D$4))","v":0.90218625164688593},{"$f":"IF(A8>EB_Zeitr,0,12*Endbetrag!$D$5*(1+Endbetrag!$D$6)^(A8-1))","v":49939.199999999997},0,null,null,null,null,null,null,4,0.8645646266090693,0]
[4,{"$f":"IF(A9>EB_Zeitr,0,IFERROR(INDEX('EB-Monate'!$H$4:$H$1203, A9*12),0))","v":648423.46995680197},{"$f":"IF(A9>EB_Zeitr,NA(),IF(Endbetrag!$D$4=0,0,B9/Endbetrag!$D$4))","v":0.8645646266090693},{"$f":"IF(A9>EB_Zeitr,0,12*Endbetrag!$D$5*(1+Endbetrag!$D$6)^(A9-1))","v":50937.983999999997},0,null,null,null,null,null,null,5,0.82424228181802073,0]
[5,{"$f":"IF(A10>EB_Zeitr,0,IFERROR(INDEX('EB-Monate'!$H$4:$H$1203, A10*12),0))","v":618181.71136351558},{"$f":"IF(A10>EB_Zeitr,NA(),IF(Endbetrag!$D$4=0,0,B10/Endbetrag!$D$4))","v":0.82424228181802073},{"$f":"IF(A10>EB_Zeitr,0,12*Endbetrag!$D$5*(1+Endbetrag!$D$6)^(A10-1))","v":51956.74368},0,null,null,null,null,null,null,6,0.78109701282483834,0]
[6,{"$f":"IF(A11>EB_Zeitr,0,IFERROR(INDEX('EB-Monate'!$H$4:$H$1203, A11*12),0))","v":585822.75961862877},{"$f":"IF(A11>EB_Zeitr,NA(),IF(Endbetrag!$D$4=0,0,B11/Endbetrag!$D$4))","v":0.78109701282483834},{"$f":"IF(A11>EB_Zeitr,0,12*Endbetrag!$D$5*(1+Endbetrag!$D$6)^(A11-1))","v":52995.8785536},0,null,null,null,null,null,null,7,0.73500178443975772,0]
[7,{"$f":"IF(A12>EB_Zeitr,0,IFERROR(INDEX('EB-Monate'!$H$4:$H$1203, A12*12),0))","v":551251.33832981833},{"$f":"IF(A12>EB_Zeitr,NA(),IF(Endbetrag!$D$4=0,0,B12/Endbetrag!$D$4))","v":0.73500178443975772},{"$f":"IF(A12>EB_Zeitr,0,12*Endbetrag!$D$5*(1+Endbetrag!$D$6)^(A12-1))","v":54055.796124672001},0,null,null,null,null,null,null,8,0.68582455058452019,0]
[8,{"$f":"IF(A13>EB_Zeitr,0,IFERROR(INDEX('EB-Monate'!$H$4:$H$1203, A13*12),0))","v":514368.41293839016},{"$f":"IF(A13>EB_Zeitr,NA(),IF(Endbetrag!$D$4=0,0,B13/Endbetrag!$D$4))","v":0.68582455058452019},{"$f":"IF(A13>EB_Zeitr,0,12*Endbetrag!$D$5*(1+Endbetrag!$D$6)^(A13-1))","v":55136.912047165431},0,null,null,null,null,null,null,9,0.63342806761813741,0]
[9,{"$f":"IF(A14>EB_Zeitr,0,IFERROR(INDEX('EB-Monate'!$H$4:$H$1203, A14*12),0))","v":475071.05071360304},{"$f":"IF(A14>EB_Zeitr,NA(),IF(Endbetrag!$D$4=0,0,B14/Endbetrag!$D$4))","v":0.63342806761813741},{"$f":"IF(A14>EB_Zeitr,0,12*Endbetrag!$D$5*(1+Endbetrag!$D$6)^(A14-1))","v":56239.650288108744},0,null,null,null,null,null,null,10,0.57766970090319436,0]
[10,{"$f":"IF(A15>EB_Zeitr,0,IFERROR(INDEX('EB-Monate'!$H$4:$H$1203, A15*12),0))","v":433252.27567739581},{"$f":"IF(A15>EB_Zeitr,NA(),IF(Endbetrag!$D$4=0,0,B15/Endbetrag!$D$4))","v":0.57766970090319436},{"$f":"IF(A15>EB_Zeitr,0,12*Endbetrag!$D$5*(1+Endbetrag!$D$6)^(A15-1))","v":57364.443293870921},0,null,null,null,null,null,null,11,0.51840122437159608,0]
[11,{"$f":"IF(A16>EB_Zeitr,0,IFERROR(INDEX('EB-Monate'!$H$4:$H$1203, A16*12),0))","v":388800.91827869706},{"$f":"IF(A16>EB_Zeitr,NA(),IF(Endbetrag!$D$4=0,0,B16/Endbetrag!$D$4))","v":0.51840122437159608},{"$f":"IF(A16>EB_Zeitr,0,12*Endbetrag!$D$5*(1+Endbetrag!$D$6)^(A16-1))","v":58511.732159748339},0,null,null,null,null,null,null,12,0.45546861284012846,0]
[12,{"$f":"IF(A17>EB_Zeitr,0,IFERROR(INDEX('EB-Monate'!$H$4:$H$1203, A17*12),0))","v":341601.45963009633},{"$f":"IF(A17>EB_Zeitr,NA(),IF(Endbetrag!$D$4=0,0,B17/Endbetrag!$D$4))","v":0.45546861284012846},{"$f":"IF(A17>EB_Zeitr,0,12*Endbetrag!$D$5*(1+Endbetrag!$D$6)^(A17-1))","v":59681.966802943294},0,null,null,null,null,null,null,13,0.38871182681736932,0]
[13,{"$f":"IF(A18>EB_Zeitr,0,IFERROR(INDEX('EB-Monate'!$H$4:$H$1203, A18*12),0))","v":291533.87011302699},{"$f":"IF(A18>EB_Zeitr,NA(),IF(Endbetrag!$D$4=0,0,B18/Endbetrag!$D$4))","v":0.38871182681736932},{"$f":"IF(A18>EB_Zeitr,0,12*Endbetrag!$D$5*(1+Endbetrag!$D$6)^(A18-1))","v":60875.606139002171},0,null,null,null,null,null,null,14,0.3179645895343704,0]
[14,{"$f":"IF(A19>EB_Zeitr,0,IFERROR(INDEX('EB-Monate'!$H$4:$H$1203, A19*12),0))","v":238473.44215077782},{"$f":"IF(A19>EB_Zeitr,NA(),IF(Endbetrag!$D$4=0,0,B19/Endbetrag!$D$4))","v":0.3179645895343704},{"$f":"IF(A19>EB_Zeitr,0,12*Endbetrag!$D$5*(1+Endbetrag!$D$6)^(A19-1))","v":62093.118261782212},0,null,null,null,null,null,null,15,0.24305415592203461,182290.61694152595]
[15,{"$f":"IF(A20>EB_Zeitr,0,IFERROR(INDEX('EB-Monate'!$H$4:$H$1203, A20*12),0))","v":182290.61694152595},{"$f":"IF(A20>EB_Zeitr,NA(),IF(Endbetrag!$D$4=0,0,B20/Endbetrag!$D$4))","v":0.24305415592203461},{"$f":"IF(A20>EB_Zeitr,0,12*Endbetrag!$D$5*(1+Endbetrag!$D$6)^(A20-1))","v":63334.98062701786},182290.61694152595]
[16,{"$f":"IF(A21>EB_Zeitr,0,IFERROR(INDEX('EB-Monate'!$H$4:$H$1203, A21*12),0))","v":0},{"$f":"IF(A21>EB_Zeitr,NA(),IF(Endbetrag!$D$4=0,0,B21/Endbetrag!$D$4))","v":{"$error":"#N/A"}},{"$f":"IF(A21>EB_Zeitr,0,12*Endbetrag!$D$5*(1+Endbetrag!$D$6)^(A21-1))","v":0},0]
[17,{"$f":"IF(A22>EB_Zeitr,0,IFERROR(INDEX('EB-Monate'!$H$4:$H$1203, A22*12),0))","v":0},{"$f":"IF(A22>EB_Zeitr,NA(),IF(Endbetrag!$D$4=0,0,B22/Endbetrag!$D$4))","v":{"$error":"#N/A"}},{"$f":"IF(A22>EB_Zeitr,0,12*Endbetrag!$D$5*(1+Endbetrag!$D$6)^(A22-1))","v":0},0]
[18,{"$f":"IF(A23>EB_Zeitr,0,IFERROR(INDEX('EB-Monate'!$H$4:$H$1203, A23*12),0))","v":0},{"$f":"IF(A23>EB_Zeitr,NA(),IF(Endbetrag!$D$4=0,0,B23/Endbetrag!$D$4))","v":{"$error":"#N/A"}},{"$f":"IF(A23>EB_Zeitr,0,12*Endbetrag!$D$5*(1+Endbetrag!$D$6)^(A23-1))","v":0},0]
[19,{"$f":"IF(A24>EB_Zeitr,0,IFERROR(INDEX('EB-Monate'!$H$4:$H$1203, A24*12),0))","v":0},{"$f":"IF(A24>EB_Zeitr,NA(),IF(Endbetrag!$D$4=0,0,B24/Endbetrag!$D$4))","v":{"$error":"#N/A"}},{"$f":"IF(A24>EB_Zeitr,0,12*Endbetrag!$D$5*(1+Endbetrag!$D$6)^(A24-1))","v":0},0]
[20,{"$f":"IF(A25>EB_Zeitr,0,IFERROR(INDEX('EB-Monate'!$H$4:$H$1203, A25*12),0))","v":0},{"$f":"IF(A25>EB_Zeitr,NA(),IF(Endbetrag!$D$4=0,0,B25/Endbetrag!$D$4))","v":{"$error":"#N/A"}},{"$f":"IF(A25>EB_Zeitr,0,12*Endbetrag!$D$5*(1+Endbetrag!$D$6)^(A25-1))","v":0},0]
[21,{"$f":"IF(A26>EB_Zeitr,0,IFERROR(INDEX('EB-Monate'!$H$4:$H$1203, A26*12),0))","v":0},{"$f":"IF(A26>EB_Zeitr,NA(),IF(Endbetrag!$D$4=0,0,B26/Endbetrag!$D$4))","v":{"$error":"#N/A"}},{"$f":"IF(A26>EB_Zeitr,0,12*Endbetrag!$D$5*(1+Endbetrag!$D$6)^(A26-1))","v":0},0]
[22,{"$f":"IF(A27>EB_Zeitr,0,IFERROR(INDEX('EB-Monate'!$H$4:$H$1203, A27*12),0))","v":0},{"$f":"IF(A27>EB_Zeitr,NA(),IF(Endbetrag!$D$4=0,0,B27/Endbetrag!$D$4))","v":{"$error":"#N/A"}},{"$f":"IF(A27>EB_Zeitr,0,12*Endbetrag!$D$5*(1+Endbetrag!$D$6)^(A27-1))","v":0},0]
[23,{"$f":"IF(A28>EB_Zeitr,0,IFERROR(INDEX('EB-Monate'!$H$4:$H$1203, A28*12),0))","v":0},{"$f":"IF(A28>EB_Zeitr,NA(),IF(Endbetrag!$D$4=0,0,B28/Endbetrag!$D$4))","v":{"$error":"#N/A"}},{"$f":"IF(A28>EB_Zeitr,0,12*Endbetrag!$D$5*(1+Endbetrag!$D$6)^(A28-1))","v":0},0]
[24,{"$f":"IF(A29>EB_Zeitr,0,IFERROR(INDEX('EB-Monate'!$H$4:$H$1203, A29*12),0))","v":0},{"$f":"IF(A29>EB_Zeitr,NA(),IF(Endbetrag!$D$4=0,0,B29/Endbetrag!$D$4))","v":{"$error":"#N/A"}},{"$f":"IF(A29>EB_Zeitr,0,12*Endbetrag!$D$5*(1+Endbetrag!$D$6)^(A29-1))","v":0},0]
[25,{"$f":"IF(A30>EB_Zeitr,0,IFERROR(INDEX('EB-Monate'!$H$4:$H$1203, A30*12),0))","v":0},{"$f":"IF(A30>EB_Zeitr,NA(),IF(Endbetrag!$D$4=0,0,B30/Endbetrag!$D$4))","v":{"$error":"#N/A"}},{"$f":"IF(A30>EB_Zeitr,0,12*Endbetrag!$D$5*(1+Endbetrag!$D$6)^(A30-1))","v":0},0]
[26,{"$f":"IF(A31>EB_Zeitr,0,IFERROR(INDEX('EB-Monate'!$H$4:$H$1203, A31*12),0))","v":0},{"$f":"IF(A31>EB_Zeitr,NA(),IF(Endbetrag!$D$4=0,0,B31/Endbetrag!$D$4))","v":{"$error":"#N/A"}},{"$f":"IF(A31>EB_Zeitr,0,12*Endbetrag!$D$5*(1+Endbetrag!$D$6)^(A31-1))","v":0},0]
[27,{"$f":"IF(A32>EB_Zeitr,0,IFERROR(INDEX('EB-Monate'!$H$4:$H$1203, A32*12),0))","v":0},{"$f":"IF(A32>EB_Zeitr,NA(),IF(Endbetrag!$D$4=0,0,B32/Endbetrag!$D$4))","v":{"$error":"#N/A"}},{"$f":"IF(A32>EB_Zeitr,0,12*Endbetrag!$D$5*(1+Endbetrag!$D$6)^(A32-1))","v":0},0]
[28,{"$f":"IF(A33>EB_Zeitr,0,IFERROR(INDEX('EB-Monate'!$H$4:$H$1203, A33*12),0))","v":0},{"$f":"IF(A33>EB_Zeitr,NA(),IF(Endbetrag!$D$4=0,0,B33/Endbetrag!$D$4))","v":{"$error":"#N/A"}},{"$f":"IF(A33>EB_Zeitr,0,12*Endbetrag!$D$5*(1+Endbetrag!$D$6)^(A33-1))","v":0},0]
[29,{"$f":"IF(A34>EB_Zeitr,0,IFERROR(INDEX('EB-Monate'!$H$4:$H$1203, A34*12),0))","v":0},{"$f":"IF(A34>EB_Zeitr,NA(),IF(Endbetrag!$D$4=0,0,B34/Endbetrag!$D$4))","v":{"$error":"#N/A"}},{"$f":"IF(A34>EB_Zeitr,0,12*Endbetrag!$D$5*(1+Endbetrag!$D$6)^(A34-1))","v":0},0]
[30,{"$f":"IF(A35>EB_Zeitr,0,IFERROR(INDEX('EB-Monate'!$H$4:$H$1203, A35*12),0))","v":0},{"$f":"IF(A35>EB_Zeitr,NA(),IF(Endbetrag!$D$4=0,0,B35/Endbetrag!$D$4))","v":{"$error":"#N/A"}},{"$f":"IF(A35>EB_Zeitr,0,12*Endbetrag!$D$5*(1+Endbetrag!$D$6)^(A35-1))","v":0},0]
[31,{"$f":"IF(A36>EB_Zeitr,0,IFERROR(INDEX('EB-Monate'!$H$4:$H$1203, A36*12),0))","v":0},{"$f":"IF(A36>EB_Zeitr,NA(),IF(Endbetrag!$D$4=0,0,B36/Endbetrag!$D$4))","v":{"$error":"#N/A"}},{"$f":"IF(A36>EB_Zeitr,0,12*Endbetrag!$D$5*(1+Endbetrag!$D$6)^(A36-1))","v":0},0]
[32,{"$f":"IF(A37>EB_Zeitr,0,IFERROR(INDEX('EB-Monate'!$H$4:$H$1203, A37*12),0))","v":0},{"$f":"IF(A37>EB_Zeitr,NA(),IF(Endbetrag!$D$4=0,0,B37/Endbetrag!$D$4))","v":{"$error":"#N/A"}},{"$f":"IF(A37>EB_Zeitr,0,12*Endbetrag!$D$5*(1+Endbetrag!$D$6)^(A37-1))","v":0},0]
[33,{"$f":"IF(A38>EB_Zeitr,0,IFERROR(INDEX('EB-Monate'!$H$4:$H$1203, A38*12),0))","v":0},{"$f":"IF(A38>EB_Zeitr,NA(),IF(Endbetrag!$D$4=0,0,B38/Endbetrag!$D$4))","v":{"$error":"#N/A"}},{"$f":"IF(A38>EB_Zeitr,0,12*Endbetrag!$D$5*(1+Endbetrag!$D$6)^(A38-1))","v":0},{"$f":"IF(A38=1,$B$5,IF(A38=EB_Zeitr,B38,0))","v":0}]
[34,{"$f":"IF(A39>EB_Zeitr,0,IFERROR(INDEX('EB-Monate'!$H$4:$H$1203, A39*12),0))","v":0},{"$f":"IF(A39>EB_Zeitr,NA(),IF(Endbetrag!$D$4=0,0,B39/Endbetrag!$D$4))","v":{"$error":"#N/A"}},{"$f":"IF(A39>EB_Zeitr,0,12*Endbetrag!$D$5*(1+Endbetrag!$D$6)^(A39-1))","v":0},0]
[35,{"$f":"IF(A40>EB_Zeitr,0,IFERROR(INDEX('EB-Monate'!$H$4:$H$1203, A40*12),0))","v":0},{"$f":"IF(A40>EB_Zeitr,NA(),IF(Endbetrag!$D$4=0,0,B40/Endbetrag!$D$4))","v":{"$error":"#N/A"}},{"$f":"IF(A40>EB_Zeitr,0,12*Endbetrag!$D$5*(1+Endbetrag!$D$6)^(A40-1))","v":0},0]
[36,{"$f":"IF(A41>EB_Zeitr,0,IFERROR(INDEX('EB-Monate'!$H$4:$H$1203, A41*12),0))","v":0},{"$f":"IF(A41>EB_Zeitr,NA(),IF(Endbetrag!$D$4=0,0,B41/Endbetrag!$D$4))","v":{"$error":"#N/A"}},{"$f":"IF(A41>EB_Zeitr,0,12*Endbetrag!$D$5*(1+Endbetrag!$D$6)^(A41-1))","v":0},0]
[37,{"$f":"IF(A42>EB_Zeitr,0,IFERROR(INDEX('EB-Monate'!$H$4:$H$1203, A42*12),0))","v":0},{"$f":"IF(A42>EB_Zeitr,NA(),IF(Endbetrag!$D$4=0,0,B42/Endbetrag!$D$4))","v":{"$error":"#N/A"}},{"$f":"IF(A42>EB_Zeitr,0,12*Endbetrag!$D$5*(1+Endbetrag!$D$6)^(A42-1))","v":0},0]
[38,{"$f":"IF(A43>EB_Zeitr,0,IFERROR(INDEX('EB-Monate'!$H$4:$H$1203, A43*12),0))","v":0},{"$f":"IF(A43>EB_Zeitr,NA(),IF(Endbetrag!$D$4=0,0,B43/Endbetrag!$D$4))","v":{"$error":"#N/A"}},{"$f":"IF(A43>EB_Zeitr,0,12*Endbetrag!$D$5*(1+Endbetrag!$D$6)^(A43-1))","v":0},0]
[39,{"$f":"IF(A44>EB_Zeitr,0,IFERROR(INDEX('EB-Monate'!$H$4:$H$1203, A44*12),0))","v":0},{"$f":"IF(A44>EB_Zeitr,NA(),IF(Endbetrag!$D$4=0,0,B44/Endbetrag!$D$4))","v":{"$error":"#N/A"}},{"$f":"IF(A44>EB_Zeitr,0,12*Endbetrag!$D$5*(1+Endbetrag!$D$6)^(A44-1))","v":0},0]
[40,{"$f":"IF(A45>EB_Zeitr,0,IFERROR(INDEX('EB-Monate'!$H$4:$H$1203, A45*12),0))","v":0},{"$f":"IF(A45>EB_Zeitr,NA(),IF(Endbetrag!$D$4=0,0,B45/Endbetrag!$D$4))","v":{"$error":"#N/A"}},{"$f":"IF(A45>EB_Zeitr,0,12*Endbetrag!$D$5*(1+Endbetrag!$D$6)^(A45-1))","v":0},0]
[41,{"$f":"IF(A46>EB_Zeitr,0,IFERROR(INDEX('EB-Monate'!$H$4:$H$1203, A46*12),0))","v":0},{"$f":"IF(A46>EB_Zeitr,NA(),IF(Endbetrag!$D$4=0,0,B46/Endbetrag!$D$4))","v":{"$error":"#N/A"}},{"$f":"IF(A46>EB_Zeitr,0,12*Endbetrag!$D$5*(1+Endbetrag!$D$6)^(A46-1))","v":0},0]
[42,{"$f":"IF(A47>EB_Zeitr,0,IFERROR(INDEX('EB-Monate'!$H$4:$H$1203, A47*12),0))","v":0},{"$f":"IF(A47>EB_Zeitr,NA(),IF(Endbetrag!$D$4=0,0,B47/Endbetrag!$D$4))","v":{"$error":"#N/A"}},{"$f":"IF(A47>EB_Zeitr,0,12*Endbetrag!$D$5*(1+Endbetrag!$D$6)^(A47-1))","v":0},0]
[43,{"$f":"IF(A48>EB_Zeitr,0,IFERROR(INDEX('EB-Monate'!$H$4:$H$1203, A48*12),0))","v":0},{"$f":"IF(A48>EB_Zeitr,NA(),IF(Endbetrag!$D$4=0,0,B48/Endbetrag!$D$4))","v":{"$error":"#N/A"}},{"$f":"IF(A48>EB_Zeitr,0,12*Endbetrag!$D$5*(1+Endbetrag!$D$6)^(A48-1))","v":0},0]
[44,{"$f":"IF(A49>EB_Zeitr,0,IFERROR(INDEX('EB-Monate'!$H$4:$H$1203, A49*12),0))","v":0},{"$f":"IF(A49>EB_Zeitr,NA(),IF(Endbetrag!$D$4=0,0,B49/Endbetrag!$D$4))","v":{"$error":"#N/A"}},{"$f":"IF(A49>EB_Zeitr,0,12*Endbetrag!$D$5*(1+Endbetrag!$D$6)^(A49-1))","v":0},0]
[45,{"$f":"IF(A50>EB_Zeitr,0,IFERROR(INDEX('EB-Monate'!$H$4:$H$1203, A50*12),0))","v":0},{"$f":"IF(A50>EB_Zeitr,NA(),IF(Endbetrag!$D$4=0,0,B50/Endbetrag!$D$4))","v":{"$error":"#N/A"}},{"$f":"IF(A50>EB_Zeitr,0,12*Endbetrag!$D$5*(1+Endbetrag!$D$6)^(A50-1))","v":0},0]
[46,{"$f":"IF(A51>EB_Zeitr,0,IFERROR(INDEX('EB-Monate'!$H$4:$H$1203, A51*12),0))","v":0},{"$f":"IF(A51>EB_Zeitr,NA(),IF(Endbetrag!$D$4=0,0,B51/Endbetrag!$D$4))","v":{"$error":"#N/A"}},{"$f":"IF(A51>EB_Zeitr,0,12*Endbetrag!$D$5*(1+Endbetrag!$D$6)^(A51-1))","v":0},0]
[47,{"$f":"IF(A52>EB_Zeitr,0,IFERROR(INDEX('EB-Monate'!$H$4:$H$1203, A52*12),0))","v":0},{"$f":"IF(A52>EB_Zeitr,NA(),IF(Endbetrag!$D$4=0,0,B52/Endbetrag!$D$4))","v":{"$error":"#N/A"}},{"$f":"IF(A52>EB_Zeitr,0,12*Endbetrag!$D$5*(1+Endbetrag!$D$6)^(A52-1))","v":0},0]
[48,{"$f":"IF(A53>EB_Zeitr,0,IFERROR(INDEX('EB-Monate'!$H$4:$H$1203, A53*12),0))","v":0},{"$f":"IF(A53>EB_Zeitr,NA(),IF(Endbetrag!$D$4=0,0,B53/Endbetrag!$D$4))","v":{"$error":"#N/A"}},{"$f":"IF(A53>EB_Zeitr,0,12*Endbetrag!$D$5*(1+Endbetrag!$D$6)^(A53-1))","v":0},0]
[49,{"$f":"IF(A54>EB_Zeitr,0,IFERROR(INDEX('EB-Monate'!$H$4:$H$1203, A54*12),0))","v":0},{"$f":"IF(A54>EB_Zeitr,NA(),IF(Endbetrag!$D$4=0,0,B54/Endbetrag!$D$4))","v":{"$error":"#N/A"}},{"$f":"IF(A54>EB_Zeitr,0,12*Endbetrag!$D$5*(1+Endbetrag!$D$6)^(A54-1))","v":0},0]
[50,{"$f":"IF(A55>EB_Zeitr,0,IFERROR(INDEX('EB-Monate'!$H$4:$H$1203, A55*12),0))","v":0},{"$f":"IF(A55>EB_Zeitr,NA(),IF(Endbetrag!$D$4=0,0,B55/Endbetrag!$D$4))","v":{"$error":"#N/A"}},{"$f":"IF(A55>EB_Zeitr,0,12*Endbetrag!$D$5*(1+Endbetrag!$D$6)^(A55-1))","v":0},0]
[51,{"$f":"IF(A56>EB_Zeitr,0,IFERROR(INDEX('EB-Monate'!$H$4:$H$1203, A56*12),0))","v":0},{"$f":"IF(A56>EB_Zeitr,NA(),IF(Endbetrag!$D$4=0,0,B56/Endbetrag!$D$4))","v":{"$error":"#N/A"}},{"$f":"IF(A56>EB_Zeitr,0,12*Endbetrag!$D$5*(1+Endbetrag!$D$6)^(A56-1))","v":0},0]
[52,{"$f":"IF(A57>EB_Zeitr,0,IFERROR(INDEX('EB-Monate'!$H$4:$H$1203, A57*12),0))","v":0},{"$f":"IF(A57>EB_Zeitr,NA(),IF(Endbetrag!$D$4=0,0,B57/Endbetrag!$D$4))","v":{"$error":"#N/A"}},{"$f":"IF(A57>EB_Zeitr,0,12*Endbetrag!$D$5*(1+Endbetrag!$D$6)^(A57-1))","v":0},0]
[53,{"$f":"IF(A58>EB_Zeitr,0,IFERROR(INDEX('EB-Monate'!$H$4:$H$1203, A58*12),0))","v":0},{"$f":"IF(A58>EB_Zeitr,NA(),IF(Endbetrag!$D$4=0,0,B58/Endbetrag!$D$4))","v":{"$error":"#N/A"}},{"$f":"IF(A58>EB_Zeitr,0,12*Endbetrag!$D$5*(1+Endbetrag!$D$6)^(A58-1))","v":0},0]
[54,{"$f":"IF(A59>EB_Zeitr,0,IFERROR(INDEX('EB-Monate'!$H$4:$H$1203, A59*12),0))","v":0},{"$f":"IF(A59>EB_Zeitr,NA(),IF(Endbetrag!$D$4=0,0,B59/Endbetrag!$D$4))","v":{"$error":"#N/A"}},{"$f":"IF(A59>EB_Zeitr,0,12*Endbetrag!$D$5*(1+Endbetrag!$D$6)^(A59-1))","v":0},0]
[55,{"$f":"IF(A60>EB_Zeitr,0,IFERROR(INDEX('EB-Monate'!$H$4:$H$1203, A60*12),0))","v":0},{"$f":"IF(A60>EB_Zeitr,NA(),IF(Endbetrag!$D$4=0,0,B60/Endbetrag!$D$4))","v":{"$error":"#N/A"}},{"$f":"IF(A60>EB_Zeitr,0,12*Endbetrag!$D$5*(1+Endbetrag!$D$6)^(A60-1))","v":0},0]
[56,{"$f":"IF(A61>EB_Zeitr,0,IFERROR(INDEX('EB-Monate'!$H$4:$H$1203, A61*12),0))","v":0},{"$f":"IF(A61>EB_Zeitr,NA(),IF(Endbetrag!$D$4=0,0,B61/Endbetrag!$D$4))","v":{"$error":"#N/A"}},{"$f":"IF(A61>EB_Zeitr,0,12*Endbetrag!$D$5*(1+Endbetrag!$D$6)^(A61-1))","v":0},0]
[57,{"$f":"IF(A62>EB_Zeitr,0,IFERROR(INDEX('EB-Monate'!$H$4:$H$1203, A62*12),0))","v":0},{"$f":"IF(A62>EB_Zeitr,NA(),IF(Endbetrag!$D$4=0,0,B62/Endbetrag!$D$4))","v":{"$error":"#N/A"}},{"$f":"IF(A62>EB_Zeitr,0,12*Endbetrag!$D$5*(1+Endbetrag!$D$6)^(A62-1))","v":0},0]
[58,{"$f":"IF(A63>EB_Zeitr,0,IFERROR(INDEX('EB-Monate'!$H$4:$H$1203, A63*12),0))","v":0},{"$f":"IF(A63>EB_Zeitr,NA(),IF(Endbetrag!$D$4=0,0,B63/Endbetrag!$D$4))","v":{"$error":"#N/A"}},{"$f":"IF(A63>EB_Zeitr,0,12*Endbetrag!$D$5*(1+Endbetrag!$D$6)^(A63-1))","v":0},0]
[59,{"$f":"IF(A64>EB_Zeitr,0,IFERROR(INDEX('EB-Monate'!$H$4:$H$1203, A64*12),0))","v":0},{"$f":"IF(A64>EB_Zeitr,NA(),IF(Endbetrag!$D$4=0,0,B64/Endbetrag!$D$4))","v":{"$error":"#N/A"}},{"$f":"IF(A64>EB_Zeitr,0,12*Endbetrag!$D$5*(1+Endbetrag!$D$6)^(A64-1))","v":0},0]
[60,{"$f":"IF(A65>EB_Zeitr,0,IFERROR(INDEX('EB-Monate'!$H$4:$H$1203, A65*12),0))","v":0},{"$f":"IF(A65>EB_Zeitr,NA(),IF(Endbetrag!$D$4=0,0,B65/Endbetrag!$D$4))","v":{"$error":"#N/A"}},{"$f":"IF(A65>EB_Zeitr,0,12*Endbetrag!$D$5*(1+Endbetrag!$D$6)^(A65-1))","v":0},0]
[61,{"$f":"IF(A66>EB_Zeitr,0,IFERROR(INDEX('EB-Monate'!$H$4:$H$1203, A66*12),0))","v":0},{"$f":"IF(A66>EB_Zeitr,NA(),IF(Endbetrag!$D$4=0,0,B66/Endbetrag!$D$4))","v":{"$error":"#N/A"}},{"$f":"IF(A66>EB_Zeitr,0,12*Endbetrag!$D$5*(1+Endbetrag!$D$6)^(A66-1))","v":0},0]
[62,{"$f":"IF(A67>EB_Zeitr,0,IFERROR(INDEX('EB-Monate'!$H$4:$H$1203, A67*12),0))","v":0},{"$f":"IF(A67>EB_Zeitr,NA(),IF(Endbetrag!$D$4=0,0,B67/Endbetrag!$D$4))","v":{"$error":"#N/A"}},{"$f":"IF(A67>EB_Zeitr,0,12*Endbetrag!$D$5*(1+Endbetrag!$D$6)^(A67-1))","v":0},0]
[63,{"$f":"IF(A68>EB_Zeitr,0,IFERROR(INDEX('EB-Monate'!$H$4:$H$1203, A68*12),0))","v":0},{"$f":"IF(A68>EB_Zeitr,NA(),IF(Endbetrag!$D$4=0,0,B68/Endbetrag!$D$4))","v":{"$error":"#N/A"}},{"$f":"IF(A68>EB_Zeitr,0,12*Endbetrag!$D$5*(1+Endbetrag!$D$6)^(A68-1))","v":0},0]
[64,{"$f":"IF(A69>EB_Zeitr,0,IFERROR(INDEX('EB-Monate'!$H$4:$H$1203, A69*12),0))","v":0},{"$f":"IF(A69>EB_Zeitr,NA(),IF(Endbetrag!$D$4=0,0,B69/Endbetrag!$D$4))","v":{"$error":"#N/A"}},{"$f":"IF(A69>EB_Zeitr,0,12*Endbetrag!$D$5*(1+Endbetrag!$D$6)^(A69-1))","v":0},0]
[65,{"$f":"IF(A70>EB_Zeitr,0,IFERROR(INDEX('EB-Monate'!$H$4:$H$1203, A70*12),0))","v":0},{"$f":"IF(A70>EB_Zeitr,NA(),IF(Endbetrag!$D$4=0,0,B70/Endbetrag!$D$4))","v":{"$error":"#N/A"}},{"$f":"IF(A70>EB_Zeitr,0,12*Endbetrag!$D$5*(1+Endbetrag!$D$6)^(A70-1))","v":0},{"$f":"IF(A70=1,$B$5,IF(A70=EB_Zeitr,B70,0))","v":0}]
[66,{"$f":"IF(A71>EB_Zeitr,0,IFERROR(INDEX('EB-Monate'!$H$4:$H$1203, A71*12),0))","v":0},{"$f":"IF(A71>EB_Zeitr,NA(),IF(Endbetrag!$D$4=0,0,B71/Endbetrag!$D$4))","v":{"$error":"#N/A"}},{"$f":"IF(A71>EB_Zeitr,0,12*Endbetrag!$D$5*(1+Endbetrag!$D$6)^(A71-1))","v":0},0]
[67,{"$f":"IF(A72>EB_Zeitr,0,IFERROR(INDEX('EB-Monate'!$H$4:$H$1203, A72*12),0))","v":0},{"$f":"IF(A72>EB_Zeitr,NA(),IF(Endbetrag!$D$4=0,0,B72/Endbetrag!$D$4))","v":{"$error":"#N/A"}},{"$f":"IF(A72>EB_Zeitr,0,12*Endbetrag!$D$5*(1+Endbetrag!$D$6)^(A72-1))","v":0},0]
[68,{"$f":"IF(A73>EB_Zeitr,0,IFERROR(INDEX('EB-Monate'!$H$4:$H$1203, A73*12),0))","v":0},{"$f":"IF(A73>EB_Zeitr,NA(),IF(Endbetrag!$D$4=0,0,B73/Endbetrag!$D$4))","v":{"$error":"#N/A"}},{"$f":"IF(A73>EB_Zeitr,0,12*Endbetrag!$D$5*(1+Endbetrag!$D$6)^(A73-1))","v":0},0]
[69,{"$f":"IF(A74>EB_Zeitr,0,IFERROR(INDEX('EB-Monate'!$H$4:$H$1203, A74*12),0))","v":0},{"$f":"IF(A74>EB_Zeitr,NA(),IF(Endbetrag!$D$4=0,0,B74/Endbetrag!$D$4))","v":{"$error":"#N/A"}},{"$f":"IF(A74>EB_Zeitr,0,12*Endbetrag!$D$5*(1+Endbetrag!$D$6)^(A74-1))","v":0},0]
[70,{"$f":"IF(A75>EB_Zeitr,0,IFERROR(INDEX('EB-Monate'!$H$4:$H$1203, A75*12),0))","v":0},{"$f":"IF(A75>EB_Zeitr,NA(),IF(Endbetrag!$D$4=0,0,B75/Endbetrag!$D$4))","v":{"$error":"#N/A"}},{"$f":"IF(A75>EB_Zeitr,0,12*Endbetrag!$D$5*(1+Endbetrag!$D$6)^(A75-1))","v":0},0]
[71,{"$f":"IF(A76>EB_Zeitr,0,IFERROR(INDEX('EB-Monate'!$H$4:$H$1203, A76*12),0))","v":0},{"$f":"IF(A76>EB_Zeitr,NA(),IF(Endbetrag!$D$4=0,0,B76/Endbetrag!$D$4))","v":{"$error":"#N/A"}},{"$f":"IF(A76>EB_Zeitr,0,12*Endbetrag!$D$5*(1+Endbetrag!$D$6)^(A76-1))","v":0},0]
[72,{"$f":"IF(A77>EB_Zeitr,0,IFERROR(INDEX('EB-Monate'!$H$4:$H$1203, A77*12),0))","v":0},{"$f":"IF(A77>EB_Zeitr,NA(),IF(Endbetrag!$D$4=0,0,B77/Endbetrag!$D$4))","v":{"$error":"#N/A"}},{"$f":"IF(A77>EB_Zeitr,0,12*Endbetrag!$D$5*(1+Endbetrag!$D$6)^(A77-1))","v":0},0]
[73,{"$f":"IF(A78>EB_Zeitr,0,IFERROR(INDEX('EB-Monate'!$H$4:$H$1203, A78*12),0))","v":0},{"$f":"IF(A78>EB_Zeitr,NA(),IF(Endbetrag!$D$4=0,0,B78/Endbetrag!$D$4))","v":{"$error":"#N/A"}},{"$f":"IF(A78>EB_Zeitr,0,12*Endbetrag!$D$5*(1+Endbetrag!$D$6)^(A78-1))","v":0},0]
[74,{"$f":"IF(A79>EB_Zeitr,0,IFERROR(INDEX('EB-Monate'!$H$4:$H$1203, A79*12),0))","v":0},{"$f":"IF(A79>EB_Zeitr,NA(),IF(Endbetrag!$D$4=0,0,B79/Endbetrag!$D$4))","v":{"$error":"#N/A"}},{"$f":"IF(A79>EB_Zeitr,0,12*Endbetrag!$D$5*(1+Endbetrag!$D$6)^(A79-1))","v":0},0]
[75,{"$f":"IF(A80>EB_Zeitr,0,IFERROR(INDEX('EB-Monate'!$H$4:$H$1203, A80*12),0))","v":0},{"$f":"IF(A80>EB_Zeitr,NA(),IF(Endbetrag!$D$4=0,0,B80/Endbetrag!$D$4))","v":{"$error":"#N/A"}},{"$f":"IF(A80>EB_Zeitr,0,12*Endbetrag!$D$5*(1+Endbetrag!$D$6)^(A80-1))","v":0},0]
[76,{"$f":"IF(A81>EB_Zeitr,0,IFERROR(INDEX('EB-Monate'!$H$4:$H$1203, A81*12),0))","v":0},{"$f":"IF(A81>EB_Zeitr,NA(),IF(Endbetrag!$D$4=0,0,B81/Endbetrag!$D$4))","v":{"$error":"#N/A"}},{"$f":"IF(A81>EB_Zeitr,0,12*Endbetrag!$D$5*(1+Endbetrag!$D$6)^(A81-1))","v":0},0]
[77,{"$f":"IF(A82>EB_Zeitr,0,IFERROR(INDEX('EB-Monate'!$H$4:$H$1203, A82*12),0))","v":0},{"$f":"IF(A82>EB_Zeitr,NA(),IF(Endbetrag!$D$4=0,0,B82/Endbetrag!$D$4))","v":{"$error":"#N/A"}},{"$f":"IF(A82>EB_Zeitr,0,12*Endbetrag!$D$5*(1+Endbetrag!$D$6)^(A82-1))","v":0},0]
[78,{"$f":"IF(A83>EB_Zeitr,0,IFERROR(INDEX('EB-Monate'!$H$4:$H$1203, A83*12),0))","v":0},{"$f":"IF(A83>EB_Zeitr,NA(),IF(Endbetrag!$D$4=0,0,B83/Endbetrag!$D$4))","v":{"$error":"#N/A"}},{"$f":"IF(A83>EB_Zeitr,0,12*Endbetrag!$D$5*(1+Endbetrag!$D$6)^(A83-1))","v":0},0]
[79,{"$f":"IF(A84>EB_Zeitr,0,IFERROR(INDEX('EB-Monate'!$H$4:$H$1203, A84*12),0))","v":0},{"$f":"IF(A84>EB_Zeitr,NA(),IF(Endbetrag!$D$4=0,0,B84/Endbetrag!$D$4))","v":{"$error":"#N/A"}},{"$f":"IF(A84>EB_Zeitr,0,12*Endbetrag!$D$5*(1+Endbetrag!$D$6)^(A84-1))","v":0},0]
[80,{"$f":"IF(A85>EB_Zeitr,0,IFERROR(INDEX('EB-Monate'!$H$4:$H$1203, A85*12),0))","v":0},{"$f":"IF(A85>EB_Zeitr,NA(),IF(Endbetrag!$D$4=0,0,B85/Endbetrag!$D$4))","v":{"$error":"#N/A"}},{"$f":"IF(A85>EB_Zeitr,0,12*Endbetrag!$D$5*(1+Endbetrag!$D$6)^(A85-1))","v":0},0]
[81,{"$f":"IF(A86>EB_Zeitr,0,IFERROR(INDEX('EB-Monate'!$H$4:$H$1203, A86*12),0))","v":0},{"$f":"IF(A86>EB_Zeitr,NA(),IF(Endbetrag!$D$4=0,0,B86/Endbetrag!$D$4))","v":{"$error":"#N/A"}},{"$f":"IF(A86>EB_Zeitr,0,12*Endbetrag!$D$5*(1+Endbetrag!$D$6)^(A86-1))","v":0},0]
[82,{"$f":"IF(A87>EB_Zeitr,0,IFERROR(INDEX('EB-Monate'!$H$4:$H$1203, A87*12),0))","v":0},{"$f":"IF(A87>EB_Zeitr,NA(),IF(Endbetrag!$D$4=0,0,B87/Endbetrag!$D$4))","v":{"$error":"#N/A"}},{"$f":"IF(A87>EB_Zeitr,0,12*Endbetrag!$D$5*(1+Endbetrag!$D$6)^(A87-1))","v":0},0]
[83,{"$f":"IF(A88>EB_Zeitr,0,IFERROR(INDEX('EB-Monate'!$H$4:$H$1203, A88*12),0))","v":0},{"$f":"IF(A88>EB_Zeitr,NA(),IF(Endbetrag!$D$4=0,0,B88/Endbetrag!$D$4))","v":{"$error":"#N/A"}},{"$f":"IF(A88>EB_Zeitr,0,12*Endbetrag!$D$5*(1+Endbetrag!$D$6)^(A88-1))","v":0},0]
[84,{"$f":"IF(A89>EB_Zeitr,0,IFERROR(INDEX('EB-Monate'!$H$4:$H$1203, A89*12),0))","v":0},{"$f":"IF(A89>EB_Zeitr,NA(),IF(Endbetrag!$D$4=0,0,B89/Endbetrag!$D$4))","v":{"$error":"#N/A"}},{"$f":"IF(A89>EB_Zeitr,0,12*Endbetrag!$D$5*(1+Endbetrag!$D$6)^(A89-1))","v":0},0]
[85,{"$f":"IF(A90>EB_Zeitr,0,IFERROR(INDEX('EB-Monate'!$H$4:$H$1203, A90*12),0))","v":0},{"$f":"IF(A90>EB_Zeitr,NA(),IF(Endbetrag!$D$4=0,0,B90/Endbetrag!$D$4))","v":{"$error":"#N/A"}},{"$f":"IF(A90>EB_Zeitr,0,12*Endbetrag!$D$5*(1+Endbetrag!$D$6)^(A90-1))","v":0},0]
[86,{"$f":"IF(A91>EB_Zeitr,0,IFERROR(INDEX('EB-Monate'!$H$4:$H$1203, A91*12),0))","v":0},{"$f":"IF(A91>EB_Zeitr,NA(),IF(Endbetrag!$D$4=0,0,B91/Endbetrag!$D$4))","v":{"$error":"#N/A"}},{"$f":"IF(A91>EB_Zeitr,0,12*Endbetrag!$D$5*(1+Endbetrag!$D$6)^(A91-1))","v":0},0]
[87,{"$f":"IF(A92>EB_Zeitr,0,IFERROR(INDEX('EB-Monate'!$H$4:$H$1203, A92*12),0))","v":0},{"$f":"IF(A92>EB_Zeitr,NA(),IF(Endbetrag!$D$4=0,0,B92/Endbetrag!$D$4))","v":{"$error":"#N/A"}},{"$f":"IF(A92>EB_Zeitr,0,12*Endbetrag!$D$5*(1+Endbetrag!$D$6)^(A92-1))","v":0},0]
[88,{"$f":"IF(A93>EB_Zeitr,0,IFERROR(INDEX('EB-Monate'!$H$4:$H$1203, A93*12),0))","v":0},{"$f":"IF(A93>EB_Zeitr,NA(),IF(Endbetrag!$D$4=0,0,B93/Endbetrag!$D$4))","v":{"$error":"#N/A"}},{"$f":"IF(A93>EB_Zeitr,0,12*Endbetrag!$D$5*(1+Endbetrag!$D$6)^(A93-1))","v":0},0]
[89,{"$f":"IF(A94>EB_Zeitr,0,IFERROR(INDEX('EB-Monate'!$H$4:$H$1203, A94*12),0))","v":0},{"$f":"IF(A94>EB_Zeitr,NA(),IF(Endbetrag!$D$4=0,0,B94/Endbetrag!$D$4))","v":{"$error":"#N/A"}},{"$f":"IF(A94>EB_Zeitr,0,12*Endbetrag!$D$5*(1+Endbetrag!$D$6)^(A94-1))","v":0},0]
[90,{"$f":"IF(A95>EB_Zeitr,0,IFERROR(INDEX('EB-Monate'!$H$4:$H$1203, A95*12),0))","v":0},{"$f":"IF(A95>EB_Zeitr,NA(),IF(Endbetrag!$D$4=0,0,B95/Endbetrag!$D$4))","v":{"$error":"#N/A"}},{"$f":"IF(A95>EB_Zeitr,0,12*Endbetrag!$D$5*(1+Endbetrag!$D$6)^(A95-1))","v":0},0]
[91,{"$f":"IF(A96>EB_Zeitr,0,IFERROR(INDEX('EB-Monate'!$H$4:$H$1203, A96*12),0))","v":0},{"$f":"IF(A96>EB_Zeitr,NA(),IF(Endbetrag!$D$4=0,0,B96/Endbetrag!$D$4))","v":{"$error":"#N/A"}},{"$f":"IF(A96>EB_Zeitr,0,12*Endbetrag!$D$5*(1+Endbetrag!$D$6)^(A96-1))","v":0},0]
[92,{"$f":"IF(A97>EB_Zeitr,0,IFERROR(INDEX('EB-Monate'!$H$4:$H$1203, A97*12),0))","v":0},{"$f":"IF(A97>EB_Zeitr,NA(),IF(Endbetrag!$D$4=0,0,B97/Endbetrag!$D$4))","v":{"$error":"#N/A"}},{"$f":"IF(A97>EB_Zeitr,0,12*Endbetrag!$D$5*(1+Endbetrag!$D$6)^(A97-1))","v":0},0]
[93,{"$f":"IF(A98>EB_Zeitr,0,IFERROR(INDEX('EB-Monate'!$H$4:$H$1203, A98*12),0))","v":0},{"$f":"IF(A98>EB_Zeitr,NA(),IF(Endbetrag!$D$4=0,0,B98/Endbetrag!$D$4))","v":{"$error":"#N/A"}},{"$f":"IF(A98>EB_Zeitr,0,12*Endbetrag!$D$5*(1+Endbetrag!$D$6)^(A98-1))","v":0},0]
[94,{"$f":"IF(A99>EB_Zeitr,0,IFERROR(INDEX('EB-Monate'!$H$4:$H$1203, A99*12),0))","v":0},{"$f":"IF(A99>EB_Zeitr,NA(),IF(Endbetrag!$D$4=0,0,B99/Endbetrag!$D$4))","v":{"$error":"#N/A"}},{"$f":"IF(A99>EB_Zeitr,0,12*Endbetrag!$D$5*(1+Endbetrag!$D$6)^(A99-1))","v":0},0]
[95,{"$f":"IF(A100>EB_Zeitr,0,IFERROR(INDEX('EB-Monate'!$H$4:$H$1203, A100*12),0))","v":0},{"$f":"IF(A100>EB_Zeitr,NA(),IF(Endbetrag!$D$4=0,0,B100/Endbetrag!$D$4))","v":{"$error":"#N/A"}},{"$f":"IF(A100>EB_Zeitr,0,12*Endbetrag!$D$5*(1+Endbetrag!$D$6)^(A100-1))","v":0},0]
[96,{"$f":"IF(A101>EB_Zeitr,0,IFERROR(INDEX('EB-Monate'!$H$4:$H$1203, A101*12),0))","v":0},{"$f":"IF(A101>EB_Zeitr,NA(),IF(Endbetrag!$D$4=0,0,B101/Endbetrag!$D$4))","v":{"$error":"#N/A"}},{"$f":"IF(A101>EB_Zeitr,0,12*Endbetrag!$D$5*(1+Endbetrag!$D$6)^(A101-1))","v":0},0]
[97,{"$f":"IF(A102>EB_Zeitr,0,IFERROR(INDEX('EB-Monate'!$H$4:$H$1203, A102*12),0))","v":0},{"$f":"IF(A102>EB_Zeitr,NA(),IF(Endbetrag!$D$4=0,0,B102/Endbetrag!$D$4))","v":{"$error":"#N/A"}},{"$f":"IF(A102>EB_Zeitr,0,12*Endbetrag!$D$5*(1+Endbetrag!$D$6)^(A102-1))","v":0},0]
[98,{"$f":"IF(A103>EB_Zeitr,0,IFERROR(INDEX('EB-Monate'!$H$4:$H$1203, A103*12),0))","v":0},{"$f":"IF(A103>EB_Zeitr,NA(),IF(Endbetrag!$D$4=0,0,B103/Endbetrag!$D$4))","v":{"$error":"#N/A"}},{"$f":"IF(A103>EB_Zeitr,0,12*Endbetrag!$D$5*(1+Endbetrag!$D$6)^(A103-1))","v":0},0]
[99,{"$f":"IF(A104>EB_Zeitr,0,IFERROR(INDEX('EB-Monate'!$H$4:$H$1203, A104*12),0))","v":0},{"$f":"IF(A104>EB_Zeitr,NA(),IF(Endbetrag!$D$4=0,0,B104/Endbetrag!$D$4))","v":{"$error":"#N/A"}},{"$f":"IF(A104>EB_Zeitr,0,12*Endbetrag!$D$5*(1+Endbetrag!$D$6)^(A104-1))","v":0},0]
[100,{"$f":"IF(A105>EB_Zeitr,0,IFERROR(INDEX('EB-Monate'!$H$4:$H$1203, A105*12),0))","v":0},{"$f":"IF(A105>EB_Zeitr,NA(),IF(Endbetrag!$D$4=0,0,B105/Endbetrag!$D$4))","v":{"$error":"#N/A"}},{"$f":"IF(A105>EB_Zeitr,0,12*Endbetrag!$D$5*(1+Endbetrag!$D$6)^(A105-1))","v":0},0]

{"sheet":"Finanz- & Vermögensplang","index":7,"n_rows":20,"n_cols":2,"rows_kept":20,"cut":false,"hidden":false,"merged":[]}
["4ed294Df7db6e2e517029c2F3f0c3bA3"]
[]
[]
[]
[]
[]
[null,"Private Finanz- & Vermögensplanung"]
[]
[null,"Planung und Analyse"]
[null,"aller privaten u. betrieblichen"]
[null,"Einkommens-, Steuer-, Liquiditäts- "]
[null,"und Vermögensbereiche"]
[]
[]
[]
[]
[]
[]
[]
[null,"Mehr Informationen auf unserer Webseite !"]

{"sheet":"ETF Rechner","index":8,"n_rows":20,"n_cols":2,"rows_kept":20,"cut":false,"hidden":false,"merged":[]}
["4ed294Df7db6e2e517029c2F3f0c3bA3"]
[]
[]
[]
[]
[]
[null,"ETF Steuer- & Sparplanrechner"]
[]
[null,"Für ausschüttenden u. thesaurierenden"]
[null,"ETFs unter Berücksichtigung"]
[null,"Investmentsteuergesetz (InvStG)"]
[]
[]
[]
[]
[]
[]
[]
[]
[null,"Mehr Informationen auf unserer Webseite !"]

{"sheet":"Formate","index":9,"n_rows":105,"n_cols":12,"rows_kept":105,"cut":false,"hidden":true,"merged":[]}
[null,"Formatierungen, Konstanten & Symbole"]
[]
[null,"Individuelle Zellformatierungen",null,null,null,"Zum Inhaltsverzeichnis"]
[null,"Tabellen_Ueb",null,"Tabellen Überschrift"]
[null,null,null,null,null,"wg. Kopie Gültigkeit:"]
[null,"Annahme",null,100,null,20," nur positive Werte zulässig",null,null,"Farbwert (R:G:B)"]
[null,"Referenz_InSheet",null,100,null,-20," nur negative Werte zulässig",null,null,"255:255:230"]
[null,"Referenz_OffSheet",null,100]
[null,"Bezeichnung_Eingabe",null,"Bezeichnung"]
[null,"Technische_Eingabe",null,100]
[null,"Leere_Zelle"]
[null,"Externer_Link",null,100]
[null,"Flag (Standard)",null,1]
[null,null,null,1," mit bedingter Formatierung => Kopie erforderlich"]
[null,null,null,1," mit bedingter Formatierung => Kopie erforderlich"]
[null,null,null,1," mit bedingter Formatierung => Kopie erforderlich"]
[null,null,null,1," mit bedingter Formatierung => Kopie erforderlich"]
[]
[null,"Kontrollen, Schalter & Sonstiges"]
[null,"Hyperlink-Text",null,"Hyperlink"]
[]
[null,"Kontr_DEU",null,0," mit bedingter Formatierung => Kopie erforderlich"]
[null,"Kontr_ENG",null,1," mit bedingter Formatierung => Kopie erforderlich"]
[]
[null,"Hinw_DEU",null,0," mit bedingter Formatierung => Kopie erforderlich"]
[null,"Hinw_ENG",null,1," mit bedingter Formatierung => Kopie erforderlich"]
[]
[null,"Schalter_DEU",null,1," mit bedingter Formatierung => Kopie erforderlich"]
[null,"Schalter_ENG",null,1," mit bedingter Formatierung => Kopie erforderlich"]
[]
[null,null,null,"Aktiv"]
[null,"Schalter_JA-NEIN  (keine Zellformatvorlage)",null,1,"1=Ja , 0=Nein"," mit Datenüberprüfung/Gültigkeit => Kopie erforderlich"]
[null,"Schalter_YES-NO  (keine Zellformatvorlage)",null,1,"1=Yes , 0=No"," mit Datenüberprüfung/Gültigkeit => Kopie erforderlich"]
[]
[null,"Schalter aktiv/inaktiv  (keine Zellformatvorlage)",null,1," mit bedingter Formatierung => Kopie erforderlich"]
[]
[null,"Status_In_Arbeit",null,"In Arbeit"]
[null,"Status_In_Ordnung",null,"In Ordnung"]
[null,"Status_Pruefen",null,"Prüfen"]
[null,"Kommentar",null,"Kommentarfeld"]
[]
[null,"Quotient",null,1]
[null,"Datum",null,"2020-01-01",null," i.d.R. anschließend mit weiterer Zellformatvorlage wie Annahme, InSheet, OffSheet etc."]
[]
[null,null,null,"Positiv","Null","Negativ"]
[null,"Zahl_Standard (Basisformatierung)",null,1500,0,-1500,null," i.d.R. anschließend mit weiterer Zellformatvorlage wie Annahme, InSheet, OffSheet etc."]
[null,"Zahl_Prozent (Basisformatierung)",null,0.25,0,-0.25,null," i.d.R. anschließend mit weiterer Zellformatvorlage wie Annahme, InSheet, OffSheet etc."]
[]
[null,"Zellformatvorlagen"]
[null,"Zeilen Formatierungen",null,null,null,null,null,"Blattüberschriften"]
[]
[null,"Einheit",null,"EUR",null,null,null,"Blatt_1",null,"Blattüberschrift 1"]
[null,null,null,null,null,null,null,"Blatt_2",null,"Blattüberschrift 2"]
[null,"Zeile_Spalten-Summe",null,100,null,null,null,"Blatt_3",null,"Blattüberschrift 3"]
[]
[null,"Zeile_Abgrenzung",null,100]
[]
[null,"Zeile_Zwischensumme",null,100,null,null,null,"Abschnittsüberschriften / Gliederung"]
[]
[null,"Zeile_Summe",null,100,null,null,null,"Ueb1",null,"Überschrift 1"]
[]
[null,"Zeile_Schlussbilanz",null,100,null,null,null,"Ueb2",null,"Überschrift 2"]
[null,null,null,null,null,null,null,"Ueb3",null,"Überschrift 3"]
[null,null,null,null,null,null,null,"Ueb4",null,"Überschrift 4"]
[]
[null,"Konstanten, Symbole & Auswahltabellen"]
[null,"Konstanten",null,null,"Name",null,null,"Auswahltabellen"]
[null,"Tage im Jahr",null,365,"Tage_Jahr",null,null,null,null,"Monate","Schalter","Name"]
[null,"Monate pro Jahr",null,12,"Monate_Jahr",null,null,null,null,"Jan",1,"Monate"]
[null,"Quartale pro Jahr",null,4,"Quartale_Jahr",null,null,null,null,"Feb",2]
[null,"Monate pro Quartal",null,3,"Monate_Quartal",null,null,null,null,"Mrz",3]
[null,null,null,null,null,null,null,null,null,"Apr",4]
[null,"Rundungstoleranz",null,1.0000000000000001E-5,"Rund_Tol",null,null,null,null,"Mai",5]
[null,"Tausend",null,1000,"Tausend",null,null,null,null,"Jun",6]
[null,"Million",null,1000000,"Million",null,null,null,null,"Jul",7]
[null,"Milliarde",null,1000000000,"Milliarde",null,null,null,null,"Aug",8]
[null,"Ganz kleine Zahl",null,9.9999999999999995E-8,"GanzkleineZahl",null,null,null,null,"Sep",9]
[null,null,null,null,null,null,null,null,null,"Okt",10]
[null,null,null,null,null,null,null,null,null,"Nov",11]
[null,null,null,null,null,null,null,null,null,"Dez",12]
[null,"Symbole"]
[null,"Pfeil nach unten aktiviert",null,"▼","Pf_unt_ja",null,null,null,null,"Periodizität","Schalter","Name"]
[null,"Pfeil nach unten nicht aktiviert",null,"×","Pf_unt_nein",null,null,null,null,"monatlich",1,"Periodizität"]
[null,"Pfeil nach links",null,"◄","Pf_li",null,null,null,null,"quartalsweise",3]
[null,"Pfeil nach rechts",null,"►","Pf_re",null,null,null,null,"halbjährlich",6]
[null,"Pfeile horizontal aktiviert",null,"tu","Pf_hor_ja",null,null,null,null,"jährlich",12]
[null,"Pfeile horizontal nicht aktiviert",null,"vw","Pf_hor_nein"]
[null,null,null,null,null,null,null,null,null,"Status","Schalter","Name"]
[null,null,null,1,null,null,null,null,null,"Aus",0,"status"]
[null,"  Bsp. Pfeil nach unten (aktiviert, falls Zelle darüber =1)",null,{"$f":"IF(D89=1,Pf_unt_ja,Pf_unt_nein)","v":"▼"},"mit bedingter Formatierung => Kopie erforderlich",null,null,null,null,"An",1]
[null,"     (aktiviert, falls Zelle darüber =1)"]
[]
[null,"Rückzahlungsmethoden",null,null,"Name",null,null,null,null,"Darlehensart","Name"]
[null,null,null,"Annuität (kompl.)","Rückzahlungsmethode",null,null,null,null,"Personaldarlehen","Darl_Art"]
[null,null,null,"Annuität (%-Satz)",null,null,null,null,null,"Gesichertes Personaldarlehen"]
[null,null,null,"Tilgungsdarlehen (%-Satz)",null,null,null,null,null,"Realdarlehen"]
[null,null,null,"Tilgungsdarlehen (kompl.)"]
[null,null,null,"Endfällig"]
[]
[]
[null,null,null,null,null,null,"Nr.","Degr. AfA-Variante"]
[null,null,null,null,null,null,1,"Degressive AfA (§ 7 Abs. 5a EStG) mit Wechsel zu linearer AfA mit Sonderabschreibung"]
[null,null,null,null,null,null,2,"Degressive AfA (§ 7 Abs. 5a EStG) ohne Wechsel zu linearer AfA mit Sonderabschreibung"]
[null,null,null,null,null,null,3,"Degressive AfA (§ 7 Abs. 5a EStG) mit Wechsel zu linearer AfA ohne Sonderabschreibung"]
[null,null,null,null,null,null,4,"Degressive AfA (§ 7 Abs. 5a EStG) ohne Wechsel zu linearer AfA ohne Sonderabschreibung"]